BEGIN:VCALENDAR
PRODID:-//Microsoft Corporation//Outlook 11.0 MIMEDIR//EN
VERSION:2.0
METHOD:PUBLISH
BEGIN:VEVENT
DTSTART:2016-07-12T01:00:00Z
DTEND:2016-07-12T03:30:00Z
LOCATION:HV1: Hidden Valley, Field 1
CATEGORIES:Softball,Triple Play,BB/SAA
UID:D7D788485DA2468BAEB5C7A03FA5B:
DTSTAMP:2026-04-21T07:17:41Z:
SUMMARY:Fireballers at Triple Play
DESCRIPTION;ENCODING=QUOTED-PRINTABLE:Fireballers at Triple Play=0D=0A Time: 6:00 PM=0D=0A Location: Hidden Valley, Field 1
CLASS:PUBLIC
PRIORITY:5
BEGIN:VALARM
TRIGGER:-PT180M
ACTION:DISPLAY
DESCRIPTION:Reminder
END:VALARM
END:VEVENT
BEGIN:VEVENT
DTSTART:2016-07-19T01:00:00Z
DTEND:2016-07-19T03:30:00Z
LOCATION:MM6: Marymoor, Field 6
CATEGORIES:Softball,Triple Play,BB/SAA
UID:189BFB11AC6CA049AF4B736C0C84EF8:
DTSTAMP:2026-04-21T07:17:41Z:
SUMMARY:Triple Play at Shotguns and Showels
DESCRIPTION;ENCODING=QUOTED-PRINTABLE:Triple Play at Shotguns and Showels=0D=0A Time: 6:00 PM=0D=0A Location: Marymoor, Field 6
CLASS:PUBLIC
PRIORITY:5
BEGIN:VALARM
TRIGGER:-PT180M
ACTION:DISPLAY
DESCRIPTION:Reminder
END:VALARM
END:VEVENT
BEGIN:VEVENT
DTSTART:2016-08-02T03:30:00Z
DTEND:2016-08-02T06:00:00Z
LOCATION:MM6: Marymoor, Field 6
CATEGORIES:Softball,Triple Play,BB/SAA
UID:6B86684DBF106D4EB45651DE1437A8A:
DTSTAMP:2026-04-21T07:17:41Z:
SUMMARY:Triple Play at Pitches be Crazy
DESCRIPTION;ENCODING=QUOTED-PRINTABLE:Triple Play at Pitches be Crazy=0D=0A Time: 8:30 PM=0D=0A Location: Marymoor, Field 6
CLASS:PUBLIC
PRIORITY:5
BEGIN:VALARM
TRIGGER:-PT330M
ACTION:DISPLAY
DESCRIPTION:Reminder
END:VALARM
END:VEVENT
BEGIN:VEVENT
DTSTART:2016-08-09T01:00:00Z
DTEND:2016-08-09T03:30:00Z
LOCATION:MM6: Marymoor, Field 6
CATEGORIES:Softball,Triple Play,BB/SAA
UID:90BD4791D1F654492ED80F7A28A1ABF:
DTSTAMP:2026-04-21T07:17:41Z:
SUMMARY:Chix and Stix at Triple Play
DESCRIPTION;ENCODING=QUOTED-PRINTABLE:Chix and Stix at Triple Play=0D=0A Time: 6:00 PM=0D=0A Location: Marymoor, Field 6
CLASS:PUBLIC
PRIORITY:5
BEGIN:VALARM
TRIGGER:-PT180M
ACTION:DISPLAY
DESCRIPTION:Reminder
END:VALARM
END:VEVENT
BEGIN:VEVENT
DTSTART:2016-08-16T03:30:00Z
DTEND:2016-08-16T06:00:00Z
LOCATION:HP1: Highland Park, Field 1
CATEGORIES:Softball,Triple Play,BB/SAA
UID:C3F6038A7FEC4EBD1B52E25D3284:
DTSTAMP:2026-04-21T07:17:41Z:
SUMMARY:Pirates at Triple Play
DESCRIPTION;ENCODING=QUOTED-PRINTABLE:Pirates at Triple Play=0D=0A Time: 8:30 PM=0D=0A Location: Highland Park, Field 1
CLASS:PUBLIC
PRIORITY:5
BEGIN:VALARM
TRIGGER:-PT330M
ACTION:DISPLAY
DESCRIPTION:Reminder
END:VALARM
END:VEVENT
BEGIN:VEVENT
DTSTART:2016-08-23T01:00:00Z
DTEND:2016-08-23T03:30:00Z
LOCATION:HV1: Hidden Valley, Field 1
CATEGORIES:Softball,Triple Play,BB/SAA
UID:C43CC15AB4C93D428E8B6B6C2D989836:
DTSTAMP:2026-04-21T07:17:41Z:
SUMMARY:Triple Play at Scared Hitless
DESCRIPTION;ENCODING=QUOTED-PRINTABLE:Triple Play at Scared Hitless=0D=0A Time: 6:00 PM=0D=0A Location: Hidden Valley, Field 1
CLASS:PUBLIC
PRIORITY:5
BEGIN:VALARM
TRIGGER:-PT180M
ACTION:DISPLAY
DESCRIPTION:Reminder
END:VALARM
END:VEVENT
BEGIN:VEVENT
DTSTART:2016-08-30T03:30:00Z
DTEND:2016-08-30T06:00:00Z
LOCATION:HV1: Hidden Valley, Field 1
CATEGORIES:Softball,Triple Play,BB/SAA
UID:3747ED3165567940B3FAE91A49EEE17C:
DTSTAMP:2026-04-21T07:17:41Z:
SUMMARY:Triple Play at AIM Consulting
DESCRIPTION;ENCODING=QUOTED-PRINTABLE:Triple Play at AIM Consulting=0D=0A Time: 8:30 PM=0D=0A Location: Hidden Valley, Field 1
CLASS:PUBLIC
PRIORITY:5
BEGIN:VALARM
TRIGGER:-PT330M
ACTION:DISPLAY
DESCRIPTION:Reminder
END:VALARM
END:VEVENT
BEGIN:VEVENT
DTSTART:2016-09-13T01:00:00Z
DTEND:2016-09-13T03:30:00Z
LOCATION:MM7: Marymoor, Field 7
CATEGORIES:Softball,Triple Play,BB/SAA
UID:5FBBF63D4394E648A2107C76D32CE97D:
DTSTAMP:2026-04-21T07:17:41Z:
SUMMARY:Fielder's Choice at Triple Play
DESCRIPTION;ENCODING=QUOTED-PRINTABLE:Fielder's Choice at Triple Play=0D=0A Time: 6:00 PM=0D=0A Location: Marymoor, Field 7
CLASS:PUBLIC
PRIORITY:5
BEGIN:VALARM
TRIGGER:-PT180M
ACTION:DISPLAY
DESCRIPTION:Reminder
END:VALARM
END:VEVENT
END:VCALENDAR
