BEGIN:VCALENDAR
PRODID:-//Microsoft Corporation//Outlook 11.0 MIMEDIR//EN
VERSION:2.0
METHOD:PUBLISH
BEGIN:VEVENT
DTSTART:2016-07-12T03:30:00Z
DTEND:2016-07-12T06:00:00Z
LOCATION:HV1: Hidden Valley, Field 1
CATEGORIES:Softball,Shotguns and Showels,BB/SAA
UID:5FE0886C9D9EC46AAE9D1B9B2C8656A:
DTSTAMP:2026-04-21T05:42:56Z:
SUMMARY:Chix and Stix at Shotguns and Showels
DESCRIPTION;ENCODING=QUOTED-PRINTABLE:Chix and Stix at Shotguns and Showels=0D=0A Time: 8:30 PM=0D=0A Location: Hidden Valley, Field 1
CLASS:PUBLIC
PRIORITY:5
BEGIN:VALARM
TRIGGER:-PT330M
ACTION:DISPLAY
DESCRIPTION:Reminder
END:VALARM
END:VEVENT
BEGIN:VEVENT
DTSTART:2016-07-19T01:00:00Z
DTEND:2016-07-19T03:30:00Z
LOCATION:MM6: Marymoor, Field 6
CATEGORIES:Softball,Shotguns and Showels,BB/SAA
UID:1EEC7A4B239CEB43ADEF4E8BE5A4576:
DTSTAMP:2026-04-21T05:42:56Z:
SUMMARY:Triple Play at Shotguns and Showels
DESCRIPTION;ENCODING=QUOTED-PRINTABLE:Triple Play at Shotguns and Showels=0D=0A Time: 6:00 PM=0D=0A Location: Marymoor, Field 6
CLASS:PUBLIC
PRIORITY:5
BEGIN:VALARM
TRIGGER:-PT180M
ACTION:DISPLAY
DESCRIPTION:Reminder
END:VALARM
END:VEVENT
BEGIN:VEVENT
DTSTART:2016-07-26T01:00:00Z
DTEND:2016-07-26T03:30:00Z
LOCATION:MM6: Marymoor, Field 6
CATEGORIES:Softball,Shotguns and Showels,BB/SAA
UID:65E8E29C5CE14B42AAD01D97F5A66186:
DTSTAMP:2026-04-21T05:42:56Z:
SUMMARY:Scared Hitless at Shotguns and Showels
DESCRIPTION;ENCODING=QUOTED-PRINTABLE:Scared Hitless at Shotguns and Showels=0D=0A Time: 6:00 PM=0D=0A Location: Marymoor, Field 6
CLASS:PUBLIC
PRIORITY:5
BEGIN:VALARM
TRIGGER:-PT180M
ACTION:DISPLAY
DESCRIPTION:Reminder
END:VALARM
END:VEVENT
BEGIN:VEVENT
DTSTART:2016-08-02T03:30:00Z
DTEND:2016-08-02T06:00:00Z
LOCATION:HV1: Hidden Valley, Field 1
CATEGORIES:Softball,Shotguns and Showels,BB/SAA
UID:4E4ADB6799CAEA47BCFEE6F2543FBDF9:
DTSTAMP:2026-04-21T05:42:56Z:
SUMMARY:Shotguns and Showels at AIM Consulting
DESCRIPTION;ENCODING=QUOTED-PRINTABLE:Shotguns and Showels at AIM Consulting=0D=0A Time: 8:30 PM=0D=0A Location: Hidden Valley, Field 1
CLASS:PUBLIC
PRIORITY:5
BEGIN:VALARM
TRIGGER:-PT330M
ACTION:DISPLAY
DESCRIPTION:Reminder
END:VALARM
END:VEVENT
BEGIN:VEVENT
DTSTART:2016-08-16T01:00:00Z
DTEND:2016-08-16T03:30:00Z
LOCATION:HP1: Highland Park, Field 1
CATEGORIES:Softball,Shotguns and Showels,BB/SAA
UID:D4E17AD4D0E76F40BFEEB958A2EEB2C5:
DTSTAMP:2026-04-21T05:42:56Z:
SUMMARY:Shotguns and Showels at Fielder's Choice
DESCRIPTION;ENCODING=QUOTED-PRINTABLE:Shotguns and Showels at Fielder's Choice=0D=0A Time: 6:00 PM=0D=0A Location: Highland Park, Field 1
CLASS:PUBLIC
PRIORITY:5
BEGIN:VALARM
TRIGGER:-PT180M
ACTION:DISPLAY
DESCRIPTION:Reminder
END:VALARM
END:VEVENT
BEGIN:VEVENT
DTSTART:2016-08-23T03:30:00Z
DTEND:2016-08-23T06:00:00Z
LOCATION:HV1: Hidden Valley, Field 1
CATEGORIES:Softball,Shotguns and Showels,BB/SAA
UID:C4D1563C6B9B98409434ED3578FF949:
DTSTAMP:2026-04-21T05:42:56Z:
SUMMARY:Pirates at Shotguns and Showels
DESCRIPTION;ENCODING=QUOTED-PRINTABLE:Pirates at Shotguns and Showels=0D=0A Time: 8:30 PM=0D=0A Location: Hidden Valley, Field 1
CLASS:PUBLIC
PRIORITY:5
BEGIN:VALARM
TRIGGER:-PT330M
ACTION:DISPLAY
DESCRIPTION:Reminder
END:VALARM
END:VEVENT
BEGIN:VEVENT
DTSTART:2016-08-30T01:00:00Z
DTEND:2016-08-30T03:30:00Z
LOCATION:MM7: Marymoor, Field 7
CATEGORIES:Softball,Shotguns and Showels,BB/SAA
UID:DD6B5A63F535384582D9ADCBCB9AF471:
DTSTAMP:2026-04-21T05:42:56Z:
SUMMARY:Shotguns and Showels at Pitches be Crazy
DESCRIPTION;ENCODING=QUOTED-PRINTABLE:Shotguns and Showels at Pitches be Crazy=0D=0A Time: 6:00 PM=0D=0A Location: Marymoor, Field 7
CLASS:PUBLIC
PRIORITY:5
BEGIN:VALARM
TRIGGER:-PT180M
ACTION:DISPLAY
DESCRIPTION:Reminder
END:VALARM
END:VEVENT
BEGIN:VEVENT
DTSTART:2016-09-13T03:30:00Z
DTEND:2016-09-13T06:00:00Z
LOCATION:HV1: Hidden Valley, Field 1
CATEGORIES:Softball,Shotguns and Showels,BB/SAA
UID:527B5E51C0A37143BE5F9C98816F92E7:
DTSTAMP:2026-04-21T05:42:56Z:
SUMMARY:Shotguns and Showels at Fireballers
DESCRIPTION;ENCODING=QUOTED-PRINTABLE:Shotguns and Showels at Fireballers=0D=0A Time: 8:30 PM=0D=0A Location: Hidden Valley, Field 1
CLASS:PUBLIC
PRIORITY:5
BEGIN:VALARM
TRIGGER:-PT330M
ACTION:DISPLAY
DESCRIPTION:Reminder
END:VALARM
END:VEVENT
BEGIN:VEVENT
DTSTART:2016-09-20T02:30:00Z
DTEND:2016-09-20T05:00:00Z
LOCATION:HV1: Hidden Valley, Field 1
CATEGORIES:Softball,Shotguns and Showels,BB/SAA
UID:1090DA6BBD7514DA9F0B8F0E99D561F:
DTSTAMP:2026-04-21T05:42:56Z:
SUMMARY:Scared Hitless at Shotguns and Showels
DESCRIPTION;ENCODING=QUOTED-PRINTABLE:Scared Hitless at Shotguns and Showels=0D=0A Time: 7:30 PM=0D=0A Location: Hidden Valley, Field 1
CLASS:PUBLIC
PRIORITY:5
BEGIN:VALARM
TRIGGER:-PT270M
ACTION:DISPLAY
DESCRIPTION:Reminder
END:VALARM
END:VEVENT
BEGIN:VEVENT
DTSTART:2016-09-20T04:00:00Z
DTEND:2016-09-20T06:30:00Z
LOCATION:HV1: Hidden Valley, Field 1
CATEGORIES:Softball,Shotguns and Showels,BB/SAA
UID:57F54F1B2A30BA478C6F8363E1F84170:
DTSTAMP:2026-04-21T05:42:56Z:
SUMMARY:Pirates at Shotguns and Showels
DESCRIPTION;ENCODING=QUOTED-PRINTABLE:Pirates at Shotguns and Showels=0D=0A Time: 9:00 PM=0D=0A Location: Hidden Valley, Field 1
CLASS:PUBLIC
PRIORITY:5
BEGIN:VALARM
TRIGGER:-PT360M
ACTION:DISPLAY
DESCRIPTION:Reminder
END:VALARM
END:VEVENT
END:VCALENDAR
