BEGIN:VCALENDAR
PRODID:-//Microsoft Corporation//Outlook 11.0 MIMEDIR//EN
VERSION:2.0
METHOD:PUBLISH
BEGIN:VEVENT
DTSTART:2016-07-12T01:00:00Z
DTEND:2016-07-12T03:30:00Z
LOCATION:MM6: Marymoor, Field 6
CATEGORIES:Softball,Pitches be Crazy,BB/SAA
UID:5B80154C65E6A45A0122CB3568CBCC4:
DTSTAMP:2026-04-21T05:43:55Z:
SUMMARY:Scared Hitless at Pitches be Crazy
DESCRIPTION;ENCODING=QUOTED-PRINTABLE:Scared Hitless at Pitches be Crazy=0D=0A Time: 6:00 PM=0D=0A Location: Marymoor, Field 6
CLASS:PUBLIC
PRIORITY:5
BEGIN:VALARM
TRIGGER:-PT180M
ACTION:DISPLAY
DESCRIPTION:Reminder
END:VALARM
END:VEVENT
BEGIN:VEVENT
DTSTART:2016-07-26T01:00:00Z
DTEND:2016-07-26T03:30:00Z
LOCATION:HV1: Hidden Valley, Field 1
CATEGORIES:Softball,Pitches be Crazy,BB/SAA
UID:9E4A15B2C89BF44AA92F306367188742:
DTSTAMP:2026-04-21T05:43:55Z:
SUMMARY:Pitches be Crazy at Fireballers
DESCRIPTION;ENCODING=QUOTED-PRINTABLE:Pitches be Crazy at Fireballers=0D=0A Time: 6:00 PM=0D=0A Location: Hidden Valley, Field 1
CLASS:PUBLIC
PRIORITY:5
BEGIN:VALARM
TRIGGER:-PT180M
ACTION:DISPLAY
DESCRIPTION:Reminder
END:VALARM
END:VEVENT
BEGIN:VEVENT
DTSTART:2016-08-02T03:30:00Z
DTEND:2016-08-02T06:00:00Z
LOCATION:MM6: Marymoor, Field 6
CATEGORIES:Softball,Pitches be Crazy,BB/SAA
UID:2ABBC9A65352394A87108E1D597420BA:
DTSTAMP:2026-04-21T05:43:55Z:
SUMMARY:Triple Play at Pitches be Crazy
DESCRIPTION;ENCODING=QUOTED-PRINTABLE:Triple Play at Pitches be Crazy=0D=0A Time: 8:30 PM=0D=0A Location: Marymoor, Field 6
CLASS:PUBLIC
PRIORITY:5
BEGIN:VALARM
TRIGGER:-PT330M
ACTION:DISPLAY
DESCRIPTION:Reminder
END:VALARM
END:VEVENT
BEGIN:VEVENT
DTSTART:2016-08-09T03:30:00Z
DTEND:2016-08-09T06:00:00Z
LOCATION:HP1: Highland Park, Field 1
CATEGORIES:Softball,Pitches be Crazy,BB/SAA
UID:3E922584E7E69947BC0CDE4EE09E74:
DTSTAMP:2026-04-21T05:43:55Z:
SUMMARY:Fielder's Choice at Pitches be Crazy
DESCRIPTION;ENCODING=QUOTED-PRINTABLE:Fielder's Choice at Pitches be Crazy=0D=0A Time: 8:30 PM=0D=0A Location: Highland Park, Field 1
CLASS:PUBLIC
PRIORITY:5
BEGIN:VALARM
TRIGGER:-PT330M
ACTION:DISPLAY
DESCRIPTION:Reminder
END:VALARM
END:VEVENT
BEGIN:VEVENT
DTSTART:2016-08-16T01:00:00Z
DTEND:2016-08-16T03:30:00Z
LOCATION:HV1: Hidden Valley, Field 1
CATEGORIES:Softball,Pitches be Crazy,BB/SAA
UID:D54265174FE0E546A4D1E4D72824997E:
DTSTAMP:2026-04-21T05:43:55Z:
SUMMARY:Pitches be Crazy at AIM Consulting
DESCRIPTION;ENCODING=QUOTED-PRINTABLE:Pitches be Crazy at AIM Consulting=0D=0A Time: 6:00 PM=0D=0A Location: Hidden Valley, Field 1
CLASS:PUBLIC
PRIORITY:5
BEGIN:VALARM
TRIGGER:-PT180M
ACTION:DISPLAY
DESCRIPTION:Reminder
END:VALARM
END:VEVENT
BEGIN:VEVENT
DTSTART:2016-08-23T03:30:00Z
DTEND:2016-08-23T06:00:00Z
LOCATION:HP1: Highland Park, Field 1
CATEGORIES:Softball,Pitches be Crazy,BB/SAA
UID:EF23C3F6A37B14BABFBA39286694F67:
DTSTAMP:2026-04-21T05:43:55Z:
SUMMARY:Pitches be Crazy at Chix and Stix
DESCRIPTION;ENCODING=QUOTED-PRINTABLE:Pitches be Crazy at Chix and Stix=0D=0A Time: 8:30 PM=0D=0A Location: Highland Park, Field 1
CLASS:PUBLIC
PRIORITY:5
BEGIN:VALARM
TRIGGER:-PT330M
ACTION:DISPLAY
DESCRIPTION:Reminder
END:VALARM
END:VEVENT
BEGIN:VEVENT
DTSTART:2016-08-30T01:00:00Z
DTEND:2016-08-30T03:30:00Z
LOCATION:MM7: Marymoor, Field 7
CATEGORIES:Softball,Pitches be Crazy,BB/SAA
UID:A7965FB233C1644994C814D88F45311:
DTSTAMP:2026-04-21T05:43:55Z:
SUMMARY:Shotguns and Showels at Pitches be Crazy
DESCRIPTION;ENCODING=QUOTED-PRINTABLE:Shotguns and Showels at Pitches be Crazy=0D=0A Time: 6:00 PM=0D=0A Location: Marymoor, Field 7
CLASS:PUBLIC
PRIORITY:5
BEGIN:VALARM
TRIGGER:-PT180M
ACTION:DISPLAY
DESCRIPTION:Reminder
END:VALARM
END:VEVENT
BEGIN:VEVENT
DTSTART:2016-09-13T01:00:00Z
DTEND:2016-09-13T03:30:00Z
LOCATION:HV1: Hidden Valley, Field 1
CATEGORIES:Softball,Pitches be Crazy,BB/SAA
UID:D6DE858CDD556C4B8B679191F1571377:
DTSTAMP:2026-04-21T05:43:55Z:
SUMMARY:Pitches be Crazy at Pirates
DESCRIPTION;ENCODING=QUOTED-PRINTABLE:Pitches be Crazy at Pirates=0D=0A Time: 6:00 PM=0D=0A Location: Hidden Valley, Field 1
CLASS:PUBLIC
PRIORITY:5
BEGIN:VALARM
TRIGGER:-PT180M
ACTION:DISPLAY
DESCRIPTION:Reminder
END:VALARM
END:VEVENT
BEGIN:VEVENT
DTSTART:2016-09-20T01:00:00Z
DTEND:2016-09-20T03:30:00Z
LOCATION:HV1: Hidden Valley, Field 1
CATEGORIES:Softball,Pitches be Crazy,BB/SAA
UID:D05342A35B13EF4A978B53BE9295E7F:
DTSTAMP:2026-04-21T05:43:55Z:
SUMMARY:Pirates at Pitches be Crazy
DESCRIPTION;ENCODING=QUOTED-PRINTABLE:Pirates at Pitches be Crazy=0D=0A Time: 6:00 PM=0D=0A Location: Hidden Valley, Field 1
CLASS:PUBLIC
PRIORITY:5
BEGIN:VALARM
TRIGGER:-PT180M
ACTION:DISPLAY
DESCRIPTION:Reminder
END:VALARM
END:VEVENT
END:VCALENDAR
