BEGIN:VCALENDAR
PRODID:-//Microsoft Corporation//Outlook 11.0 MIMEDIR//EN
VERSION:2.0
METHOD:PUBLISH
BEGIN:VEVENT
DTSTART:2016-07-19T01:00:00Z
DTEND:2016-07-19T03:30:00Z
LOCATION:MM7: Marymoor, Field 7
CATEGORIES:Softball,Pirates,BB/SAA
UID:C76B1A901F5644B2D6C0E9625E7A55:
DTSTAMP:2026-04-21T05:46:43Z:
SUMMARY:Pirates at Fireballers
DESCRIPTION;ENCODING=QUOTED-PRINTABLE:Pirates at Fireballers=0D=0A Time: 6:00 PM=0D=0A Location: Marymoor, Field 7
CLASS:PUBLIC
PRIORITY:5
BEGIN:VALARM
TRIGGER:-PT180M
ACTION:DISPLAY
DESCRIPTION:Reminder
END:VALARM
END:VEVENT
BEGIN:VEVENT
DTSTART:2016-07-26T03:30:00Z
DTEND:2016-07-26T06:00:00Z
LOCATION:MM6: Marymoor, Field 6
CATEGORIES:Softball,Pirates,BB/SAA
UID:869528803F4CAA48BCB0F84A1C7A46B:
DTSTAMP:2026-04-21T05:46:43Z:
SUMMARY:Fielder's Choice at Pirates
DESCRIPTION;ENCODING=QUOTED-PRINTABLE:Fielder's Choice at Pirates=0D=0A Time: 8:30 PM=0D=0A Location: Marymoor, Field 6
CLASS:PUBLIC
PRIORITY:5
BEGIN:VALARM
TRIGGER:-PT330M
ACTION:DISPLAY
DESCRIPTION:Reminder
END:VALARM
END:VEVENT
BEGIN:VEVENT
DTSTART:2016-08-02T01:00:00Z
DTEND:2016-08-02T03:30:00Z
LOCATION:MM7: Marymoor, Field 7
CATEGORIES:Softball,Pirates,BB/SAA
UID:F5993B513CA6EE45B6B1945C4AE28DEB:
DTSTAMP:2026-04-21T05:46:43Z:
SUMMARY:Pirates at Scared Hitless
DESCRIPTION;ENCODING=QUOTED-PRINTABLE:Pirates at Scared Hitless=0D=0A Time: 6:00 PM=0D=0A Location: Marymoor, Field 7
CLASS:PUBLIC
PRIORITY:5
BEGIN:VALARM
TRIGGER:-PT180M
ACTION:DISPLAY
DESCRIPTION:Reminder
END:VALARM
END:VEVENT
BEGIN:VEVENT
DTSTART:2016-08-09T01:00:00Z
DTEND:2016-08-09T03:30:00Z
LOCATION:HP1: Highland Park, Field 1
CATEGORIES:Softball,Pirates,BB/SAA
UID:A8C1ADE091C834EB27BB6426BE560A3:
DTSTAMP:2026-04-21T05:46:43Z:
SUMMARY:AIM Consulting at Pirates
DESCRIPTION;ENCODING=QUOTED-PRINTABLE:AIM Consulting at Pirates=0D=0A Time: 6:00 PM=0D=0A Location: Highland Park, Field 1
CLASS:PUBLIC
PRIORITY:5
BEGIN:VALARM
TRIGGER:-PT180M
ACTION:DISPLAY
DESCRIPTION:Reminder
END:VALARM
END:VEVENT
BEGIN:VEVENT
DTSTART:2016-08-16T03:30:00Z
DTEND:2016-08-16T06:00:00Z
LOCATION:HP1: Highland Park, Field 1
CATEGORIES:Softball,Pirates,BB/SAA
UID:4E3FF66572B6C04B805E66B2A2947B8C:
DTSTAMP:2026-04-21T05:46:43Z:
SUMMARY:Pirates at Triple Play
DESCRIPTION;ENCODING=QUOTED-PRINTABLE:Pirates at Triple Play=0D=0A Time: 8:30 PM=0D=0A Location: Highland Park, Field 1
CLASS:PUBLIC
PRIORITY:5
BEGIN:VALARM
TRIGGER:-PT330M
ACTION:DISPLAY
DESCRIPTION:Reminder
END:VALARM
END:VEVENT
BEGIN:VEVENT
DTSTART:2016-08-23T03:30:00Z
DTEND:2016-08-23T06:00:00Z
LOCATION:HV1: Hidden Valley, Field 1
CATEGORIES:Softball,Pirates,BB/SAA
UID:AB7ECEE2B3AF04D83C3C0EDE4FA7E89:
DTSTAMP:2026-04-21T05:46:43Z:
SUMMARY:Pirates at Shotguns and Showels
DESCRIPTION;ENCODING=QUOTED-PRINTABLE:Pirates at Shotguns and Showels=0D=0A Time: 8:30 PM=0D=0A Location: Hidden Valley, Field 1
CLASS:PUBLIC
PRIORITY:5
BEGIN:VALARM
TRIGGER:-PT330M
ACTION:DISPLAY
DESCRIPTION:Reminder
END:VALARM
END:VEVENT
BEGIN:VEVENT
DTSTART:2016-08-30T01:00:00Z
DTEND:2016-08-30T03:30:00Z
LOCATION:HV1: Hidden Valley, Field 1
CATEGORIES:Softball,Pirates,BB/SAA
UID:40252A54B95FA943806A1398B2AD3EE2:
DTSTAMP:2026-04-21T05:46:43Z:
SUMMARY:Chix and Stix at Pirates
DESCRIPTION;ENCODING=QUOTED-PRINTABLE:Chix and Stix at Pirates=0D=0A Time: 6:00 PM=0D=0A Location: Hidden Valley, Field 1
CLASS:PUBLIC
PRIORITY:5
BEGIN:VALARM
TRIGGER:-PT180M
ACTION:DISPLAY
DESCRIPTION:Reminder
END:VALARM
END:VEVENT
BEGIN:VEVENT
DTSTART:2016-09-13T01:00:00Z
DTEND:2016-09-13T03:30:00Z
LOCATION:HV1: Hidden Valley, Field 1
CATEGORIES:Softball,Pirates,BB/SAA
UID:B679AB44F07DA7449DC05A66C297416:
DTSTAMP:2026-04-21T05:46:43Z:
SUMMARY:Pitches be Crazy at Pirates
DESCRIPTION;ENCODING=QUOTED-PRINTABLE:Pitches be Crazy at Pirates=0D=0A Time: 6:00 PM=0D=0A Location: Hidden Valley, Field 1
CLASS:PUBLIC
PRIORITY:5
BEGIN:VALARM
TRIGGER:-PT180M
ACTION:DISPLAY
DESCRIPTION:Reminder
END:VALARM
END:VEVENT
BEGIN:VEVENT
DTSTART:2016-09-20T01:00:00Z
DTEND:2016-09-20T03:30:00Z
LOCATION:HV1: Hidden Valley, Field 1
CATEGORIES:Softball,Pirates,BB/SAA
UID:2DE57B383CCAFB4DACAC457178136DD8:
DTSTAMP:2026-04-21T05:46:43Z:
SUMMARY:Pirates at Pitches be Crazy
DESCRIPTION;ENCODING=QUOTED-PRINTABLE:Pirates at Pitches be Crazy=0D=0A Time: 6:00 PM=0D=0A Location: Hidden Valley, Field 1
CLASS:PUBLIC
PRIORITY:5
BEGIN:VALARM
TRIGGER:-PT180M
ACTION:DISPLAY
DESCRIPTION:Reminder
END:VALARM
END:VEVENT
BEGIN:VEVENT
DTSTART:2016-09-20T04:00:00Z
DTEND:2016-09-20T06:30:00Z
LOCATION:HV1: Hidden Valley, Field 1
CATEGORIES:Softball,Pirates,BB/SAA
UID:1EB7A71948BDF4584F923395BDA856:
DTSTAMP:2026-04-21T05:46:43Z:
SUMMARY:Pirates at Shotguns and Showels
DESCRIPTION;ENCODING=QUOTED-PRINTABLE:Pirates at Shotguns and Showels=0D=0A Time: 9:00 PM=0D=0A Location: Hidden Valley, Field 1
CLASS:PUBLIC
PRIORITY:5
BEGIN:VALARM
TRIGGER:-PT360M
ACTION:DISPLAY
DESCRIPTION:Reminder
END:VALARM
END:VEVENT
END:VCALENDAR
