BEGIN:VCALENDAR
PRODID:-//Microsoft Corporation//Outlook 11.0 MIMEDIR//EN
VERSION:2.0
METHOD:PUBLISH
BEGIN:VEVENT
DTSTART:2016-04-14T01:00:00Z
DTEND:2016-04-14T03:30:00Z
LOCATION:MM6: Marymoor, Field 6
CATEGORIES:Softball,USCutter,BB/SAA
UID:88669B014F9284A9C2A389822A07338:
DTSTAMP:2026-04-21T05:43:54Z:
SUMMARY:Almost Pro at USCutter
DESCRIPTION;ENCODING=QUOTED-PRINTABLE:Almost Pro at USCutter=0D=0A Time: 6:00 PM=0D=0A Location: Marymoor, Field 6
CLASS:PUBLIC
PRIORITY:5
BEGIN:VALARM
TRIGGER:-PT180M
ACTION:DISPLAY
DESCRIPTION:Reminder
END:VALARM
END:VEVENT
BEGIN:VEVENT
DTSTART:2016-04-21T03:30:00Z
DTEND:2016-04-21T06:00:00Z
LOCATION:HP1: Highland Park, Field 1
CATEGORIES:Softball,USCutter,BB/SAA
UID:16235499DBF4E95F23EF7E2F537D0:
DTSTAMP:2026-04-21T05:43:54Z:
SUMMARY:USCutter at Bellevue Presbyterian
DESCRIPTION;ENCODING=QUOTED-PRINTABLE:USCutter at Bellevue Presbyterian=0D=0A Time: 8:30 PM=0D=0A Location: Highland Park, Field 1
CLASS:PUBLIC
PRIORITY:5
BEGIN:VALARM
TRIGGER:-PT330M
ACTION:DISPLAY
DESCRIPTION:Reminder
END:VALARM
END:VEVENT
BEGIN:VEVENT
DTSTART:2016-04-28T03:30:00Z
DTEND:2016-04-28T06:00:00Z
LOCATION:HV1: Hidden Valley, Field 1
CATEGORIES:Softball,USCutter,BB/SAA
UID:5633167674F92E478EC3BB89C055D17B:
DTSTAMP:2026-04-21T05:43:54Z:
SUMMARY:Strikers at USCutter
DESCRIPTION;ENCODING=QUOTED-PRINTABLE:Strikers at USCutter=0D=0A Time: 8:30 PM=0D=0A Location: Hidden Valley, Field 1
CLASS:PUBLIC
PRIORITY:5
BEGIN:VALARM
TRIGGER:-PT330M
ACTION:DISPLAY
DESCRIPTION:Reminder
END:VALARM
END:VEVENT
BEGIN:VEVENT
DTSTART:2016-05-05T03:30:00Z
DTEND:2016-05-05T06:00:00Z
LOCATION:MM7: Marymoor, Field 7
CATEGORIES:Softball,USCutter,BB/SAA
UID:4DE3AEC63269141806E4473D2CC8FBB:
DTSTAMP:2026-04-21T05:43:54Z:
SUMMARY:USCutter at Manchild United
DESCRIPTION;ENCODING=QUOTED-PRINTABLE:USCutter at Manchild United=0D=0A Time: 8:30 PM=0D=0A Location: Marymoor, Field 7
CLASS:PUBLIC
PRIORITY:5
BEGIN:VALARM
TRIGGER:-PT330M
ACTION:DISPLAY
DESCRIPTION:Reminder
END:VALARM
END:VEVENT
BEGIN:VEVENT
DTSTART:2016-05-12T03:30:00Z
DTEND:2016-05-12T06:00:00Z
LOCATION:MM8: Marymoor, Field 8
CATEGORIES:Softball,USCutter,BB/SAA
UID:5E3DAE8070887C4193A459C9C699758:
DTSTAMP:2026-04-21T05:43:54Z:
SUMMARY:Team Shocker at USCutter
DESCRIPTION;ENCODING=QUOTED-PRINTABLE:Team Shocker at USCutter=0D=0A Time: 8:30 PM=0D=0A Location: Marymoor, Field 8
CLASS:PUBLIC
PRIORITY:5
BEGIN:VALARM
TRIGGER:-PT330M
ACTION:DISPLAY
DESCRIPTION:Reminder
END:VALARM
END:VEVENT
BEGIN:VEVENT
DTSTART:2016-05-19T01:00:00Z
DTEND:2016-05-19T03:30:00Z
LOCATION:HV1: Hidden Valley, Field 1
CATEGORIES:Softball,USCutter,BB/SAA
UID:72F9BC5539B16449A518452988E814E0:
DTSTAMP:2026-04-21T05:43:54Z:
SUMMARY:Train Wreck at USCutter
DESCRIPTION;ENCODING=QUOTED-PRINTABLE:Train Wreck at USCutter=0D=0A Time: 6:00 PM=0D=0A Location: Hidden Valley, Field 1
CLASS:PUBLIC
PRIORITY:5
BEGIN:VALARM
TRIGGER:-PT180M
ACTION:DISPLAY
DESCRIPTION:Reminder
END:VALARM
END:VEVENT
BEGIN:VEVENT
DTSTART:2016-05-26T01:00:00Z
DTEND:2016-05-26T03:30:00Z
LOCATION:HV1: Hidden Valley, Field 1
CATEGORIES:Softball,USCutter,BB/SAA
UID:3BFEAB606555134C9EB6209C82A57796:
DTSTAMP:2026-04-21T05:43:54Z:
SUMMARY:USCutter at Mad Dogs
DESCRIPTION;ENCODING=QUOTED-PRINTABLE:USCutter at Mad Dogs=0D=0A Time: 6:00 PM=0D=0A Location: Hidden Valley, Field 1
CLASS:PUBLIC
PRIORITY:5
BEGIN:VALARM
TRIGGER:-PT180M
ACTION:DISPLAY
DESCRIPTION:Reminder
END:VALARM
END:VEVENT
BEGIN:VEVENT
DTSTART:2016-06-02T01:00:00Z
DTEND:2016-06-02T03:30:00Z
LOCATION:MM7: Marymoor, Field 7
CATEGORIES:Softball,USCutter,BB/SAA
UID:E2D696AF738AC743BC741E529E1F695B:
DTSTAMP:2026-04-21T05:43:54Z:
SUMMARY:USCutter at Almost Pro
DESCRIPTION;ENCODING=QUOTED-PRINTABLE:USCutter at Almost Pro=0D=0A Time: 6:00 PM=0D=0A Location: Marymoor, Field 7
CLASS:PUBLIC
PRIORITY:5
BEGIN:VALARM
TRIGGER:-PT180M
ACTION:DISPLAY
DESCRIPTION:Reminder
END:VALARM
END:VEVENT
END:VCALENDAR
