BEGIN:VCALENDAR
PRODID:-//Microsoft Corporation//Outlook 11.0 MIMEDIR//EN
VERSION:2.0
METHOD:PUBLISH
BEGIN:VEVENT
DTSTART:2016-04-14T03:30:00Z
DTEND:2016-04-14T06:00:00Z
LOCATION:MM6: Marymoor, Field 6
CATEGORIES:Softball,Train Wreck,BB/SAA
UID:DB869669B05817429F7677D92F745D6C:
DTSTAMP:2026-04-21T06:49:23Z:
SUMMARY:Train Wreck at Team Shocker
DESCRIPTION;ENCODING=QUOTED-PRINTABLE:Train Wreck at Team Shocker=0D=0A Time: 8:30 PM=0D=0A Location: Marymoor, Field 6
CLASS:PUBLIC
PRIORITY:5
BEGIN:VALARM
TRIGGER:-PT330M
ACTION:DISPLAY
DESCRIPTION:Reminder
END:VALARM
END:VEVENT
BEGIN:VEVENT
DTSTART:2016-04-21T01:00:00Z
DTEND:2016-04-21T03:30:00Z
LOCATION:MM7: Marymoor, Field 7
CATEGORIES:Softball,Train Wreck,BB/SAA
UID:694B4472F33E7445BA306A9F65B96E7A:
DTSTAMP:2026-04-21T06:49:23Z:
SUMMARY:Train Wreck at Strikers
DESCRIPTION;ENCODING=QUOTED-PRINTABLE:Train Wreck at Strikers=0D=0A Time: 6:00 PM=0D=0A Location: Marymoor, Field 7
CLASS:PUBLIC
PRIORITY:5
BEGIN:VALARM
TRIGGER:-PT180M
ACTION:DISPLAY
DESCRIPTION:Reminder
END:VALARM
END:VEVENT
BEGIN:VEVENT
DTSTART:2016-04-28T01:00:00Z
DTEND:2016-04-28T03:30:00Z
LOCATION:MM7: Marymoor, Field 7
CATEGORIES:Softball,Train Wreck,BB/SAA
UID:978944ADCCB19A42BCBD9866EA8DBBE7:
DTSTAMP:2026-04-21T06:49:23Z:
SUMMARY:Bellevue Presbyterian at Train Wreck
DESCRIPTION;ENCODING=QUOTED-PRINTABLE:Bellevue Presbyterian at Train Wreck=0D=0A Time: 6:00 PM=0D=0A Location: Marymoor, Field 7
CLASS:PUBLIC
PRIORITY:5
BEGIN:VALARM
TRIGGER:-PT180M
ACTION:DISPLAY
DESCRIPTION:Reminder
END:VALARM
END:VEVENT
BEGIN:VEVENT
DTSTART:2016-05-05T03:30:00Z
DTEND:2016-05-05T06:00:00Z
LOCATION:HV1: Hidden Valley, Field 1
CATEGORIES:Softball,Train Wreck,BB/SAA
UID:C7EF1344A4C1E044BDA82F13BA9FE6A1:
DTSTAMP:2026-04-21T06:49:23Z:
SUMMARY:Almost Pro at Train Wreck
DESCRIPTION;ENCODING=QUOTED-PRINTABLE:Almost Pro at Train Wreck=0D=0A Time: 8:30 PM=0D=0A Location: Hidden Valley, Field 1
CLASS:PUBLIC
PRIORITY:5
BEGIN:VALARM
TRIGGER:-PT330M
ACTION:DISPLAY
DESCRIPTION:Reminder
END:VALARM
END:VEVENT
BEGIN:VEVENT
DTSTART:2016-05-12T03:30:00Z
DTEND:2016-05-12T06:00:00Z
LOCATION:HV1: Hidden Valley, Field 1
CATEGORIES:Softball,Train Wreck,BB/SAA
UID:71CBC695853AB14EAE4FF94A3186C7E:
DTSTAMP:2026-04-21T06:49:23Z:
SUMMARY:Train Wreck at Mad Dogs
DESCRIPTION;ENCODING=QUOTED-PRINTABLE:Train Wreck at Mad Dogs=0D=0A Time: 8:30 PM=0D=0A Location: Hidden Valley, Field 1
CLASS:PUBLIC
PRIORITY:5
BEGIN:VALARM
TRIGGER:-PT330M
ACTION:DISPLAY
DESCRIPTION:Reminder
END:VALARM
END:VEVENT
BEGIN:VEVENT
DTSTART:2016-05-19T01:00:00Z
DTEND:2016-05-19T03:30:00Z
LOCATION:HV1: Hidden Valley, Field 1
CATEGORIES:Softball,Train Wreck,BB/SAA
UID:54AE18A7CE6CBA42A19143FEC7DA31D:
DTSTAMP:2026-04-21T06:49:23Z:
SUMMARY:Train Wreck at USCutter
DESCRIPTION;ENCODING=QUOTED-PRINTABLE:Train Wreck at USCutter=0D=0A Time: 6:00 PM=0D=0A Location: Hidden Valley, Field 1
CLASS:PUBLIC
PRIORITY:5
BEGIN:VALARM
TRIGGER:-PT180M
ACTION:DISPLAY
DESCRIPTION:Reminder
END:VALARM
END:VEVENT
BEGIN:VEVENT
DTSTART:2016-05-26T03:30:00Z
DTEND:2016-05-26T06:00:00Z
LOCATION:HP1: Highland Park, Field 1
CATEGORIES:Softball,Train Wreck,BB/SAA
UID:AB29AC77794E84F85DDBB2BB3A988A:
DTSTAMP:2026-04-21T06:49:23Z:
SUMMARY:Manchild United at Train Wreck
DESCRIPTION;ENCODING=QUOTED-PRINTABLE:Manchild United at Train Wreck=0D=0A Time: 8:30 PM=0D=0A Location: Highland Park, Field 1
CLASS:PUBLIC
PRIORITY:5
BEGIN:VALARM
TRIGGER:-PT330M
ACTION:DISPLAY
DESCRIPTION:Reminder
END:VALARM
END:VEVENT
BEGIN:VEVENT
DTSTART:2016-06-02T01:00:00Z
DTEND:2016-06-02T03:30:00Z
LOCATION:HV1: Hidden Valley, Field 1
CATEGORIES:Softball,Train Wreck,BB/SAA
UID:EA5C7255BFEF4F9C4206ADBB8939:
DTSTAMP:2026-04-21T06:49:23Z:
SUMMARY:Team Shocker at Train Wreck
DESCRIPTION;ENCODING=QUOTED-PRINTABLE:Team Shocker at Train Wreck=0D=0A Time: 6:00 PM=0D=0A Location: Hidden Valley, Field 1
CLASS:PUBLIC
PRIORITY:5
BEGIN:VALARM
TRIGGER:-PT180M
ACTION:DISPLAY
DESCRIPTION:Reminder
END:VALARM
END:VEVENT
BEGIN:VEVENT
DTSTART:2016-06-09T01:00:00Z
DTEND:2016-06-09T03:30:00Z
LOCATION:HP1: Highland Park, Field 1
CATEGORIES:Softball,Train Wreck,BB/SAA
UID:3EA92F7E7ACAD44BA2E43DB78F383925:
DTSTAMP:2026-04-21T06:49:23Z:
SUMMARY:Bellevue Presbyterian at Train Wreck
DESCRIPTION;ENCODING=QUOTED-PRINTABLE:Bellevue Presbyterian at Train Wreck=0D=0A Time: 6:00 PM=0D=0A Location: Highland Park, Field 1
CLASS:PUBLIC
PRIORITY:5
BEGIN:VALARM
TRIGGER:-PT180M
ACTION:DISPLAY
DESCRIPTION:Reminder
END:VALARM
END:VEVENT
BEGIN:VEVENT
DTSTART:2016-06-09T03:45:00Z
DTEND:2016-06-09T06:15:00Z
LOCATION:HP1: Highland Park, Field 1
CATEGORIES:Softball,Train Wreck,BB/SAA
UID:92A6B8DCADA0144C88C77113B227884:
DTSTAMP:2026-04-21T06:49:23Z:
SUMMARY:Train Wreck at Almost Pro
DESCRIPTION;ENCODING=QUOTED-PRINTABLE:Train Wreck at Almost Pro=0D=0A Time: 8:45 PM=0D=0A Location: Highland Park, Field 1
CLASS:PUBLIC
PRIORITY:5
BEGIN:VALARM
TRIGGER:-PT345M
ACTION:DISPLAY
DESCRIPTION:Reminder
END:VALARM
END:VEVENT
END:VCALENDAR
