BEGIN:VCALENDAR
PRODID:-//Microsoft Corporation//Outlook 11.0 MIMEDIR//EN
VERSION:2.0
METHOD:PUBLISH
BEGIN:VEVENT
DTSTART:2016-04-14T03:30:00Z
DTEND:2016-04-14T06:00:00Z
LOCATION:MM6: Marymoor, Field 6
CATEGORIES:Softball,Team Shocker,BB/SAA
UID:AB3483A76E4DDF40A479F733321336C6:
DTSTAMP:2026-04-21T06:50:52Z:
SUMMARY:Train Wreck at Team Shocker
DESCRIPTION;ENCODING=QUOTED-PRINTABLE:Train Wreck at Team Shocker=0D=0A Time: 8:30 PM=0D=0A Location: Marymoor, Field 6
CLASS:PUBLIC
PRIORITY:5
BEGIN:VALARM
TRIGGER:-PT330M
ACTION:DISPLAY
DESCRIPTION:Reminder
END:VALARM
END:VEVENT
BEGIN:VEVENT
DTSTART:2016-04-21T01:00:00Z
DTEND:2016-04-21T03:30:00Z
LOCATION:MM8: Marymoor, Field 8
CATEGORIES:Softball,Team Shocker,BB/SAA
UID:369A24C8C9479E47B2CCE711E47EBEB0:
DTSTAMP:2026-04-21T06:50:52Z:
SUMMARY:Team Shocker at Manchild United
DESCRIPTION;ENCODING=QUOTED-PRINTABLE:Team Shocker at Manchild United=0D=0A Time: 6:00 PM=0D=0A Location: Marymoor, Field 8
CLASS:PUBLIC
PRIORITY:5
BEGIN:VALARM
TRIGGER:-PT180M
ACTION:DISPLAY
DESCRIPTION:Reminder
END:VALARM
END:VEVENT
BEGIN:VEVENT
DTSTART:2016-04-28T01:00:00Z
DTEND:2016-04-28T03:30:00Z
LOCATION:HP1: Highland Park, Field 1
CATEGORIES:Softball,Team Shocker,BB/SAA
UID:483CA3F8F0FA1F49A3639DF9356362F4:
DTSTAMP:2026-04-21T06:50:52Z:
SUMMARY:Team Shocker at Mad Dogs
DESCRIPTION;ENCODING=QUOTED-PRINTABLE:Team Shocker at Mad Dogs=0D=0A Time: 6:00 PM=0D=0A Location: Highland Park, Field 1
CLASS:PUBLIC
PRIORITY:5
BEGIN:VALARM
TRIGGER:-PT180M
ACTION:DISPLAY
DESCRIPTION:Reminder
END:VALARM
END:VEVENT
BEGIN:VEVENT
DTSTART:2016-05-05T01:00:00Z
DTEND:2016-05-05T03:30:00Z
LOCATION:MM7: Marymoor, Field 7
CATEGORIES:Softball,Team Shocker,BB/SAA
UID:174F62E33219BB428F779781B5FF58A4:
DTSTAMP:2026-04-21T06:50:52Z:
SUMMARY:Strikers at Team Shocker
DESCRIPTION;ENCODING=QUOTED-PRINTABLE:Strikers at Team Shocker=0D=0A Time: 6:00 PM=0D=0A Location: Marymoor, Field 7
CLASS:PUBLIC
PRIORITY:5
BEGIN:VALARM
TRIGGER:-PT180M
ACTION:DISPLAY
DESCRIPTION:Reminder
END:VALARM
END:VEVENT
BEGIN:VEVENT
DTSTART:2016-05-12T03:30:00Z
DTEND:2016-05-12T06:00:00Z
LOCATION:MM8: Marymoor, Field 8
CATEGORIES:Softball,Team Shocker,BB/SAA
UID:812721CD80DF634A8137D4A079F069:
DTSTAMP:2026-04-21T06:50:52Z:
SUMMARY:Team Shocker at USCutter
DESCRIPTION;ENCODING=QUOTED-PRINTABLE:Team Shocker at USCutter=0D=0A Time: 8:30 PM=0D=0A Location: Marymoor, Field 8
CLASS:PUBLIC
PRIORITY:5
BEGIN:VALARM
TRIGGER:-PT330M
ACTION:DISPLAY
DESCRIPTION:Reminder
END:VALARM
END:VEVENT
BEGIN:VEVENT
DTSTART:2016-05-19T03:30:00Z
DTEND:2016-05-19T06:00:00Z
LOCATION:HP1: Highland Park, Field 1
CATEGORIES:Softball,Team Shocker,BB/SAA
UID:28631BEC69238C488734BB5A583DAA61:
DTSTAMP:2026-04-21T06:50:52Z:
SUMMARY:Bellevue Presbyterian at Team Shocker
DESCRIPTION;ENCODING=QUOTED-PRINTABLE:Bellevue Presbyterian at Team Shocker=0D=0A Time: 8:30 PM=0D=0A Location: Highland Park, Field 1
CLASS:PUBLIC
PRIORITY:5
BEGIN:VALARM
TRIGGER:-PT330M
ACTION:DISPLAY
DESCRIPTION:Reminder
END:VALARM
END:VEVENT
BEGIN:VEVENT
DTSTART:2016-05-26T01:00:00Z
DTEND:2016-05-26T03:30:00Z
LOCATION:HP1: Highland Park, Field 1
CATEGORIES:Softball,Team Shocker,BB/SAA
UID:EC6425B5B9B5D74595B5FF225B57964C:
DTSTAMP:2026-04-21T06:50:52Z:
SUMMARY:Almost Pro at Team Shocker
DESCRIPTION;ENCODING=QUOTED-PRINTABLE:Almost Pro at Team Shocker=0D=0A Time: 6:00 PM=0D=0A Location: Highland Park, Field 1
CLASS:PUBLIC
PRIORITY:5
BEGIN:VALARM
TRIGGER:-PT180M
ACTION:DISPLAY
DESCRIPTION:Reminder
END:VALARM
END:VEVENT
BEGIN:VEVENT
DTSTART:2016-06-02T01:00:00Z
DTEND:2016-06-02T03:30:00Z
LOCATION:HV1: Hidden Valley, Field 1
CATEGORIES:Softball,Team Shocker,BB/SAA
UID:45CDA69746AB8E40A2628A4719999B6:
DTSTAMP:2026-04-21T06:50:52Z:
SUMMARY:Team Shocker at Train Wreck
DESCRIPTION;ENCODING=QUOTED-PRINTABLE:Team Shocker at Train Wreck=0D=0A Time: 6:00 PM=0D=0A Location: Hidden Valley, Field 1
CLASS:PUBLIC
PRIORITY:5
BEGIN:VALARM
TRIGGER:-PT180M
ACTION:DISPLAY
DESCRIPTION:Reminder
END:VALARM
END:VEVENT
BEGIN:VEVENT
DTSTART:2016-06-09T02:30:00Z
DTEND:2016-06-09T05:00:00Z
LOCATION:HP1: Highland Park, Field 1
CATEGORIES:Softball,Team Shocker,BB/SAA
UID:81FE9C507D449744A09DF84BC59F7D:
DTSTAMP:2026-04-21T06:50:52Z:
SUMMARY:Team Shocker at Almost Pro
DESCRIPTION;ENCODING=QUOTED-PRINTABLE:Team Shocker at Almost Pro=0D=0A Time: 7:30 PM=0D=0A Location: Highland Park, Field 1
CLASS:PUBLIC
PRIORITY:5
BEGIN:VALARM
TRIGGER:-PT270M
ACTION:DISPLAY
DESCRIPTION:Reminder
END:VALARM
END:VEVENT
END:VCALENDAR
