BEGIN:VCALENDAR
PRODID:-//Microsoft Corporation//Outlook 11.0 MIMEDIR//EN
VERSION:2.0
METHOD:PUBLISH
BEGIN:VEVENT
DTSTART:2016-04-14T01:00:00Z
DTEND:2016-04-14T03:30:00Z
LOCATION:MM8: Marymoor, Field 8
CATEGORIES:Softball,Bellevue Presbyterian,BB/SAA
UID:D4E051E7229D8E498E2E7EF38F2C58E2:
DTSTAMP:2026-04-23T08:44:28Z:
SUMMARY:Bellevue Presbyterian at Manchild United
DESCRIPTION;ENCODING=QUOTED-PRINTABLE:Bellevue Presbyterian at Manchild United=0D=0A Time: 6:00 PM=0D=0A Location: Marymoor, Field 8
CLASS:PUBLIC
PRIORITY:5
BEGIN:VALARM
TRIGGER:-PT180M
ACTION:DISPLAY
DESCRIPTION:Reminder
END:VALARM
END:VEVENT
BEGIN:VEVENT
DTSTART:2016-04-21T03:30:00Z
DTEND:2016-04-21T06:00:00Z
LOCATION:HP1: Highland Park, Field 1
CATEGORIES:Softball,Bellevue Presbyterian,BB/SAA
UID:8173A3F7DB3854E94514F6A211DD58:
DTSTAMP:2026-04-23T08:44:28Z:
SUMMARY:USCutter at Bellevue Presbyterian
DESCRIPTION;ENCODING=QUOTED-PRINTABLE:USCutter at Bellevue Presbyterian=0D=0A Time: 8:30 PM=0D=0A Location: Highland Park, Field 1
CLASS:PUBLIC
PRIORITY:5
BEGIN:VALARM
TRIGGER:-PT330M
ACTION:DISPLAY
DESCRIPTION:Reminder
END:VALARM
END:VEVENT
BEGIN:VEVENT
DTSTART:2016-04-28T01:00:00Z
DTEND:2016-04-28T03:30:00Z
LOCATION:MM7: Marymoor, Field 7
CATEGORIES:Softball,Bellevue Presbyterian,BB/SAA
UID:82F8B1C8606DB344AF4E7B51089E9E8:
DTSTAMP:2026-04-23T08:44:28Z:
SUMMARY:Bellevue Presbyterian at Train Wreck
DESCRIPTION;ENCODING=QUOTED-PRINTABLE:Bellevue Presbyterian at Train Wreck=0D=0A Time: 6:00 PM=0D=0A Location: Marymoor, Field 7
CLASS:PUBLIC
PRIORITY:5
BEGIN:VALARM
TRIGGER:-PT180M
ACTION:DISPLAY
DESCRIPTION:Reminder
END:VALARM
END:VEVENT
BEGIN:VEVENT
DTSTART:2016-05-05T01:00:00Z
DTEND:2016-05-05T03:30:00Z
LOCATION:HP1: Highland Park, Field 1
CATEGORIES:Softball,Bellevue Presbyterian,BB/SAA
UID:D26EB639FF3E6F4888FB99E5FE72BA4:
DTSTAMP:2026-04-23T08:44:28Z:
SUMMARY:Mad Dogs at Bellevue Presbyterian
DESCRIPTION;ENCODING=QUOTED-PRINTABLE:Mad Dogs at Bellevue Presbyterian=0D=0A Time: 6:00 PM=0D=0A Location: Highland Park, Field 1
CLASS:PUBLIC
PRIORITY:5
BEGIN:VALARM
TRIGGER:-PT180M
ACTION:DISPLAY
DESCRIPTION:Reminder
END:VALARM
END:VEVENT
BEGIN:VEVENT
DTSTART:2016-05-12T03:30:00Z
DTEND:2016-05-12T06:00:00Z
LOCATION:HP1: Highland Park, Field 1
CATEGORIES:Softball,Bellevue Presbyterian,BB/SAA
UID:45265782262D214E9E5171E9EF57AB11:
DTSTAMP:2026-04-23T08:44:28Z:
SUMMARY:Bellevue Presbyterian at Almost Pro
DESCRIPTION;ENCODING=QUOTED-PRINTABLE:Bellevue Presbyterian at Almost Pro=0D=0A Time: 8:30 PM=0D=0A Location: Highland Park, Field 1
CLASS:PUBLIC
PRIORITY:5
BEGIN:VALARM
TRIGGER:-PT330M
ACTION:DISPLAY
DESCRIPTION:Reminder
END:VALARM
END:VEVENT
BEGIN:VEVENT
DTSTART:2016-05-19T03:30:00Z
DTEND:2016-05-19T06:00:00Z
LOCATION:HP1: Highland Park, Field 1
CATEGORIES:Softball,Bellevue Presbyterian,BB/SAA
UID:578B3729B942744E8A60A21249C5A050:
DTSTAMP:2026-04-23T08:44:28Z:
SUMMARY:Bellevue Presbyterian at Team Shocker
DESCRIPTION;ENCODING=QUOTED-PRINTABLE:Bellevue Presbyterian at Team Shocker=0D=0A Time: 8:30 PM=0D=0A Location: Highland Park, Field 1
CLASS:PUBLIC
PRIORITY:5
BEGIN:VALARM
TRIGGER:-PT330M
ACTION:DISPLAY
DESCRIPTION:Reminder
END:VALARM
END:VEVENT
BEGIN:VEVENT
DTSTART:2016-05-26T03:30:00Z
DTEND:2016-05-26T06:00:00Z
LOCATION:HV1: Hidden Valley, Field 1
CATEGORIES:Softball,Bellevue Presbyterian,BB/SAA
UID:FDF52EA16DF2904A82302117CA8EE228:
DTSTAMP:2026-04-23T08:44:28Z:
SUMMARY:Strikers at Bellevue Presbyterian
DESCRIPTION;ENCODING=QUOTED-PRINTABLE:Strikers at Bellevue Presbyterian=0D=0A Time: 8:30 PM=0D=0A Location: Hidden Valley, Field 1
CLASS:PUBLIC
PRIORITY:5
BEGIN:VALARM
TRIGGER:-PT330M
ACTION:DISPLAY
DESCRIPTION:Reminder
END:VALARM
END:VEVENT
BEGIN:VEVENT
DTSTART:2016-06-02T01:00:00Z
DTEND:2016-06-02T03:30:00Z
LOCATION:HP1: Highland Park, Field 1
CATEGORIES:Softball,Bellevue Presbyterian,BB/SAA
UID:23DA6810B9DB764292A5A3AB8817ECD1:
DTSTAMP:2026-04-23T08:44:28Z:
SUMMARY:Manchild United at Bellevue Presbyterian
DESCRIPTION;ENCODING=QUOTED-PRINTABLE:Manchild United at Bellevue Presbyterian=0D=0A Time: 6:00 PM=0D=0A Location: Highland Park, Field 1
CLASS:PUBLIC
PRIORITY:5
BEGIN:VALARM
TRIGGER:-PT180M
ACTION:DISPLAY
DESCRIPTION:Reminder
END:VALARM
END:VEVENT
BEGIN:VEVENT
DTSTART:2016-06-09T01:00:00Z
DTEND:2016-06-09T03:30:00Z
LOCATION:HP1: Highland Park, Field 1
CATEGORIES:Softball,Bellevue Presbyterian,BB/SAA
UID:D864F1C5A229284389605EFAA6EE3AC8:
DTSTAMP:2026-04-23T08:44:28Z:
SUMMARY:Bellevue Presbyterian at Train Wreck
DESCRIPTION;ENCODING=QUOTED-PRINTABLE:Bellevue Presbyterian at Train Wreck=0D=0A Time: 6:00 PM=0D=0A Location: Highland Park, Field 1
CLASS:PUBLIC
PRIORITY:5
BEGIN:VALARM
TRIGGER:-PT180M
ACTION:DISPLAY
DESCRIPTION:Reminder
END:VALARM
END:VEVENT
END:VCALENDAR
