BEGIN:VCALENDAR
PRODID:-//Microsoft Corporation//Outlook 11.0 MIMEDIR//EN
VERSION:2.0
METHOD:PUBLISH
BEGIN:VEVENT
DTSTART:2016-04-15T01:00:00Z
DTEND:2016-04-15T03:30:00Z
LOCATION:HV1: Hidden Valley, Field 1
CATEGORIES:Softball,Playing it Hard!,BB/SAA
UID:10C1F639EA9504ABBA5CF0D4F1554A:
DTSTAMP:2026-04-23T11:21:27Z:
SUMMARY:Playing it Hard! at I'd Hit It
DESCRIPTION;ENCODING=QUOTED-PRINTABLE:Playing it Hard! at I'd Hit It=0D=0A Time: 6:00 PM=0D=0A Location: Hidden Valley, Field 1
CLASS:PUBLIC
PRIORITY:5
BEGIN:VALARM
TRIGGER:-PT180M
ACTION:DISPLAY
DESCRIPTION:Reminder
END:VALARM
END:VEVENT
BEGIN:VEVENT
DTSTART:2016-04-22T03:30:00Z
DTEND:2016-04-22T06:00:00Z
LOCATION:HV1: Hidden Valley, Field 1
CATEGORIES:Softball,Playing it Hard!,BB/SAA
UID:8B32AC86B4F5A74FAFFB6D6E943CD91:
DTSTAMP:2026-04-23T11:21:27Z:
SUMMARY:Playing it Hard! at Balls Deep
DESCRIPTION;ENCODING=QUOTED-PRINTABLE:Playing it Hard! at Balls Deep=0D=0A Time: 8:30 PM=0D=0A Location: Hidden Valley, Field 1
CLASS:PUBLIC
PRIORITY:5
BEGIN:VALARM
TRIGGER:-PT330M
ACTION:DISPLAY
DESCRIPTION:Reminder
END:VALARM
END:VEVENT
BEGIN:VEVENT
DTSTART:2016-04-29T01:00:00Z
DTEND:2016-04-29T03:30:00Z
LOCATION:HV1: Hidden Valley, Field 1
CATEGORIES:Softball,Playing it Hard!,BB/SAA
UID:BAC4A38B50928B439F7B30C83891E8ED:
DTSTAMP:2026-04-23T11:21:27Z:
SUMMARY:Goose Pub Wingmen at Playing it Hard!
DESCRIPTION;ENCODING=QUOTED-PRINTABLE:Goose Pub Wingmen at Playing it Hard!=0D=0A Time: 6:00 PM=0D=0A Location: Hidden Valley, Field 1
CLASS:PUBLIC
PRIORITY:5
BEGIN:VALARM
TRIGGER:-PT180M
ACTION:DISPLAY
DESCRIPTION:Reminder
END:VALARM
END:VEVENT
BEGIN:VEVENT
DTSTART:2016-05-06T03:30:00Z
DTEND:2016-05-06T06:00:00Z
LOCATION:HP1: Highland Park, Field 1
CATEGORIES:Softball,Playing it Hard!,BB/SAA
UID:1393CD8FDAE46E4591495FA71E6D854:
DTSTAMP:2026-04-23T11:21:27Z:
SUMMARY:Playing it Hard! at Carpet to Go
DESCRIPTION;ENCODING=QUOTED-PRINTABLE:Playing it Hard! at Carpet to Go=0D=0A Time: 8:30 PM=0D=0A Location: Highland Park, Field 1
CLASS:PUBLIC
PRIORITY:5
BEGIN:VALARM
TRIGGER:-PT330M
ACTION:DISPLAY
DESCRIPTION:Reminder
END:VALARM
END:VEVENT
BEGIN:VEVENT
DTSTART:2016-05-13T01:00:00Z
DTEND:2016-05-13T03:30:00Z
LOCATION:HV1: Hidden Valley, Field 1
CATEGORIES:Softball,Playing it Hard!,BB/SAA
UID:D7A65FD9C335F449AAEF6AA4FAC3B21F:
DTSTAMP:2026-04-23T11:21:27Z:
SUMMARY:Highwinds at Playing it Hard!
DESCRIPTION;ENCODING=QUOTED-PRINTABLE:Highwinds at Playing it Hard!=0D=0A Time: 6:00 PM=0D=0A Location: Hidden Valley, Field 1
CLASS:PUBLIC
PRIORITY:5
BEGIN:VALARM
TRIGGER:-PT180M
ACTION:DISPLAY
DESCRIPTION:Reminder
END:VALARM
END:VEVENT
BEGIN:VEVENT
DTSTART:2016-05-20T01:00:00Z
DTEND:2016-05-20T03:30:00Z
LOCATION:HV1: Hidden Valley, Field 1
CATEGORIES:Softball,Playing it Hard!,BB/SAA
UID:BACC6CAD4C743B40B2385ED138BD3EA1:
DTSTAMP:2026-04-23T11:21:27Z:
SUMMARY:Balls Deep at Playing it Hard!
DESCRIPTION;ENCODING=QUOTED-PRINTABLE:Balls Deep at Playing it Hard!=0D=0A Time: 6:00 PM=0D=0A Location: Hidden Valley, Field 1
CLASS:PUBLIC
PRIORITY:5
BEGIN:VALARM
TRIGGER:-PT180M
ACTION:DISPLAY
DESCRIPTION:Reminder
END:VALARM
END:VEVENT
BEGIN:VEVENT
DTSTART:2016-05-27T01:00:00Z
DTEND:2016-05-27T03:30:00Z
LOCATION:HV1: Hidden Valley, Field 1
CATEGORIES:Softball,Playing it Hard!,BB/SAA
UID:E6C1F19D8FA0A941AFD3A996B08CB0E2:
DTSTAMP:2026-04-23T11:21:27Z:
SUMMARY:Playing it Hard! at Goose Pub Wingmen
DESCRIPTION;ENCODING=QUOTED-PRINTABLE:Playing it Hard! at Goose Pub Wingmen=0D=0A Time: 6:00 PM=0D=0A Location: Hidden Valley, Field 1
CLASS:PUBLIC
PRIORITY:5
BEGIN:VALARM
TRIGGER:-PT180M
ACTION:DISPLAY
DESCRIPTION:Reminder
END:VALARM
END:VEVENT
BEGIN:VEVENT
DTSTART:2016-06-03T03:30:00Z
DTEND:2016-06-03T06:00:00Z
LOCATION:HV1: Hidden Valley, Field 1
CATEGORIES:Softball,Playing it Hard!,BB/SAA
UID:E99784F19F2AB945BD77116F2D9F849:
DTSTAMP:2026-04-23T11:21:27Z:
SUMMARY:Carpet to Go at Playing it Hard!
DESCRIPTION;ENCODING=QUOTED-PRINTABLE:Carpet to Go at Playing it Hard!=0D=0A Time: 8:30 PM=0D=0A Location: Hidden Valley, Field 1
CLASS:PUBLIC
PRIORITY:5
BEGIN:VALARM
TRIGGER:-PT330M
ACTION:DISPLAY
DESCRIPTION:Reminder
END:VALARM
END:VEVENT
BEGIN:VEVENT
DTSTART:2016-06-10T01:00:00Z
DTEND:2016-06-10T03:30:00Z
LOCATION:HV1: Hidden Valley, Field 1
CATEGORIES:Softball,Playing it Hard!,BB/SAA
UID:E644F9409145A746AA1E738C8C468E9:
DTSTAMP:2026-04-23T11:21:27Z:
SUMMARY:Balls Deep at Playing it Hard!
DESCRIPTION;ENCODING=QUOTED-PRINTABLE:Balls Deep at Playing it Hard!=0D=0A Time: 6:00 PM=0D=0A Location: Hidden Valley, Field 1
CLASS:PUBLIC
PRIORITY:5
BEGIN:VALARM
TRIGGER:-PT180M
ACTION:DISPLAY
DESCRIPTION:Reminder
END:VALARM
END:VEVENT
END:VCALENDAR
