BEGIN:VCALENDAR
PRODID:-//Microsoft Corporation//Outlook 11.0 MIMEDIR//EN
VERSION:2.0
METHOD:PUBLISH
BEGIN:VEVENT
DTSTART:2016-04-15T03:30:00Z
DTEND:2016-04-15T06:00:00Z
LOCATION:HP1: Highland Park, Field 1
CATEGORIES:Softball,Goose Pub Wingmen,BB/SAA
UID:C3ECFDF2F984588DAEFEFE8AA68FB:
DTSTAMP:2026-04-23T11:37:29Z:
SUMMARY:Carpet to Go at Goose Pub Wingmen
DESCRIPTION;ENCODING=QUOTED-PRINTABLE:Carpet to Go at Goose Pub Wingmen=0D=0A Time: 8:30 PM=0D=0A Location: Highland Park, Field 1
CLASS:PUBLIC
PRIORITY:5
BEGIN:VALARM
TRIGGER:-PT330M
ACTION:DISPLAY
DESCRIPTION:Reminder
END:VALARM
END:VEVENT
BEGIN:VEVENT
DTSTART:2016-04-22T01:00:00Z
DTEND:2016-04-22T03:30:00Z
LOCATION:HV1: Hidden Valley, Field 1
CATEGORIES:Softball,Goose Pub Wingmen,BB/SAA
UID:9BFCBA6BCBC35640ACB5DE15B29967FB:
DTSTAMP:2026-04-23T11:37:29Z:
SUMMARY:Goose Pub Wingmen at Highwinds
DESCRIPTION;ENCODING=QUOTED-PRINTABLE:Goose Pub Wingmen at Highwinds=0D=0A Time: 6:00 PM=0D=0A Location: Hidden Valley, Field 1
CLASS:PUBLIC
PRIORITY:5
BEGIN:VALARM
TRIGGER:-PT180M
ACTION:DISPLAY
DESCRIPTION:Reminder
END:VALARM
END:VEVENT
BEGIN:VEVENT
DTSTART:2016-04-29T01:00:00Z
DTEND:2016-04-29T03:30:00Z
LOCATION:HV1: Hidden Valley, Field 1
CATEGORIES:Softball,Goose Pub Wingmen,BB/SAA
UID:2FE960E84DDA9645896657DD1ADBBB6:
DTSTAMP:2026-04-23T11:37:29Z:
SUMMARY:Goose Pub Wingmen at Playing it Hard!
DESCRIPTION;ENCODING=QUOTED-PRINTABLE:Goose Pub Wingmen at Playing it Hard!=0D=0A Time: 6:00 PM=0D=0A Location: Hidden Valley, Field 1
CLASS:PUBLIC
PRIORITY:5
BEGIN:VALARM
TRIGGER:-PT180M
ACTION:DISPLAY
DESCRIPTION:Reminder
END:VALARM
END:VEVENT
BEGIN:VEVENT
DTSTART:2016-05-06T03:30:00Z
DTEND:2016-05-06T06:00:00Z
LOCATION:HV1: Hidden Valley, Field 1
CATEGORIES:Softball,Goose Pub Wingmen,BB/SAA
UID:F0C5AB821E58B14EA379EFB708D7AEF:
DTSTAMP:2026-04-23T11:37:29Z:
SUMMARY:Balls Deep at Goose Pub Wingmen
DESCRIPTION;ENCODING=QUOTED-PRINTABLE:Balls Deep at Goose Pub Wingmen=0D=0A Time: 8:30 PM=0D=0A Location: Hidden Valley, Field 1
CLASS:PUBLIC
PRIORITY:5
BEGIN:VALARM
TRIGGER:-PT330M
ACTION:DISPLAY
DESCRIPTION:Reminder
END:VALARM
END:VEVENT
BEGIN:VEVENT
DTSTART:2016-05-13T01:00:00Z
DTEND:2016-05-13T03:30:00Z
LOCATION:HP1: Highland Park, Field 1
CATEGORIES:Softball,Goose Pub Wingmen,BB/SAA
UID:A58F464DF563654895DBE41827B5234:
DTSTAMP:2026-04-23T11:37:29Z:
SUMMARY:Goose Pub Wingmen at I'd Hit It
DESCRIPTION;ENCODING=QUOTED-PRINTABLE:Goose Pub Wingmen at I'd Hit It=0D=0A Time: 6:00 PM=0D=0A Location: Highland Park, Field 1
CLASS:PUBLIC
PRIORITY:5
BEGIN:VALARM
TRIGGER:-PT180M
ACTION:DISPLAY
DESCRIPTION:Reminder
END:VALARM
END:VEVENT
BEGIN:VEVENT
DTSTART:2016-05-20T01:00:00Z
DTEND:2016-05-20T03:30:00Z
LOCATION:HP1: Highland Park, Field 1
CATEGORIES:Softball,Goose Pub Wingmen,BB/SAA
UID:3D89E65FDA3CE24E9CAE1F7C6963853B:
DTSTAMP:2026-04-23T11:37:29Z:
SUMMARY:Highwinds at Goose Pub Wingmen
DESCRIPTION;ENCODING=QUOTED-PRINTABLE:Highwinds at Goose Pub Wingmen=0D=0A Time: 6:00 PM=0D=0A Location: Highland Park, Field 1
CLASS:PUBLIC
PRIORITY:5
BEGIN:VALARM
TRIGGER:-PT180M
ACTION:DISPLAY
DESCRIPTION:Reminder
END:VALARM
END:VEVENT
BEGIN:VEVENT
DTSTART:2016-05-27T01:00:00Z
DTEND:2016-05-27T03:30:00Z
LOCATION:HV1: Hidden Valley, Field 1
CATEGORIES:Softball,Goose Pub Wingmen,BB/SAA
UID:568C44EF3D2FDB439FEDB3C43AF96B4:
DTSTAMP:2026-04-23T11:37:29Z:
SUMMARY:Playing it Hard! at Goose Pub Wingmen
DESCRIPTION;ENCODING=QUOTED-PRINTABLE:Playing it Hard! at Goose Pub Wingmen=0D=0A Time: 6:00 PM=0D=0A Location: Hidden Valley, Field 1
CLASS:PUBLIC
PRIORITY:5
BEGIN:VALARM
TRIGGER:-PT180M
ACTION:DISPLAY
DESCRIPTION:Reminder
END:VALARM
END:VEVENT
BEGIN:VEVENT
DTSTART:2016-06-03T01:00:00Z
DTEND:2016-06-03T03:30:00Z
LOCATION:HP1: Highland Park, Field 1
CATEGORIES:Softball,Goose Pub Wingmen,BB/SAA
UID:C3D31CBFFF2D9340B85BF0ACE98026AC:
DTSTAMP:2026-04-23T11:37:29Z:
SUMMARY:Goose Pub Wingmen at Balls Deep
DESCRIPTION;ENCODING=QUOTED-PRINTABLE:Goose Pub Wingmen at Balls Deep=0D=0A Time: 6:00 PM=0D=0A Location: Highland Park, Field 1
CLASS:PUBLIC
PRIORITY:5
BEGIN:VALARM
TRIGGER:-PT180M
ACTION:DISPLAY
DESCRIPTION:Reminder
END:VALARM
END:VEVENT
BEGIN:VEVENT
DTSTART:2016-06-10T03:30:00Z
DTEND:2016-06-10T06:00:00Z
LOCATION:HV1: Hidden Valley, Field 1
CATEGORIES:Softball,Goose Pub Wingmen,BB/SAA
UID:73AF63FC3DBC8F45A4EC17229DEAD283:
DTSTAMP:2026-04-23T11:37:29Z:
SUMMARY:Highwinds at Goose Pub Wingmen
DESCRIPTION;ENCODING=QUOTED-PRINTABLE:Highwinds at Goose Pub Wingmen=0D=0A Time: 8:30 PM=0D=0A Location: Hidden Valley, Field 1
CLASS:PUBLIC
PRIORITY:5
BEGIN:VALARM
TRIGGER:-PT330M
ACTION:DISPLAY
DESCRIPTION:Reminder
END:VALARM
END:VEVENT
BEGIN:VEVENT
DTSTART:2016-06-17T01:00:00Z
DTEND:2016-06-17T03:30:00Z
LOCATION:HV1: Hidden Valley, Field 1
CATEGORIES:Softball,Goose Pub Wingmen,BB/SAA
UID:2E78D1F2B223A42BA3829709AC3B6C7:
DTSTAMP:2026-04-23T11:37:29Z:
SUMMARY:Goose Pub Wingmen at I'd Hit It
DESCRIPTION;ENCODING=QUOTED-PRINTABLE:Goose Pub Wingmen at I'd Hit It=0D=0A Time: 6:00 PM=0D=0A Location: Hidden Valley, Field 1
CLASS:PUBLIC
PRIORITY:5
BEGIN:VALARM
TRIGGER:-PT180M
ACTION:DISPLAY
DESCRIPTION:Reminder
END:VALARM
END:VEVENT
END:VCALENDAR
