BEGIN:VCALENDAR
PRODID:-//Microsoft Corporation//Outlook 11.0 MIMEDIR//EN
VERSION:2.0
METHOD:PUBLISH
BEGIN:VEVENT
DTSTART:2016-04-15T03:30:00Z
DTEND:2016-04-15T06:00:00Z
LOCATION:HP1: Highland Park, Field 1
CATEGORIES:Softball,Carpet to Go,BB/SAA
UID:DFC7284269805D439B7044B15D998E2B:
DTSTAMP:2026-04-23T11:22:07Z:
SUMMARY:Carpet to Go at Goose Pub Wingmen
DESCRIPTION;ENCODING=QUOTED-PRINTABLE:Carpet to Go at Goose Pub Wingmen=0D=0A Time: 8:30 PM=0D=0A Location: Highland Park, Field 1
CLASS:PUBLIC
PRIORITY:5
BEGIN:VALARM
TRIGGER:-PT330M
ACTION:DISPLAY
DESCRIPTION:Reminder
END:VALARM
END:VEVENT
BEGIN:VEVENT
DTSTART:2016-04-22T03:30:00Z
DTEND:2016-04-22T06:00:00Z
LOCATION:HP1: Highland Park, Field 1
CATEGORIES:Softball,Carpet to Go,BB/SAA
UID:FE66BE98BE30D4DA2554AABA95A5652:
DTSTAMP:2026-04-23T11:22:07Z:
SUMMARY:I'd Hit It at Carpet to Go
DESCRIPTION;ENCODING=QUOTED-PRINTABLE:I'd Hit It at Carpet to Go=0D=0A Time: 8:30 PM=0D=0A Location: Highland Park, Field 1
CLASS:PUBLIC
PRIORITY:5
BEGIN:VALARM
TRIGGER:-PT330M
ACTION:DISPLAY
DESCRIPTION:Reminder
END:VALARM
END:VEVENT
BEGIN:VEVENT
DTSTART:2016-04-29T03:30:00Z
DTEND:2016-04-29T06:00:00Z
LOCATION:HV1: Hidden Valley, Field 1
CATEGORIES:Softball,Carpet to Go,BB/SAA
UID:89E28B394517244AB916A243DF28B7:
DTSTAMP:2026-04-23T11:22:07Z:
SUMMARY:Carpet to Go at Highwinds
DESCRIPTION;ENCODING=QUOTED-PRINTABLE:Carpet to Go at Highwinds=0D=0A Time: 8:30 PM=0D=0A Location: Hidden Valley, Field 1
CLASS:PUBLIC
PRIORITY:5
BEGIN:VALARM
TRIGGER:-PT330M
ACTION:DISPLAY
DESCRIPTION:Reminder
END:VALARM
END:VEVENT
BEGIN:VEVENT
DTSTART:2016-05-06T03:30:00Z
DTEND:2016-05-06T06:00:00Z
LOCATION:HP1: Highland Park, Field 1
CATEGORIES:Softball,Carpet to Go,BB/SAA
UID:3E3856C490A3D248902B1450C1D4E2C:
DTSTAMP:2026-04-23T11:22:07Z:
SUMMARY:Playing it Hard! at Carpet to Go
DESCRIPTION;ENCODING=QUOTED-PRINTABLE:Playing it Hard! at Carpet to Go=0D=0A Time: 8:30 PM=0D=0A Location: Highland Park, Field 1
CLASS:PUBLIC
PRIORITY:5
BEGIN:VALARM
TRIGGER:-PT330M
ACTION:DISPLAY
DESCRIPTION:Reminder
END:VALARM
END:VEVENT
BEGIN:VEVENT
DTSTART:2016-05-13T03:30:00Z
DTEND:2016-05-13T06:00:00Z
LOCATION:HV1: Hidden Valley, Field 1
CATEGORIES:Softball,Carpet to Go,BB/SAA
UID:23A017C4CB462748AFE74423AD7F137:
DTSTAMP:2026-04-23T11:22:07Z:
SUMMARY:Carpet to Go at Balls Deep
DESCRIPTION;ENCODING=QUOTED-PRINTABLE:Carpet to Go at Balls Deep=0D=0A Time: 8:30 PM=0D=0A Location: Hidden Valley, Field 1
CLASS:PUBLIC
PRIORITY:5
BEGIN:VALARM
TRIGGER:-PT330M
ACTION:DISPLAY
DESCRIPTION:Reminder
END:VALARM
END:VEVENT
BEGIN:VEVENT
DTSTART:2016-05-20T03:30:00Z
DTEND:2016-05-20T06:00:00Z
LOCATION:HV1: Hidden Valley, Field 1
CATEGORIES:Softball,Carpet to Go,BB/SAA
UID:5AFDB0B0BD5E674785BCBD25B3901A1C:
DTSTAMP:2026-04-23T11:22:07Z:
SUMMARY:I'd Hit It at Carpet to Go
DESCRIPTION;ENCODING=QUOTED-PRINTABLE:I'd Hit It at Carpet to Go=0D=0A Time: 8:30 PM=0D=0A Location: Hidden Valley, Field 1
CLASS:PUBLIC
PRIORITY:5
BEGIN:VALARM
TRIGGER:-PT330M
ACTION:DISPLAY
DESCRIPTION:Reminder
END:VALARM
END:VEVENT
BEGIN:VEVENT
DTSTART:2016-05-27T03:30:00Z
DTEND:2016-05-27T06:00:00Z
LOCATION:HP1: Highland Park, Field 1
CATEGORIES:Softball,Carpet to Go,BB/SAA
UID:A64563A3E8BA941B1A1B6CE529A72C9:
DTSTAMP:2026-04-23T11:22:07Z:
SUMMARY:Highwinds at Carpet to Go
DESCRIPTION;ENCODING=QUOTED-PRINTABLE:Highwinds at Carpet to Go=0D=0A Time: 8:30 PM=0D=0A Location: Highland Park, Field 1
CLASS:PUBLIC
PRIORITY:5
BEGIN:VALARM
TRIGGER:-PT330M
ACTION:DISPLAY
DESCRIPTION:Reminder
END:VALARM
END:VEVENT
BEGIN:VEVENT
DTSTART:2016-06-03T03:30:00Z
DTEND:2016-06-03T06:00:00Z
LOCATION:HV1: Hidden Valley, Field 1
CATEGORIES:Softball,Carpet to Go,BB/SAA
UID:7BAA19FBB4C91945931D5424A86EFE85:
DTSTAMP:2026-04-23T11:22:07Z:
SUMMARY:Carpet to Go at Playing it Hard!
DESCRIPTION;ENCODING=QUOTED-PRINTABLE:Carpet to Go at Playing it Hard!=0D=0A Time: 8:30 PM=0D=0A Location: Hidden Valley, Field 1
CLASS:PUBLIC
PRIORITY:5
BEGIN:VALARM
TRIGGER:-PT330M
ACTION:DISPLAY
DESCRIPTION:Reminder
END:VALARM
END:VEVENT
BEGIN:VEVENT
DTSTART:2016-06-17T02:15:00Z
DTEND:2016-06-17T04:45:00Z
LOCATION:HV1: Hidden Valley, Field 1
CATEGORIES:Softball,Carpet to Go,BB/SAA
UID:F0AE303595DABF47849EA416CDF5B7FA:
DTSTAMP:2026-04-23T11:22:07Z:
SUMMARY:Highwinds at Carpet to Go
DESCRIPTION;ENCODING=QUOTED-PRINTABLE:Highwinds at Carpet to Go=0D=0A Time: 7:15 PM=0D=0A Location: Hidden Valley, Field 1
CLASS:PUBLIC
PRIORITY:5
BEGIN:VALARM
TRIGGER:-PT255M
ACTION:DISPLAY
DESCRIPTION:Reminder
END:VALARM
END:VEVENT
END:VCALENDAR
