BEGIN:VCALENDAR
PRODID:-//Microsoft Corporation//Outlook 11.0 MIMEDIR//EN
VERSION:2.0
METHOD:PUBLISH
BEGIN:VEVENT
DTSTART:2016-04-05T01:00:00Z
DTEND:2016-04-05T03:30:00Z
LOCATION:HP1: Highland Park, Field 1
CATEGORIES:Softball,Triple Play,BB/SAA
UID:DE3A61B534E9B2488F6C5134191B3A:
DTSTAMP:2026-04-21T07:16:16Z:
SUMMARY:Chix and Stix at Triple Play
DESCRIPTION;ENCODING=QUOTED-PRINTABLE:Chix and Stix at Triple Play=0D=0A Time: 6:00 PM=0D=0A Location: Highland Park, Field 1
CLASS:PUBLIC
PRIORITY:5
BEGIN:VALARM
TRIGGER:-PT180M
ACTION:DISPLAY
DESCRIPTION:Reminder
END:VALARM
END:VEVENT
BEGIN:VEVENT
DTSTART:2016-04-19T01:00:00Z
DTEND:2016-04-19T03:30:00Z
LOCATION:HV1: Hidden Valley, Field 1
CATEGORIES:Softball,Triple Play,BB/SAA
UID:6E39E3E03532F747B4A2A8AA82573152:
DTSTAMP:2026-04-21T07:16:16Z:
SUMMARY:Triple Play at Scared Hit-Less
DESCRIPTION;ENCODING=QUOTED-PRINTABLE:Triple Play at Scared Hit-Less=0D=0A Time: 6:00 PM=0D=0A Location: Hidden Valley, Field 1
CLASS:PUBLIC
PRIORITY:5
BEGIN:VALARM
TRIGGER:-PT180M
ACTION:DISPLAY
DESCRIPTION:Reminder
END:VALARM
END:VEVENT
BEGIN:VEVENT
DTSTART:2016-04-26T03:30:00Z
DTEND:2016-04-26T06:00:00Z
LOCATION:HV1: Hidden Valley, Field 1
CATEGORIES:Softball,Triple Play,BB/SAA
UID:C69C7A6695A9514786125F9A2BCB7EBE:
DTSTAMP:2026-04-21T07:16:16Z:
SUMMARY:Dreadsox at Triple Play
DESCRIPTION;ENCODING=QUOTED-PRINTABLE:Dreadsox at Triple Play=0D=0A Time: 8:30 PM=0D=0A Location: Hidden Valley, Field 1
CLASS:PUBLIC
PRIORITY:5
BEGIN:VALARM
TRIGGER:-PT330M
ACTION:DISPLAY
DESCRIPTION:Reminder
END:VALARM
END:VEVENT
BEGIN:VEVENT
DTSTART:2016-05-03T03:30:00Z
DTEND:2016-05-03T06:00:00Z
LOCATION:HV1: Hidden Valley, Field 1
CATEGORIES:Softball,Triple Play,BB/SAA
UID:CDD843764874EC4FAAD4AFD5419F617F:
DTSTAMP:2026-04-21T07:16:16Z:
SUMMARY:Fielder's Choice at Triple Play
DESCRIPTION;ENCODING=QUOTED-PRINTABLE:Fielder's Choice at Triple Play=0D=0A Time: 8:30 PM=0D=0A Location: Hidden Valley, Field 1
CLASS:PUBLIC
PRIORITY:5
BEGIN:VALARM
TRIGGER:-PT330M
ACTION:DISPLAY
DESCRIPTION:Reminder
END:VALARM
END:VEVENT
BEGIN:VEVENT
DTSTART:2016-05-10T01:00:00Z
DTEND:2016-05-10T03:30:00Z
LOCATION:HV1: Hidden Valley, Field 1
CATEGORIES:Softball,Triple Play,BB/SAA
UID:9719891BF722BC40879C51A7CBB2355:
DTSTAMP:2026-04-21T07:16:16Z:
SUMMARY:Triple Play at Pitches Be Crazy
DESCRIPTION;ENCODING=QUOTED-PRINTABLE:Triple Play at Pitches Be Crazy=0D=0A Time: 6:00 PM=0D=0A Location: Hidden Valley, Field 1
CLASS:PUBLIC
PRIORITY:5
BEGIN:VALARM
TRIGGER:-PT180M
ACTION:DISPLAY
DESCRIPTION:Reminder
END:VALARM
END:VEVENT
BEGIN:VEVENT
DTSTART:2016-05-17T01:00:00Z
DTEND:2016-05-17T03:30:00Z
LOCATION:MM7: Marymoor, Field 7
CATEGORIES:Softball,Triple Play,BB/SAA
UID:5DF0BB8BFC2EE54984AC82E035F549E9:
DTSTAMP:2026-04-21T07:16:16Z:
SUMMARY:Triple Play at Pirates
DESCRIPTION;ENCODING=QUOTED-PRINTABLE:Triple Play at Pirates=0D=0A Time: 6:00 PM=0D=0A Location: Marymoor, Field 7
CLASS:PUBLIC
PRIORITY:5
BEGIN:VALARM
TRIGGER:-PT180M
ACTION:DISPLAY
DESCRIPTION:Reminder
END:VALARM
END:VEVENT
BEGIN:VEVENT
DTSTART:2016-05-24T01:00:00Z
DTEND:2016-05-24T03:30:00Z
LOCATION:HP1: Highland Park, Field 1
CATEGORIES:Softball,Triple Play,BB/SAA
UID:EC1E30EA11A5442A423947E45FD1A76:
DTSTAMP:2026-04-21T07:16:16Z:
SUMMARY:Shotguns and Showels at Triple Play
DESCRIPTION;ENCODING=QUOTED-PRINTABLE:Shotguns and Showels at Triple Play=0D=0A Time: 6:00 PM=0D=0A Location: Highland Park, Field 1
CLASS:PUBLIC
PRIORITY:5
BEGIN:VALARM
TRIGGER:-PT180M
ACTION:DISPLAY
DESCRIPTION:Reminder
END:VALARM
END:VEVENT
BEGIN:VEVENT
DTSTART:2016-06-07T01:00:00Z
DTEND:2016-06-07T03:30:00Z
LOCATION:HV1: Hidden Valley, Field 1
CATEGORIES:Softball,Triple Play,BB/SAA
UID:EFA82ABBE19AF845807DE553B2F8F54:
DTSTAMP:2026-04-21T07:16:16Z:
SUMMARY:Triple Play at Fireballers
DESCRIPTION;ENCODING=QUOTED-PRINTABLE:Triple Play at Fireballers=0D=0A Time: 6:00 PM=0D=0A Location: Hidden Valley, Field 1
CLASS:PUBLIC
PRIORITY:5
BEGIN:VALARM
TRIGGER:-PT180M
ACTION:DISPLAY
DESCRIPTION:Reminder
END:VALARM
END:VEVENT
BEGIN:VEVENT
DTSTART:2016-06-21T02:30:00Z
DTEND:2016-06-21T05:00:00Z
LOCATION:HV1: Hidden Valley, Field 1
CATEGORIES:Softball,Triple Play,BB/SAA
UID:11831FC9B9ADBA45B0207ED81FF7FE61:
DTSTAMP:2026-04-21T07:16:16Z:
SUMMARY:Triple Play at Shotguns and Showels
DESCRIPTION;ENCODING=QUOTED-PRINTABLE:Triple Play at Shotguns and Showels=0D=0A Time: 7:30 PM=0D=0A Location: Hidden Valley, Field 1
CLASS:PUBLIC
PRIORITY:5
BEGIN:VALARM
TRIGGER:-PT270M
ACTION:DISPLAY
DESCRIPTION:Reminder
END:VALARM
END:VEVENT
END:VCALENDAR
