BEGIN:VCALENDAR
PRODID:-//Microsoft Corporation//Outlook 11.0 MIMEDIR//EN
VERSION:2.0
METHOD:PUBLISH
BEGIN:VEVENT
DTSTART:2016-04-05T01:00:00Z
DTEND:2016-04-05T03:30:00Z
LOCATION:MM7: Marymoor, Field 7
CATEGORIES:Softball,Scared Hit-Less,BB/SAA
UID:414641D570AB6246864CAA3EF6348DFC:
DTSTAMP:2026-04-21T05:44:50Z:
SUMMARY:Scared Hit-Less at Dreadsox
DESCRIPTION;ENCODING=QUOTED-PRINTABLE:Scared Hit-Less at Dreadsox=0D=0A Time: 6:00 PM=0D=0A Location: Marymoor, Field 7
CLASS:PUBLIC
PRIORITY:5
BEGIN:VALARM
TRIGGER:-PT180M
ACTION:DISPLAY
DESCRIPTION:Reminder
END:VALARM
END:VEVENT
BEGIN:VEVENT
DTSTART:2016-04-12T01:00:00Z
DTEND:2016-04-12T03:30:00Z
LOCATION:MM7: Marymoor, Field 7
CATEGORIES:Softball,Scared Hit-Less,BB/SAA
UID:C2D634BC8AA404A9C84B4B374959181:
DTSTAMP:2026-04-21T05:44:50Z:
SUMMARY:Fireballers at Scared Hit-Less
DESCRIPTION;ENCODING=QUOTED-PRINTABLE:Fireballers at Scared Hit-Less=0D=0A Time: 6:00 PM=0D=0A Location: Marymoor, Field 7
CLASS:PUBLIC
PRIORITY:5
BEGIN:VALARM
TRIGGER:-PT180M
ACTION:DISPLAY
DESCRIPTION:Reminder
END:VALARM
END:VEVENT
BEGIN:VEVENT
DTSTART:2016-04-19T01:00:00Z
DTEND:2016-04-19T03:30:00Z
LOCATION:HV1: Hidden Valley, Field 1
CATEGORIES:Softball,Scared Hit-Less,BB/SAA
UID:F92E35BD2039E74E935C204A3691911:
DTSTAMP:2026-04-21T05:44:50Z:
SUMMARY:Triple Play at Scared Hit-Less
DESCRIPTION;ENCODING=QUOTED-PRINTABLE:Triple Play at Scared Hit-Less=0D=0A Time: 6:00 PM=0D=0A Location: Hidden Valley, Field 1
CLASS:PUBLIC
PRIORITY:5
BEGIN:VALARM
TRIGGER:-PT180M
ACTION:DISPLAY
DESCRIPTION:Reminder
END:VALARM
END:VEVENT
BEGIN:VEVENT
DTSTART:2016-04-26T01:00:00Z
DTEND:2016-04-26T03:30:00Z
LOCATION:HP1: Highland Park, Field 1
CATEGORIES:Softball,Scared Hit-Less,BB/SAA
UID:2D6BEA8634B14143B6313BAC0914CF1:
DTSTAMP:2026-04-21T05:44:50Z:
SUMMARY:Scared Hit-Less at Fielder's Choice
DESCRIPTION;ENCODING=QUOTED-PRINTABLE:Scared Hit-Less at Fielder's Choice=0D=0A Time: 6:00 PM=0D=0A Location: Highland Park, Field 1
CLASS:PUBLIC
PRIORITY:5
BEGIN:VALARM
TRIGGER:-PT180M
ACTION:DISPLAY
DESCRIPTION:Reminder
END:VALARM
END:VEVENT
BEGIN:VEVENT
DTSTART:2016-05-03T01:00:00Z
DTEND:2016-05-03T03:30:00Z
LOCATION:MM7: Marymoor, Field 7
CATEGORIES:Softball,Scared Hit-Less,BB/SAA
UID:42D2C530F0EE6A4B9CF81396952F97ED:
DTSTAMP:2026-04-21T05:44:50Z:
SUMMARY:Chix and Stix at Scared Hit-Less
DESCRIPTION;ENCODING=QUOTED-PRINTABLE:Chix and Stix at Scared Hit-Less=0D=0A Time: 6:00 PM=0D=0A Location: Marymoor, Field 7
CLASS:PUBLIC
PRIORITY:5
BEGIN:VALARM
TRIGGER:-PT180M
ACTION:DISPLAY
DESCRIPTION:Reminder
END:VALARM
END:VEVENT
BEGIN:VEVENT
DTSTART:2016-05-10T03:30:00Z
DTEND:2016-05-10T06:00:00Z
LOCATION:HV1: Hidden Valley, Field 1
CATEGORIES:Softball,Scared Hit-Less,BB/SAA
UID:C62735C75AFE7E458286B233FA98D1B:
DTSTAMP:2026-04-21T05:44:50Z:
SUMMARY:Scared Hit-Less at Pirates
DESCRIPTION;ENCODING=QUOTED-PRINTABLE:Scared Hit-Less at Pirates=0D=0A Time: 8:30 PM=0D=0A Location: Hidden Valley, Field 1
CLASS:PUBLIC
PRIORITY:5
BEGIN:VALARM
TRIGGER:-PT330M
ACTION:DISPLAY
DESCRIPTION:Reminder
END:VALARM
END:VEVENT
BEGIN:VEVENT
DTSTART:2016-05-17T01:00:00Z
DTEND:2016-05-17T03:30:00Z
LOCATION:HP1: Highland Park, Field 1
CATEGORIES:Softball,Scared Hit-Less,BB/SAA
UID:71CB7643B358749B67E3DECC02AE730:
DTSTAMP:2026-04-21T05:44:50Z:
SUMMARY:Scared Hit-Less at Pitches Be Crazy
DESCRIPTION;ENCODING=QUOTED-PRINTABLE:Scared Hit-Less at Pitches Be Crazy=0D=0A Time: 6:00 PM=0D=0A Location: Highland Park, Field 1
CLASS:PUBLIC
PRIORITY:5
BEGIN:VALARM
TRIGGER:-PT180M
ACTION:DISPLAY
DESCRIPTION:Reminder
END:VALARM
END:VEVENT
BEGIN:VEVENT
DTSTART:2016-06-07T03:30:00Z
DTEND:2016-06-07T06:00:00Z
LOCATION:HV1: Hidden Valley, Field 1
CATEGORIES:Softball,Scared Hit-Less,BB/SAA
UID:9FCF9FB0487A46A6FDBD667C2CC419:
DTSTAMP:2026-04-21T05:44:50Z:
SUMMARY:Shotguns and Showels at Scared Hit-Less
DESCRIPTION;ENCODING=QUOTED-PRINTABLE:Shotguns and Showels at Scared Hit-Less=0D=0A Time: 8:30 PM=0D=0A Location: Hidden Valley, Field 1
CLASS:PUBLIC
PRIORITY:5
BEGIN:VALARM
TRIGGER:-PT330M
ACTION:DISPLAY
DESCRIPTION:Reminder
END:VALARM
END:VEVENT
BEGIN:VEVENT
DTSTART:2016-06-14T01:00:00Z
DTEND:2016-06-14T03:30:00Z
LOCATION:HP1: Highland Park, Field 1
CATEGORIES:Softball,Scared Hit-Less,BB/SAA
UID:F892AF6358D44345BA2B9FB3C29C4D76:
DTSTAMP:2026-04-21T05:44:50Z:
SUMMARY:Scared Hit-Less at Fielder's Choice
DESCRIPTION;ENCODING=QUOTED-PRINTABLE:Scared Hit-Less at Fielder's Choice=0D=0A Time: 6:00 PM=0D=0A Location: Highland Park, Field 1
CLASS:PUBLIC
PRIORITY:5
BEGIN:VALARM
TRIGGER:-PT180M
ACTION:DISPLAY
DESCRIPTION:Reminder
END:VALARM
END:VEVENT
BEGIN:VEVENT
DTSTART:2016-06-21T01:00:00Z
DTEND:2016-06-21T03:30:00Z
LOCATION:HV1: Hidden Valley, Field 1
CATEGORIES:Softball,Scared Hit-Less,BB/SAA
UID:854D898518D25C48A488634C2825A5CF:
DTSTAMP:2026-04-21T05:44:50Z:
SUMMARY:Scared Hit-Less at Pitches Be Crazy
DESCRIPTION;ENCODING=QUOTED-PRINTABLE:Scared Hit-Less at Pitches Be Crazy=0D=0A Time: 6:00 PM=0D=0A Location: Hidden Valley, Field 1
CLASS:PUBLIC
PRIORITY:5
BEGIN:VALARM
TRIGGER:-PT180M
ACTION:DISPLAY
DESCRIPTION:Reminder
END:VALARM
END:VEVENT
BEGIN:VEVENT
DTSTART:2016-06-21T04:00:00Z
DTEND:2016-06-21T06:30:00Z
LOCATION:HV1: Hidden Valley, Field 1
CATEGORIES:Softball,Scared Hit-Less,BB/SAA
UID:B57C23989246CB47A226255ED24ECA42:
DTSTAMP:2026-04-21T05:44:50Z:
SUMMARY:Scared Hit-Less at Shotguns and Showels
DESCRIPTION;ENCODING=QUOTED-PRINTABLE:Scared Hit-Less at Shotguns and Showels=0D=0A Time: 9:00 PM=0D=0A Location: Hidden Valley, Field 1
CLASS:PUBLIC
PRIORITY:5
BEGIN:VALARM
TRIGGER:-PT360M
ACTION:DISPLAY
DESCRIPTION:Reminder
END:VALARM
END:VEVENT
END:VCALENDAR
