BEGIN:VCALENDAR
PRODID:-//Microsoft Corporation//Outlook 11.0 MIMEDIR//EN
VERSION:2.0
METHOD:PUBLISH
BEGIN:VEVENT
DTSTART:2016-04-05T03:30:00Z
DTEND:2016-04-05T06:00:00Z
LOCATION:HV1: Hidden Valley, Field 1
CATEGORIES:Softball,Pitches Be Crazy,BB/SAA
UID:E9F88FB256E4548A9A321E82DB03649:
DTSTAMP:2026-04-21T07:16:58Z:
SUMMARY:Pitches Be Crazy at Fielder's Choice
DESCRIPTION;ENCODING=QUOTED-PRINTABLE:Pitches Be Crazy at Fielder's Choice=0D=0A Time: 8:30 PM=0D=0A Location: Hidden Valley, Field 1
CLASS:PUBLIC
PRIORITY:5
BEGIN:VALARM
TRIGGER:-PT330M
ACTION:DISPLAY
DESCRIPTION:Reminder
END:VALARM
END:VEVENT
BEGIN:VEVENT
DTSTART:2016-04-12T03:30:00Z
DTEND:2016-04-12T06:00:00Z
LOCATION:HV1: Hidden Valley, Field 1
CATEGORIES:Softball,Pitches Be Crazy,BB/SAA
UID:B6EF9C332E736F4BA27E452F4FC0413C:
DTSTAMP:2026-04-21T07:16:58Z:
SUMMARY:Pitches Be Crazy at Chix and Stix
DESCRIPTION;ENCODING=QUOTED-PRINTABLE:Pitches Be Crazy at Chix and Stix=0D=0A Time: 8:30 PM=0D=0A Location: Hidden Valley, Field 1
CLASS:PUBLIC
PRIORITY:5
BEGIN:VALARM
TRIGGER:-PT330M
ACTION:DISPLAY
DESCRIPTION:Reminder
END:VALARM
END:VEVENT
BEGIN:VEVENT
DTSTART:2016-04-19T01:00:00Z
DTEND:2016-04-19T03:30:00Z
LOCATION:MM7: Marymoor, Field 7
CATEGORIES:Softball,Pitches Be Crazy,BB/SAA
UID:3677AADF7C46454399DA33D54BF59A4:
DTSTAMP:2026-04-21T07:16:58Z:
SUMMARY:Pitches Be Crazy at Pirates
DESCRIPTION;ENCODING=QUOTED-PRINTABLE:Pitches Be Crazy at Pirates=0D=0A Time: 6:00 PM=0D=0A Location: Marymoor, Field 7
CLASS:PUBLIC
PRIORITY:5
BEGIN:VALARM
TRIGGER:-PT180M
ACTION:DISPLAY
DESCRIPTION:Reminder
END:VALARM
END:VEVENT
BEGIN:VEVENT
DTSTART:2016-04-26T01:00:00Z
DTEND:2016-04-26T03:30:00Z
LOCATION:MM7: Marymoor, Field 7
CATEGORIES:Softball,Pitches Be Crazy,BB/SAA
UID:9425AABD75762B458EE6271D8A86AF59:
DTSTAMP:2026-04-21T07:16:58Z:
SUMMARY:Shotguns and Showels at Pitches Be Crazy
DESCRIPTION;ENCODING=QUOTED-PRINTABLE:Shotguns and Showels at Pitches Be Crazy=0D=0A Time: 6:00 PM=0D=0A Location: Marymoor, Field 7
CLASS:PUBLIC
PRIORITY:5
BEGIN:VALARM
TRIGGER:-PT180M
ACTION:DISPLAY
DESCRIPTION:Reminder
END:VALARM
END:VEVENT
BEGIN:VEVENT
DTSTART:2016-05-03T01:00:00Z
DTEND:2016-05-03T03:30:00Z
LOCATION:HP1: Highland Park, Field 1
CATEGORIES:Softball,Pitches Be Crazy,BB/SAA
UID:FF3EFE3D2D74B46A5B0237E4E10FF8D:
DTSTAMP:2026-04-21T07:16:58Z:
SUMMARY:Pitches Be Crazy at Fireballers
DESCRIPTION;ENCODING=QUOTED-PRINTABLE:Pitches Be Crazy at Fireballers=0D=0A Time: 6:00 PM=0D=0A Location: Highland Park, Field 1
CLASS:PUBLIC
PRIORITY:5
BEGIN:VALARM
TRIGGER:-PT180M
ACTION:DISPLAY
DESCRIPTION:Reminder
END:VALARM
END:VEVENT
BEGIN:VEVENT
DTSTART:2016-05-10T01:00:00Z
DTEND:2016-05-10T03:30:00Z
LOCATION:HV1: Hidden Valley, Field 1
CATEGORIES:Softball,Pitches Be Crazy,BB/SAA
UID:50049ED8159A947927F3A6CDB168899:
DTSTAMP:2026-04-21T07:16:58Z:
SUMMARY:Triple Play at Pitches Be Crazy
DESCRIPTION;ENCODING=QUOTED-PRINTABLE:Triple Play at Pitches Be Crazy=0D=0A Time: 6:00 PM=0D=0A Location: Hidden Valley, Field 1
CLASS:PUBLIC
PRIORITY:5
BEGIN:VALARM
TRIGGER:-PT180M
ACTION:DISPLAY
DESCRIPTION:Reminder
END:VALARM
END:VEVENT
BEGIN:VEVENT
DTSTART:2016-05-17T01:00:00Z
DTEND:2016-05-17T03:30:00Z
LOCATION:HP1: Highland Park, Field 1
CATEGORIES:Softball,Pitches Be Crazy,BB/SAA
UID:625090C129789F4DA2B42C12CBFFD49:
DTSTAMP:2026-04-21T07:16:58Z:
SUMMARY:Scared Hit-Less at Pitches Be Crazy
DESCRIPTION;ENCODING=QUOTED-PRINTABLE:Scared Hit-Less at Pitches Be Crazy=0D=0A Time: 6:00 PM=0D=0A Location: Highland Park, Field 1
CLASS:PUBLIC
PRIORITY:5
BEGIN:VALARM
TRIGGER:-PT180M
ACTION:DISPLAY
DESCRIPTION:Reminder
END:VALARM
END:VEVENT
BEGIN:VEVENT
DTSTART:2016-05-24T01:00:00Z
DTEND:2016-05-24T03:30:00Z
LOCATION:HV1: Hidden Valley, Field 1
CATEGORIES:Softball,Pitches Be Crazy,BB/SAA
UID:DE4A7583E555934DBBF3CB3A77BB4272:
DTSTAMP:2026-04-21T07:16:58Z:
SUMMARY:Dreadsox at Pitches Be Crazy
DESCRIPTION;ENCODING=QUOTED-PRINTABLE:Dreadsox at Pitches Be Crazy=0D=0A Time: 6:00 PM=0D=0A Location: Hidden Valley, Field 1
CLASS:PUBLIC
PRIORITY:5
BEGIN:VALARM
TRIGGER:-PT180M
ACTION:DISPLAY
DESCRIPTION:Reminder
END:VALARM
END:VEVENT
BEGIN:VEVENT
DTSTART:2016-06-14T01:00:00Z
DTEND:2016-06-14T03:30:00Z
LOCATION:HV1: Hidden Valley, Field 1
CATEGORIES:Softball,Pitches Be Crazy,BB/SAA
UID:644A50F68BB7264D850C8503E3AAAFD:
DTSTAMP:2026-04-21T07:16:58Z:
SUMMARY:Shotguns and Showels at Pitches Be Crazy
DESCRIPTION;ENCODING=QUOTED-PRINTABLE:Shotguns and Showels at Pitches Be Crazy=0D=0A Time: 6:00 PM=0D=0A Location: Hidden Valley, Field 1
CLASS:PUBLIC
PRIORITY:5
BEGIN:VALARM
TRIGGER:-PT180M
ACTION:DISPLAY
DESCRIPTION:Reminder
END:VALARM
END:VEVENT
BEGIN:VEVENT
DTSTART:2016-06-21T01:00:00Z
DTEND:2016-06-21T03:30:00Z
LOCATION:HV1: Hidden Valley, Field 1
CATEGORIES:Softball,Pitches Be Crazy,BB/SAA
UID:FA3DC555B6885542B1E8989798522716:
DTSTAMP:2026-04-21T07:16:58Z:
SUMMARY:Scared Hit-Less at Pitches Be Crazy
DESCRIPTION;ENCODING=QUOTED-PRINTABLE:Scared Hit-Less at Pitches Be Crazy=0D=0A Time: 6:00 PM=0D=0A Location: Hidden Valley, Field 1
CLASS:PUBLIC
PRIORITY:5
BEGIN:VALARM
TRIGGER:-PT180M
ACTION:DISPLAY
DESCRIPTION:Reminder
END:VALARM
END:VEVENT
END:VCALENDAR
