BEGIN:VCALENDAR
PRODID:-//Microsoft Corporation//Outlook 11.0 MIMEDIR//EN
VERSION:2.0
METHOD:PUBLISH
BEGIN:VEVENT
DTSTART:2016-04-05T01:00:00Z
DTEND:2016-04-05T03:30:00Z
LOCATION:MM7: Marymoor, Field 7
CATEGORIES:Softball,Dreadsox,BB/SAA
UID:CCE831548C45764CBF1B1BFFEEA5E89:
DTSTAMP:2026-04-21T07:16:18Z:
SUMMARY:Scared Hit-Less at Dreadsox
DESCRIPTION;ENCODING=QUOTED-PRINTABLE:Scared Hit-Less at Dreadsox=0D=0A Time: 6:00 PM=0D=0A Location: Marymoor, Field 7
CLASS:PUBLIC
PRIORITY:5
BEGIN:VALARM
TRIGGER:-PT180M
ACTION:DISPLAY
DESCRIPTION:Reminder
END:VALARM
END:VEVENT
BEGIN:VEVENT
DTSTART:2016-04-12T01:00:00Z
DTEND:2016-04-12T03:30:00Z
LOCATION:HV1: Hidden Valley, Field 1
CATEGORIES:Softball,Dreadsox,BB/SAA
UID:1CCA3292A19E84093AED316ACB25E1:
DTSTAMP:2026-04-21T07:16:18Z:
SUMMARY:Dreadsox at Shotguns and Showels
DESCRIPTION;ENCODING=QUOTED-PRINTABLE:Dreadsox at Shotguns and Showels=0D=0A Time: 6:00 PM=0D=0A Location: Hidden Valley, Field 1
CLASS:PUBLIC
PRIORITY:5
BEGIN:VALARM
TRIGGER:-PT180M
ACTION:DISPLAY
DESCRIPTION:Reminder
END:VALARM
END:VEVENT
BEGIN:VEVENT
DTSTART:2016-04-26T03:30:00Z
DTEND:2016-04-26T06:00:00Z
LOCATION:HV1: Hidden Valley, Field 1
CATEGORIES:Softball,Dreadsox,BB/SAA
UID:4F45153DA56FB4BBAFC4CD8C1AEBE47:
DTSTAMP:2026-04-21T07:16:18Z:
SUMMARY:Dreadsox at Triple Play
DESCRIPTION;ENCODING=QUOTED-PRINTABLE:Dreadsox at Triple Play=0D=0A Time: 8:30 PM=0D=0A Location: Hidden Valley, Field 1
CLASS:PUBLIC
PRIORITY:5
BEGIN:VALARM
TRIGGER:-PT330M
ACTION:DISPLAY
DESCRIPTION:Reminder
END:VALARM
END:VEVENT
BEGIN:VEVENT
DTSTART:2016-05-03T01:00:00Z
DTEND:2016-05-03T03:30:00Z
LOCATION:HV1: Hidden Valley, Field 1
CATEGORIES:Softball,Dreadsox,BB/SAA
UID:98234F1C159986438343D18B99F3A7DC:
DTSTAMP:2026-04-21T07:16:18Z:
SUMMARY:Pirates at Dreadsox
DESCRIPTION;ENCODING=QUOTED-PRINTABLE:Pirates at Dreadsox=0D=0A Time: 6:00 PM=0D=0A Location: Hidden Valley, Field 1
CLASS:PUBLIC
PRIORITY:5
BEGIN:VALARM
TRIGGER:-PT180M
ACTION:DISPLAY
DESCRIPTION:Reminder
END:VALARM
END:VEVENT
BEGIN:VEVENT
DTSTART:2016-05-10T01:00:00Z
DTEND:2016-05-10T03:30:00Z
LOCATION:MM7: Marymoor, Field 7
CATEGORIES:Softball,Dreadsox,BB/SAA
UID:97AAB550839AE44B95DA77CE457C32A:
DTSTAMP:2026-04-21T07:16:18Z:
SUMMARY:Fireballers at Dreadsox
DESCRIPTION;ENCODING=QUOTED-PRINTABLE:Fireballers at Dreadsox=0D=0A Time: 6:00 PM=0D=0A Location: Marymoor, Field 7
CLASS:PUBLIC
PRIORITY:5
BEGIN:VALARM
TRIGGER:-PT180M
ACTION:DISPLAY
DESCRIPTION:Reminder
END:VALARM
END:VEVENT
BEGIN:VEVENT
DTSTART:2016-05-17T01:00:00Z
DTEND:2016-05-17T03:30:00Z
LOCATION:HV1: Hidden Valley, Field 1
CATEGORIES:Softball,Dreadsox,BB/SAA
UID:D15918F7E348874D8A81FED488AFD1D1:
DTSTAMP:2026-04-21T07:16:18Z:
SUMMARY:Dreadsox at Chix and Stix
DESCRIPTION;ENCODING=QUOTED-PRINTABLE:Dreadsox at Chix and Stix=0D=0A Time: 6:00 PM=0D=0A Location: Hidden Valley, Field 1
CLASS:PUBLIC
PRIORITY:5
BEGIN:VALARM
TRIGGER:-PT180M
ACTION:DISPLAY
DESCRIPTION:Reminder
END:VALARM
END:VEVENT
BEGIN:VEVENT
DTSTART:2016-05-24T01:00:00Z
DTEND:2016-05-24T03:30:00Z
LOCATION:HV1: Hidden Valley, Field 1
CATEGORIES:Softball,Dreadsox,BB/SAA
UID:2040918B1D74DD4D91B9E3C7637150:
DTSTAMP:2026-04-21T07:16:18Z:
SUMMARY:Dreadsox at Pitches Be Crazy
DESCRIPTION;ENCODING=QUOTED-PRINTABLE:Dreadsox at Pitches Be Crazy=0D=0A Time: 6:00 PM=0D=0A Location: Hidden Valley, Field 1
CLASS:PUBLIC
PRIORITY:5
BEGIN:VALARM
TRIGGER:-PT180M
ACTION:DISPLAY
DESCRIPTION:Reminder
END:VALARM
END:VEVENT
BEGIN:VEVENT
DTSTART:2016-06-07T01:00:00Z
DTEND:2016-06-07T03:30:00Z
LOCATION:HP1: Highland Park, Field 1
CATEGORIES:Softball,Dreadsox,BB/SAA
UID:30C6B955B0EC714C94AFAD3FF392F0:
DTSTAMP:2026-04-21T07:16:18Z:
SUMMARY:Fielder's Choice at Dreadsox
DESCRIPTION;ENCODING=QUOTED-PRINTABLE:Fielder's Choice at Dreadsox=0D=0A Time: 6:00 PM=0D=0A Location: Highland Park, Field 1
CLASS:PUBLIC
PRIORITY:5
BEGIN:VALARM
TRIGGER:-PT180M
ACTION:DISPLAY
DESCRIPTION:Reminder
END:VALARM
END:VEVENT
END:VCALENDAR
