BEGIN:VCALENDAR
PRODID:-//Microsoft Corporation//Outlook 11.0 MIMEDIR//EN
VERSION:2.0
METHOD:PUBLISH
BEGIN:VEVENT
DTSTART:2013-07-10T03:30:00Z
DTEND:2013-07-10T06:00:00Z
LOCATION:HV1: Hidden Valley, Field 1
CATEGORIES:Softball,Carpet To Go,BB/SAA
UID:C8E3EA34CEFD842A2DC3166CABEB:
DTSTAMP:2026-04-21T05:46:13Z:
SUMMARY:Carpet To Go at Bellevue Merchants
DESCRIPTION;ENCODING=QUOTED-PRINTABLE:Carpet To Go at Bellevue Merchants=0D=0A Time: 8:30 PM=0D=0A Location: Hidden Valley, Field 1
CLASS:PUBLIC
PRIORITY:5
BEGIN:VALARM
TRIGGER:-PT330M
ACTION:DISPLAY
DESCRIPTION:Reminder
END:VALARM
END:VEVENT
BEGIN:VEVENT
DTSTART:2013-07-19T03:30:00Z
DTEND:2013-07-19T06:00:00Z
LOCATION:HV1: Hidden Valley, Field 1
CATEGORIES:Softball,Carpet To Go,BB/SAA
UID:1E2824503311F04F9A90ED144D9BA7E7:
DTSTAMP:2026-04-21T05:46:13Z:
SUMMARY:Bomb Squad at Carpet To Go
DESCRIPTION;ENCODING=QUOTED-PRINTABLE:Bomb Squad at Carpet To Go=0D=0A Time: 8:30 PM=0D=0A Location: Hidden Valley, Field 1
CLASS:PUBLIC
PRIORITY:5
BEGIN:VALARM
TRIGGER:-PT330M
ACTION:DISPLAY
DESCRIPTION:Reminder
END:VALARM
END:VEVENT
BEGIN:VEVENT
DTSTART:2013-07-26T03:30:00Z
DTEND:2013-07-26T06:00:00Z
LOCATION:HV1: Hidden Valley, Field 1
CATEGORIES:Softball,Carpet To Go,BB/SAA
UID:966C4A4CFE1584B83A7E76ED97F2198:
DTSTAMP:2026-04-21T05:46:13Z:
SUMMARY:Carpet To Go at HST Construction
DESCRIPTION;ENCODING=QUOTED-PRINTABLE:Carpet To Go at HST Construction=0D=0A Time: 8:30 PM=0D=0A Location: Hidden Valley, Field 1
CLASS:PUBLIC
PRIORITY:5
BEGIN:VALARM
TRIGGER:-PT330M
ACTION:DISPLAY
DESCRIPTION:Reminder
END:VALARM
END:VEVENT
BEGIN:VEVENT
DTSTART:2013-08-02T01:00:00Z
DTEND:2013-08-02T03:30:00Z
LOCATION:MM7: Marymoor, Field 7
CATEGORIES:Softball,Carpet To Go,BB/SAA
UID:2BB8AF2158B574C99FD6D1E6BBD4C47:
DTSTAMP:2026-04-21T05:46:13Z:
SUMMARY:I'd Hit It at Carpet To Go
DESCRIPTION;ENCODING=QUOTED-PRINTABLE:I'd Hit It at Carpet To Go=0D=0A Time: 6:00 PM=0D=0A Location: Marymoor, Field 7
CLASS:PUBLIC
PRIORITY:5
BEGIN:VALARM
TRIGGER:-PT180M
ACTION:DISPLAY
DESCRIPTION:Reminder
END:VALARM
END:VEVENT
BEGIN:VEVENT
DTSTART:2013-08-08T03:30:00Z
DTEND:2013-08-08T06:00:00Z
LOCATION:HV1: Hidden Valley, Field 1
CATEGORIES:Softball,Carpet To Go,BB/SAA
UID:E5722173F2C9A049808D52CCD2AE1C4:
DTSTAMP:2026-04-21T05:46:13Z:
SUMMARY:Carpet To Go at 520 LOBS
DESCRIPTION;ENCODING=QUOTED-PRINTABLE:Carpet To Go at 520 LOBS=0D=0A Time: 8:30 PM=0D=0A Location: Hidden Valley, Field 1
CLASS:PUBLIC
PRIORITY:5
BEGIN:VALARM
TRIGGER:-PT330M
ACTION:DISPLAY
DESCRIPTION:Reminder
END:VALARM
END:VEVENT
BEGIN:VEVENT
DTSTART:2013-08-16T01:00:00Z
DTEND:2013-08-16T03:30:00Z
LOCATION:HV1: Hidden Valley, Field 1
CATEGORIES:Softball,Carpet To Go,BB/SAA
UID:A3D812755759D942911A17D08CBFDAA:
DTSTAMP:2026-04-21T05:46:13Z:
SUMMARY:Kona Kitchen at Carpet To Go
DESCRIPTION;ENCODING=QUOTED-PRINTABLE:Kona Kitchen at Carpet To Go=0D=0A Time: 6:00 PM=0D=0A Location: Hidden Valley, Field 1
CLASS:PUBLIC
PRIORITY:5
BEGIN:VALARM
TRIGGER:-PT180M
ACTION:DISPLAY
DESCRIPTION:Reminder
END:VALARM
END:VEVENT
BEGIN:VEVENT
DTSTART:2013-08-23T03:30:00Z
DTEND:2013-08-23T06:00:00Z
LOCATION:HV1: Hidden Valley, Field 1
CATEGORIES:Softball,Carpet To Go,BB/SAA
UID:9D913B6588D8A45ADFBC6FCD89DBA9B:
DTSTAMP:2026-04-21T05:46:13Z:
SUMMARY:Carpet To Go at Bomb Squad
DESCRIPTION;ENCODING=QUOTED-PRINTABLE:Carpet To Go at Bomb Squad=0D=0A Time: 8:30 PM=0D=0A Location: Hidden Valley, Field 1
CLASS:PUBLIC
PRIORITY:5
BEGIN:VALARM
TRIGGER:-PT330M
ACTION:DISPLAY
DESCRIPTION:Reminder
END:VALARM
END:VEVENT
BEGIN:VEVENT
DTSTART:2013-08-30T03:30:00Z
DTEND:2013-08-30T06:00:00Z
LOCATION:HV1: Hidden Valley, Field 1
CATEGORIES:Softball,Carpet To Go,BB/SAA
UID:7AE9CD2AE72DA94687EB19AD25ABB021:
DTSTAMP:2026-04-21T05:46:13Z:
SUMMARY:HST Construction at Carpet To Go
DESCRIPTION;ENCODING=QUOTED-PRINTABLE:HST Construction at Carpet To Go=0D=0A Time: 8:30 PM=0D=0A Location: Hidden Valley, Field 1
CLASS:PUBLIC
PRIORITY:5
BEGIN:VALARM
TRIGGER:-PT330M
ACTION:DISPLAY
DESCRIPTION:Reminder
END:VALARM
END:VEVENT
BEGIN:VEVENT
DTSTART:2013-09-06T03:30:00Z
DTEND:2013-09-06T06:00:00Z
LOCATION:HV1: Hidden Valley, Field 1
CATEGORIES:Softball,Carpet To Go,BB/SAA
UID:1F1316D7C396742996E7B9CB670B4CF:
DTSTAMP:2026-04-21T05:46:13Z:
SUMMARY:Carpet To Go at I'd Hit It
DESCRIPTION;ENCODING=QUOTED-PRINTABLE:Carpet To Go at I'd Hit It=0D=0A Time: 8:30 PM=0D=0A Location: Hidden Valley, Field 1
CLASS:PUBLIC
PRIORITY:5
BEGIN:VALARM
TRIGGER:-PT330M
ACTION:DISPLAY
DESCRIPTION:Reminder
END:VALARM
END:VEVENT
BEGIN:VEVENT
DTSTART:2013-09-19T03:45:00Z
DTEND:2013-09-19T06:15:00Z
LOCATION:HV1: Hidden Valley, Field 1
CATEGORIES:Softball,Carpet To Go,BB/SAA
UID:AA8F5BD7512FCB4BBA76E14E4A2F2D7D:
DTSTAMP:2026-04-21T05:46:13Z:
SUMMARY:Carpet To Go at I'd Hit It
DESCRIPTION;ENCODING=QUOTED-PRINTABLE:Carpet To Go at I'd Hit It=0D=0A Time: 8:45 PM=0D=0A Location: Hidden Valley, Field 1
CLASS:PUBLIC
PRIORITY:5
BEGIN:VALARM
TRIGGER:-PT345M
ACTION:DISPLAY
DESCRIPTION:Reminder
END:VALARM
END:VEVENT
BEGIN:VEVENT
DTSTART:2013-09-20T03:30:00Z
DTEND:2013-09-20T06:00:00Z
LOCATION:MM7: Marymoor, Field 7
CATEGORIES:Softball,Carpet To Go,BB/SAA
UID:3FB4D5197545A94C95851FBF915F1E1:
DTSTAMP:2026-04-21T05:46:13Z:
SUMMARY:HST Construction at Carpet To Go
DESCRIPTION;ENCODING=QUOTED-PRINTABLE:HST Construction at Carpet To Go=0D=0A Time: 8:30 PM=0D=0A Location: Marymoor, Field 7
CLASS:PUBLIC
PRIORITY:5
BEGIN:VALARM
TRIGGER:-PT330M
ACTION:DISPLAY
DESCRIPTION:Reminder
END:VALARM
END:VEVENT
END:VCALENDAR
