BEGIN:VCALENDAR
PRODID:-//Microsoft Corporation//Outlook 11.0 MIMEDIR//EN
VERSION:2.0
METHOD:PUBLISH
BEGIN:VEVENT
DTSTART:2013-07-10T01:00:00Z
DTEND:2013-07-10T03:30:00Z
LOCATION:SAM1: Sammamish High School, Field 1
CATEGORIES:Softball,Combine,BB/SAA
UID:A958E4CFDA2A64692C01136E9A61D1:
DTSTAMP:2026-04-21T05:28:06Z:
SUMMARY:Combine at The TRIAD Group
DESCRIPTION;ENCODING=QUOTED-PRINTABLE:Combine at The TRIAD Group=0D=0A Time: 6:00 PM=0D=0A Location: Sammamish High School, Field 1
CLASS:PUBLIC
PRIORITY:5
BEGIN:VALARM
TRIGGER:-PT180M
ACTION:DISPLAY
DESCRIPTION:Reminder
END:VALARM
END:VEVENT
BEGIN:VEVENT
DTSTART:2013-07-17T01:00:00Z
DTEND:2013-07-17T03:30:00Z
LOCATION:SAM2: Sammamish High School, Field 2
CATEGORIES:Softball,Combine,BB/SAA
UID:179B90F0D1BB814A82CFDD259D297B19:
DTSTAMP:2026-04-21T05:28:06Z:
SUMMARY:Combine at Axia Home Loans
DESCRIPTION;ENCODING=QUOTED-PRINTABLE:Combine at Axia Home Loans=0D=0A Time: 6:00 PM=0D=0A Location: Sammamish High School, Field 2
CLASS:PUBLIC
PRIORITY:5
BEGIN:VALARM
TRIGGER:-PT180M
ACTION:DISPLAY
DESCRIPTION:Reminder
END:VALARM
END:VEVENT
BEGIN:VEVENT
DTSTART:2013-07-24T01:00:00Z
DTEND:2013-07-24T03:30:00Z
LOCATION:SAM1: Sammamish High School, Field 1
CATEGORIES:Softball,Combine,BB/SAA
UID:7DE1626F8A46C47B519062941C6E4:
DTSTAMP:2026-04-21T05:28:06Z:
SUMMARY:Infospace at Combine
DESCRIPTION;ENCODING=QUOTED-PRINTABLE:Infospace at Combine=0D=0A Time: 6:00 PM=0D=0A Location: Sammamish High School, Field 1
CLASS:PUBLIC
PRIORITY:5
BEGIN:VALARM
TRIGGER:-PT180M
ACTION:DISPLAY
DESCRIPTION:Reminder
END:VALARM
END:VEVENT
BEGIN:VEVENT
DTSTART:2013-07-31T01:00:00Z
DTEND:2013-07-31T03:30:00Z
LOCATION:SAM1: Sammamish High School, Field 1
CATEGORIES:Softball,Combine,BB/SAA
UID:45D355CAB81744DBAA8289B46B5B64:
DTSTAMP:2026-04-21T05:28:06Z:
SUMMARY:Sample Smashers at Combine
DESCRIPTION;ENCODING=QUOTED-PRINTABLE:Sample Smashers at Combine=0D=0A Time: 6:00 PM=0D=0A Location: Sammamish High School, Field 1
CLASS:PUBLIC
PRIORITY:5
BEGIN:VALARM
TRIGGER:-PT180M
ACTION:DISPLAY
DESCRIPTION:Reminder
END:VALARM
END:VEVENT
BEGIN:VEVENT
DTSTART:2013-08-07T01:00:00Z
DTEND:2013-08-07T03:30:00Z
LOCATION:HV1: Hidden Valley, Field 1
CATEGORIES:Softball,Combine,BB/SAA
UID:E77191E2AF625C4988F29332FEEF936:
DTSTAMP:2026-04-21T05:28:06Z:
SUMMARY:Newport Knockouts at Combine
DESCRIPTION;ENCODING=QUOTED-PRINTABLE:Newport Knockouts at Combine=0D=0A Time: 6:00 PM=0D=0A Location: Hidden Valley, Field 1
CLASS:PUBLIC
PRIORITY:5
BEGIN:VALARM
TRIGGER:-PT180M
ACTION:DISPLAY
DESCRIPTION:Reminder
END:VALARM
END:VEVENT
BEGIN:VEVENT
DTSTART:2013-08-14T01:00:00Z
DTEND:2013-08-14T03:30:00Z
LOCATION:SAM2: Sammamish High School, Field 2
CATEGORIES:Softball,Combine,BB/SAA
UID:E9E9923C7AE56A4FB5155347D354C023:
DTSTAMP:2026-04-21T05:28:06Z:
SUMMARY:Combine at Happy Hour
DESCRIPTION;ENCODING=QUOTED-PRINTABLE:Combine at Happy Hour=0D=0A Time: 6:00 PM=0D=0A Location: Sammamish High School, Field 2
CLASS:PUBLIC
PRIORITY:5
BEGIN:VALARM
TRIGGER:-PT180M
ACTION:DISPLAY
DESCRIPTION:Reminder
END:VALARM
END:VEVENT
BEGIN:VEVENT
DTSTART:2013-08-21T01:00:00Z
DTEND:2013-08-21T03:30:00Z
LOCATION:MM7: Marymoor, Field 7
CATEGORIES:Softball,Combine,BB/SAA
UID:E821719EF264E4A9631875CD9DC6B2:
DTSTAMP:2026-04-21T05:28:06Z:
SUMMARY:Combine at MG2 Marauders
DESCRIPTION;ENCODING=QUOTED-PRINTABLE:Combine at MG2 Marauders=0D=0A Time: 6:00 PM=0D=0A Location: Marymoor, Field 7
CLASS:PUBLIC
PRIORITY:5
BEGIN:VALARM
TRIGGER:-PT180M
ACTION:DISPLAY
DESCRIPTION:Reminder
END:VALARM
END:VEVENT
BEGIN:VEVENT
DTSTART:2013-08-28T01:00:00Z
DTEND:2013-08-28T03:30:00Z
LOCATION:MM8: Marymoor, Field 8
CATEGORIES:Softball,Combine,BB/SAA
UID:B085346733CDA442B574A35DDDA1D9B:
DTSTAMP:2026-04-21T05:28:06Z:
SUMMARY:Combine at The TRIAD Group
DESCRIPTION;ENCODING=QUOTED-PRINTABLE:Combine at The TRIAD Group=0D=0A Time: 6:00 PM=0D=0A Location: Marymoor, Field 8
CLASS:PUBLIC
PRIORITY:5
BEGIN:VALARM
TRIGGER:-PT180M
ACTION:DISPLAY
DESCRIPTION:Reminder
END:VALARM
END:VEVENT
BEGIN:VEVENT
DTSTART:2013-09-04T01:00:00Z
DTEND:2013-09-04T03:30:00Z
LOCATION:HV1: Hidden Valley, Field 1
CATEGORIES:Softball,Combine,BB/SAA
UID:4BFE2B14657B784A9A3F64A12E2CAA77:
DTSTAMP:2026-04-21T05:28:06Z:
SUMMARY:Axia Home Loans at Combine
DESCRIPTION;ENCODING=QUOTED-PRINTABLE:Axia Home Loans at Combine=0D=0A Time: 6:00 PM=0D=0A Location: Hidden Valley, Field 1
CLASS:PUBLIC
PRIORITY:5
BEGIN:VALARM
TRIGGER:-PT180M
ACTION:DISPLAY
DESCRIPTION:Reminder
END:VALARM
END:VEVENT
END:VCALENDAR
