BEGIN:VCALENDAR
PRODID:-//Microsoft Corporation//Outlook 11.0 MIMEDIR//EN
VERSION:2.0
METHOD:PUBLISH
BEGIN:VEVENT
DTSTART:2013-07-09T01:00:00Z
DTEND:2013-07-09T03:30:00Z
LOCATION:MM8: Marymoor, Field 8
CATEGORIES:Softball,Chicks and Dicks,BB/SAA
UID:48CF3F5D648A4944A7C64814E85B6F14:
DTSTAMP:2026-04-23T01:01:17Z:
SUMMARY:Chicks and Dicks at Polarisites
DESCRIPTION;ENCODING=QUOTED-PRINTABLE:Chicks and Dicks at Polarisites=0D=0A Time: 6:00 PM=0D=0A Location: Marymoor, Field 8
CLASS:PUBLIC
PRIORITY:5
BEGIN:VALARM
TRIGGER:-PT180M
ACTION:DISPLAY
DESCRIPTION:Reminder
END:VALARM
END:VEVENT
BEGIN:VEVENT
DTSTART:2013-07-16T01:00:00Z
DTEND:2013-07-16T03:30:00Z
LOCATION:MM7: Marymoor, Field 7
CATEGORIES:Softball,Chicks and Dicks,BB/SAA
UID:C1CEA61BE03C2647926ED0E9A48E7954:
DTSTAMP:2026-04-23T01:01:17Z:
SUMMARY:Chicks and Dicks at Outerwall Outlaws
DESCRIPTION;ENCODING=QUOTED-PRINTABLE:Chicks and Dicks at Outerwall Outlaws=0D=0A Time: 6:00 PM=0D=0A Location: Marymoor, Field 7
CLASS:PUBLIC
PRIORITY:5
BEGIN:VALARM
TRIGGER:-PT180M
ACTION:DISPLAY
DESCRIPTION:Reminder
END:VALARM
END:VEVENT
BEGIN:VEVENT
DTSTART:2013-07-23T01:00:00Z
DTEND:2013-07-23T03:30:00Z
LOCATION:MM3: Marymoor, Field 3
CATEGORIES:Softball,Chicks and Dicks,BB/SAA
UID:4DE2AA87FB666C429EEB2164DF5570E4:
DTSTAMP:2026-04-23T01:01:17Z:
SUMMARY:AIM Consulting at Chicks and Dicks
DESCRIPTION;ENCODING=QUOTED-PRINTABLE:AIM Consulting at Chicks and Dicks=0D=0A Time: 6:00 PM=0D=0A Location: Marymoor, Field 3
CLASS:PUBLIC
PRIORITY:5
BEGIN:VALARM
TRIGGER:-PT180M
ACTION:DISPLAY
DESCRIPTION:Reminder
END:VALARM
END:VEVENT
BEGIN:VEVENT
DTSTART:2013-07-30T01:00:00Z
DTEND:2013-07-30T03:30:00Z
LOCATION:MM6: Marymoor, Field 6
CATEGORIES:Softball,Chicks and Dicks,BB/SAA
UID:DE454765DF2AD140A0B97D792CE6DF90:
DTSTAMP:2026-04-23T01:01:17Z:
SUMMARY:Dreadsox at Chicks and Dicks
DESCRIPTION;ENCODING=QUOTED-PRINTABLE:Dreadsox at Chicks and Dicks=0D=0A Time: 6:00 PM=0D=0A Location: Marymoor, Field 6
CLASS:PUBLIC
PRIORITY:5
BEGIN:VALARM
TRIGGER:-PT180M
ACTION:DISPLAY
DESCRIPTION:Reminder
END:VALARM
END:VEVENT
BEGIN:VEVENT
DTSTART:2013-08-06T01:00:00Z
DTEND:2013-08-06T03:30:00Z
LOCATION:MM6: Marymoor, Field 6
CATEGORIES:Softball,Chicks and Dicks,BB/SAA
UID:D0BD81C4286DA4590635DA6A33B768:
DTSTAMP:2026-04-23T01:01:17Z:
SUMMARY:En Fuego at Chicks and Dicks
DESCRIPTION;ENCODING=QUOTED-PRINTABLE:En Fuego at Chicks and Dicks=0D=0A Time: 6:00 PM=0D=0A Location: Marymoor, Field 6
CLASS:PUBLIC
PRIORITY:5
BEGIN:VALARM
TRIGGER:-PT180M
ACTION:DISPLAY
DESCRIPTION:Reminder
END:VALARM
END:VEVENT
BEGIN:VEVENT
DTSTART:2013-08-13T03:30:00Z
DTEND:2013-08-13T06:00:00Z
LOCATION:HV1: Hidden Valley, Field 1
CATEGORIES:Softball,Chicks and Dicks,BB/SAA
UID:30EE97816E5B9247B8F1EE5B3489A3E:
DTSTAMP:2026-04-23T01:01:17Z:
SUMMARY:Value Village at Chicks and Dicks
DESCRIPTION;ENCODING=QUOTED-PRINTABLE:Value Village at Chicks and Dicks=0D=0A Time: 8:30 PM=0D=0A Location: Hidden Valley, Field 1
CLASS:PUBLIC
PRIORITY:5
BEGIN:VALARM
TRIGGER:-PT330M
ACTION:DISPLAY
DESCRIPTION:Reminder
END:VALARM
END:VEVENT
BEGIN:VEVENT
DTSTART:2013-08-20T01:00:00Z
DTEND:2013-08-20T03:30:00Z
LOCATION:HV1: Hidden Valley, Field 1
CATEGORIES:Softball,Chicks and Dicks,BB/SAA
UID:41DA2C287BBB4140B1B68635B5BC149:
DTSTAMP:2026-04-23T01:01:17Z:
SUMMARY:ChemPoint at Chicks and Dicks
DESCRIPTION;ENCODING=QUOTED-PRINTABLE:ChemPoint at Chicks and Dicks=0D=0A Time: 6:00 PM=0D=0A Location: Hidden Valley, Field 1
CLASS:PUBLIC
PRIORITY:5
BEGIN:VALARM
TRIGGER:-PT180M
ACTION:DISPLAY
DESCRIPTION:Reminder
END:VALARM
END:VEVENT
BEGIN:VEVENT
DTSTART:2013-08-27T03:30:00Z
DTEND:2013-08-27T06:00:00Z
LOCATION:MM7: Marymoor, Field 7
CATEGORIES:Softball,Chicks and Dicks,BB/SAA
UID:64EF8DA9708B8848BBE674BF5E7AB2DA:
DTSTAMP:2026-04-23T01:01:17Z:
SUMMARY:Chicks and Dicks at Do You Concur?
DESCRIPTION;ENCODING=QUOTED-PRINTABLE:Chicks and Dicks at Do You Concur?=0D=0A Time: 8:30 PM=0D=0A Location: Marymoor, Field 7
CLASS:PUBLIC
PRIORITY:5
BEGIN:VALARM
TRIGGER:-PT330M
ACTION:DISPLAY
DESCRIPTION:Reminder
END:VALARM
END:VEVENT
BEGIN:VEVENT
DTSTART:2013-09-10T01:00:00Z
DTEND:2013-09-10T03:30:00Z
LOCATION:MM8: Marymoor, Field 8
CATEGORIES:Softball,Chicks and Dicks,BB/SAA
UID:6482FBECE17214CB0E610F28B37879:
DTSTAMP:2026-04-23T01:01:17Z:
SUMMARY:Chicks and Dicks at Dreamkillers
DESCRIPTION;ENCODING=QUOTED-PRINTABLE:Chicks and Dicks at Dreamkillers=0D=0A Time: 6:00 PM=0D=0A Location: Marymoor, Field 8
CLASS:PUBLIC
PRIORITY:5
BEGIN:VALARM
TRIGGER:-PT180M
ACTION:DISPLAY
DESCRIPTION:Reminder
END:VALARM
END:VEVENT
END:VCALENDAR
