BEGIN:VCALENDAR
PRODID:-//Microsoft Corporation//Outlook 11.0 MIMEDIR//EN
VERSION:2.0
METHOD:PUBLISH
BEGIN:VEVENT
DTSTART:2013-07-14T09:30:00Z
DTEND:2013-07-15T12:00:00Z
LOCATION:SAM1: Sammamish High School, Field 1
CATEGORIES:Softball,Turtle,BB/SAA
UID:6DC860D21D317F4E9942B8662E6B648:
DTSTAMP:2026-04-21T05:52:20Z:
SUMMARY:Turtle at Problem Solvers
DESCRIPTION;ENCODING=QUOTED-PRINTABLE:Turtle at Problem Solvers=0D=0A Time: 2:30 PM=0D=0A Location: Sammamish High School, Field 1
CLASS:PUBLIC
PRIORITY:5
BEGIN:VALARM
TRIGGER:-PT2850M
ACTION:DISPLAY
DESCRIPTION:Reminder
END:VALARM
END:VEVENT
BEGIN:VEVENT
DTSTART:2013-07-21T09:30:00Z
DTEND:2013-07-22T12:00:00Z
LOCATION:HV1: Hidden Valley, Field 1
CATEGORIES:Softball,Turtle,BB/SAA
UID:293F4472CC889A429AC365BE43F0C562:
DTSTAMP:2026-04-21T05:52:20Z:
SUMMARY:Turtle at Jackalopes
DESCRIPTION;ENCODING=QUOTED-PRINTABLE:Turtle at Jackalopes=0D=0A Time: 2:30 PM=0D=0A Location: Hidden Valley, Field 1
CLASS:PUBLIC
PRIORITY:5
BEGIN:VALARM
TRIGGER:-PT2850M
ACTION:DISPLAY
DESCRIPTION:Reminder
END:VALARM
END:VEVENT
BEGIN:VEVENT
DTSTART:2013-07-28T06:30:00Z
DTEND:2013-07-28T09:00:00Z
LOCATION:HV1: Hidden Valley, Field 1
CATEGORIES:Softball,Turtle,BB/SAA
UID:F1E0644B1147A41B263A8265DA6A1:
DTSTAMP:2026-04-21T05:52:20Z:
SUMMARY:Slap Dat Pitch at Turtle
DESCRIPTION;ENCODING=QUOTED-PRINTABLE:Slap Dat Pitch at Turtle=0D=0A Time: 11:30 AM=0D=0A Location: Hidden Valley, Field 1
CLASS:PUBLIC
PRIORITY:5
BEGIN:VALARM
TRIGGER:-PT2670M
ACTION:DISPLAY
DESCRIPTION:Reminder
END:VALARM
END:VEVENT
BEGIN:VEVENT
DTSTART:2013-08-04T09:30:00Z
DTEND:2013-08-05T12:00:00Z
LOCATION:HV1: Hidden Valley, Field 1
CATEGORIES:Softball,Turtle,BB/SAA
UID:C27633A317569243BB5C8450868D58B:
DTSTAMP:2026-04-21T05:52:20Z:
SUMMARY:Rally Killers at Turtle
DESCRIPTION;ENCODING=QUOTED-PRINTABLE:Rally Killers at Turtle=0D=0A Time: 2:30 PM=0D=0A Location: Hidden Valley, Field 1
CLASS:PUBLIC
PRIORITY:5
BEGIN:VALARM
TRIGGER:-PT2850M
ACTION:DISPLAY
DESCRIPTION:Reminder
END:VALARM
END:VEVENT
BEGIN:VEVENT
DTSTART:2013-08-12T12:00:00Z
DTEND:2013-08-12T02:30:00Z
LOCATION:HV1: Hidden Valley, Field 1
CATEGORIES:Softball,Turtle,BB/SAA
UID:9A1BB4F9F423E14E995328BA3EB5203D:
DTSTAMP:2026-04-21T05:52:20Z:
SUMMARY:Turtle at Carpet To Go - Sunday
DESCRIPTION;ENCODING=QUOTED-PRINTABLE:Turtle at Carpet To Go - Sunday=0D=0A Time: 5:00 PM=0D=0A Location: Hidden Valley, Field 1
CLASS:PUBLIC
PRIORITY:5
BEGIN:VALARM
TRIGGER:-PT3000M
ACTION:DISPLAY
DESCRIPTION:Reminder
END:VALARM
END:VEVENT
BEGIN:VEVENT
DTSTART:2013-08-18T06:30:00Z
DTEND:2013-08-18T09:00:00Z
LOCATION:HV1: Hidden Valley, Field 1
CATEGORIES:Softball,Turtle,BB/SAA
UID:EC7BACC3CF53544BD7D74C12740FD16:
DTSTAMP:2026-04-21T05:52:20Z:
SUMMARY:Turtle at Problem Solvers
DESCRIPTION;ENCODING=QUOTED-PRINTABLE:Turtle at Problem Solvers=0D=0A Time: 11:30 AM=0D=0A Location: Hidden Valley, Field 1
CLASS:PUBLIC
PRIORITY:5
BEGIN:VALARM
TRIGGER:-PT2670M
ACTION:DISPLAY
DESCRIPTION:Reminder
END:VALARM
END:VEVENT
BEGIN:VEVENT
DTSTART:2013-08-25T06:30:00Z
DTEND:2013-08-25T09:00:00Z
LOCATION:HV1: Hidden Valley, Field 1
CATEGORIES:Softball,Turtle,BB/SAA
UID:C8C4C890B774C04B8982237D27A1A64B:
DTSTAMP:2026-04-21T05:52:20Z:
SUMMARY:Jackalopes at Turtle
DESCRIPTION;ENCODING=QUOTED-PRINTABLE:Jackalopes at Turtle=0D=0A Time: 11:30 AM=0D=0A Location: Hidden Valley, Field 1
CLASS:PUBLIC
PRIORITY:5
BEGIN:VALARM
TRIGGER:-PT2670M
ACTION:DISPLAY
DESCRIPTION:Reminder
END:VALARM
END:VEVENT
BEGIN:VEVENT
DTSTART:2013-09-08T09:30:00Z
DTEND:2013-09-09T12:00:00Z
LOCATION:HV1: Hidden Valley, Field 1
CATEGORIES:Softball,Turtle,BB/SAA
UID:CA48858FE4AA47926786FE9DE4E230:
DTSTAMP:2026-04-21T05:52:20Z:
SUMMARY:Slap Dat Pitch at Turtle
DESCRIPTION;ENCODING=QUOTED-PRINTABLE:Slap Dat Pitch at Turtle=0D=0A Time: 2:30 PM=0D=0A Location: Hidden Valley, Field 1
CLASS:PUBLIC
PRIORITY:5
BEGIN:VALARM
TRIGGER:-PT2850M
ACTION:DISPLAY
DESCRIPTION:Reminder
END:VALARM
END:VEVENT
BEGIN:VEVENT
DTSTART:2013-09-15T09:30:00Z
DTEND:2013-09-16T12:00:00Z
LOCATION:HV1: Hidden Valley, Field 1
CATEGORIES:Softball,Turtle,BB/SAA
UID:12A14C226860D144BE2AC12BD2955AFC:
DTSTAMP:2026-04-21T05:52:20Z:
SUMMARY:Rally Killers at Turtle
DESCRIPTION;ENCODING=QUOTED-PRINTABLE:Rally Killers at Turtle=0D=0A Time: 2:30 PM=0D=0A Location: Hidden Valley, Field 1
CLASS:PUBLIC
PRIORITY:5
BEGIN:VALARM
TRIGGER:-PT2850M
ACTION:DISPLAY
DESCRIPTION:Reminder
END:VALARM
END:VEVENT
END:VCALENDAR
