BEGIN:VCALENDAR
PRODID:-//Microsoft Corporation//Outlook 11.0 MIMEDIR//EN
VERSION:2.0
METHOD:PUBLISH
BEGIN:VEVENT
DTSTART:2013-07-15T12:00:00Z
DTEND:2013-07-15T02:30:00Z
LOCATION:SAM1: Sammamish High School, Field 1
CATEGORIES:Softball,Slap Dat Pitch,BB/SAA
UID:B17F58F14F555D4AB16C275FE269FF77:
DTSTAMP:2026-04-21T05:51:49Z:
SUMMARY:Carpet To Go - Sunday at Slap Dat Pitch
DESCRIPTION;ENCODING=QUOTED-PRINTABLE:Carpet To Go - Sunday at Slap Dat Pitch=0D=0A Time: 5:00 PM=0D=0A Location: Sammamish High School, Field 1
CLASS:PUBLIC
PRIORITY:5
BEGIN:VALARM
TRIGGER:-PT3000M
ACTION:DISPLAY
DESCRIPTION:Reminder
END:VALARM
END:VEVENT
BEGIN:VEVENT
DTSTART:2013-07-21T06:30:00Z
DTEND:2013-07-21T09:00:00Z
LOCATION:HV1: Hidden Valley, Field 1
CATEGORIES:Softball,Slap Dat Pitch,BB/SAA
UID:F837CE6E2CFA4C8119D633EF472C72:
DTSTAMP:2026-04-21T05:51:49Z:
SUMMARY:Slap Dat Pitch at Problem Solvers
DESCRIPTION;ENCODING=QUOTED-PRINTABLE:Slap Dat Pitch at Problem Solvers=0D=0A Time: 11:30 AM=0D=0A Location: Hidden Valley, Field 1
CLASS:PUBLIC
PRIORITY:5
BEGIN:VALARM
TRIGGER:-PT2670M
ACTION:DISPLAY
DESCRIPTION:Reminder
END:VALARM
END:VEVENT
BEGIN:VEVENT
DTSTART:2013-07-28T06:30:00Z
DTEND:2013-07-28T09:00:00Z
LOCATION:HV1: Hidden Valley, Field 1
CATEGORIES:Softball,Slap Dat Pitch,BB/SAA
UID:493B8B759BBEA41A4C4E5268945F70:
DTSTAMP:2026-04-21T05:51:49Z:
SUMMARY:Slap Dat Pitch at Turtle
DESCRIPTION;ENCODING=QUOTED-PRINTABLE:Slap Dat Pitch at Turtle=0D=0A Time: 11:30 AM=0D=0A Location: Hidden Valley, Field 1
CLASS:PUBLIC
PRIORITY:5
BEGIN:VALARM
TRIGGER:-PT2670M
ACTION:DISPLAY
DESCRIPTION:Reminder
END:VALARM
END:VEVENT
BEGIN:VEVENT
DTSTART:2013-08-04T06:30:00Z
DTEND:2013-08-04T09:00:00Z
LOCATION:HV1: Hidden Valley, Field 1
CATEGORIES:Softball,Slap Dat Pitch,BB/SAA
UID:F1B04A12F9F45B4D9790EF59FBD491A:
DTSTAMP:2026-04-21T05:51:49Z:
SUMMARY:Slap Dat Pitch at Jackalopes
DESCRIPTION;ENCODING=QUOTED-PRINTABLE:Slap Dat Pitch at Jackalopes=0D=0A Time: 11:30 AM=0D=0A Location: Hidden Valley, Field 1
CLASS:PUBLIC
PRIORITY:5
BEGIN:VALARM
TRIGGER:-PT2670M
ACTION:DISPLAY
DESCRIPTION:Reminder
END:VALARM
END:VEVENT
BEGIN:VEVENT
DTSTART:2013-08-11T09:30:00Z
DTEND:2013-08-12T12:00:00Z
LOCATION:HV1: Hidden Valley, Field 1
CATEGORIES:Softball,Slap Dat Pitch,BB/SAA
UID:E68AB9E7CF2D144FA87CAA3076A66323:
DTSTAMP:2026-04-21T05:51:49Z:
SUMMARY:Rally Killers at Slap Dat Pitch
DESCRIPTION;ENCODING=QUOTED-PRINTABLE:Rally Killers at Slap Dat Pitch=0D=0A Time: 2:30 PM=0D=0A Location: Hidden Valley, Field 1
CLASS:PUBLIC
PRIORITY:5
BEGIN:VALARM
TRIGGER:-PT2850M
ACTION:DISPLAY
DESCRIPTION:Reminder
END:VALARM
END:VEVENT
BEGIN:VEVENT
DTSTART:2013-08-19T12:00:00Z
DTEND:2013-08-19T02:30:00Z
LOCATION:HV1: Hidden Valley, Field 1
CATEGORIES:Softball,Slap Dat Pitch,BB/SAA
UID:12C47674334A1F4C9C9811201DCB19FC:
DTSTAMP:2026-04-21T05:51:49Z:
SUMMARY:Carpet To Go - Sunday at Slap Dat Pitch
DESCRIPTION;ENCODING=QUOTED-PRINTABLE:Carpet To Go - Sunday at Slap Dat Pitch=0D=0A Time: 5:00 PM=0D=0A Location: Hidden Valley, Field 1
CLASS:PUBLIC
PRIORITY:5
BEGIN:VALARM
TRIGGER:-PT3000M
ACTION:DISPLAY
DESCRIPTION:Reminder
END:VALARM
END:VEVENT
BEGIN:VEVENT
DTSTART:2013-08-25T09:30:00Z
DTEND:2013-08-26T12:00:00Z
LOCATION:HV1: Hidden Valley, Field 1
CATEGORIES:Softball,Slap Dat Pitch,BB/SAA
UID:4C8E7E2F31FD7C4696CDC4144BA03937:
DTSTAMP:2026-04-21T05:51:49Z:
SUMMARY:Slap Dat Pitch at Problem Solvers
DESCRIPTION;ENCODING=QUOTED-PRINTABLE:Slap Dat Pitch at Problem Solvers=0D=0A Time: 2:30 PM=0D=0A Location: Hidden Valley, Field 1
CLASS:PUBLIC
PRIORITY:5
BEGIN:VALARM
TRIGGER:-PT2850M
ACTION:DISPLAY
DESCRIPTION:Reminder
END:VALARM
END:VEVENT
BEGIN:VEVENT
DTSTART:2013-09-08T09:30:00Z
DTEND:2013-09-09T12:00:00Z
LOCATION:HV1: Hidden Valley, Field 1
CATEGORIES:Softball,Slap Dat Pitch,BB/SAA
UID:2ADD2085A216FE4E85FAF72361B82A6D:
DTSTAMP:2026-04-21T05:51:49Z:
SUMMARY:Slap Dat Pitch at Turtle
DESCRIPTION;ENCODING=QUOTED-PRINTABLE:Slap Dat Pitch at Turtle=0D=0A Time: 2:30 PM=0D=0A Location: Hidden Valley, Field 1
CLASS:PUBLIC
PRIORITY:5
BEGIN:VALARM
TRIGGER:-PT2850M
ACTION:DISPLAY
DESCRIPTION:Reminder
END:VALARM
END:VEVENT
BEGIN:VEVENT
DTSTART:2013-09-15T06:30:00Z
DTEND:2013-09-15T09:00:00Z
LOCATION:HV1: Hidden Valley, Field 1
CATEGORIES:Softball,Slap Dat Pitch,BB/SAA
UID:A44CE7F821BDAF4CA3C7324091FC1692:
DTSTAMP:2026-04-21T05:51:49Z:
SUMMARY:Jackalopes at Slap Dat Pitch
DESCRIPTION;ENCODING=QUOTED-PRINTABLE:Jackalopes at Slap Dat Pitch=0D=0A Time: 11:30 AM=0D=0A Location: Hidden Valley, Field 1
CLASS:PUBLIC
PRIORITY:5
BEGIN:VALARM
TRIGGER:-PT2670M
ACTION:DISPLAY
DESCRIPTION:Reminder
END:VALARM
END:VEVENT
END:VCALENDAR
