BEGIN:VCALENDAR
PRODID:-//Microsoft Corporation//Outlook 11.0 MIMEDIR//EN
VERSION:2.0
METHOD:PUBLISH
BEGIN:VEVENT
DTSTART:2013-07-14T06:30:00Z
DTEND:2013-07-14T09:00:00Z
LOCATION:SAM1: Sammamish High School, Field 1
CATEGORIES:Softball,Jackalopes,BB/SAA
UID:E77498BF6722E84492D95044B180FAF3:
DTSTAMP:2026-04-21T07:17:15Z:
SUMMARY:Jackalopes at Rally Killers
DESCRIPTION;ENCODING=QUOTED-PRINTABLE:Jackalopes at Rally Killers=0D=0A Time: 11:30 AM=0D=0A Location: Sammamish High School, Field 1
CLASS:PUBLIC
PRIORITY:5
BEGIN:VALARM
TRIGGER:-PT2670M
ACTION:DISPLAY
DESCRIPTION:Reminder
END:VALARM
END:VEVENT
BEGIN:VEVENT
DTSTART:2013-07-21T09:30:00Z
DTEND:2013-07-22T12:00:00Z
LOCATION:HV1: Hidden Valley, Field 1
CATEGORIES:Softball,Jackalopes,BB/SAA
UID:BBDA5C3CA1F6644BB518282858F57AF:
DTSTAMP:2026-04-21T07:17:15Z:
SUMMARY:Turtle at Jackalopes
DESCRIPTION;ENCODING=QUOTED-PRINTABLE:Turtle at Jackalopes=0D=0A Time: 2:30 PM=0D=0A Location: Hidden Valley, Field 1
CLASS:PUBLIC
PRIORITY:5
BEGIN:VALARM
TRIGGER:-PT2850M
ACTION:DISPLAY
DESCRIPTION:Reminder
END:VALARM
END:VEVENT
BEGIN:VEVENT
DTSTART:2013-07-29T12:00:00Z
DTEND:2013-07-29T02:30:00Z
LOCATION:HV1: Hidden Valley, Field 1
CATEGORIES:Softball,Jackalopes,BB/SAA
UID:955136A15AE92B44B439C7BF6FE3FFB:
DTSTAMP:2026-04-21T07:17:15Z:
SUMMARY:Jackalopes at Carpet To Go - Sunday
DESCRIPTION;ENCODING=QUOTED-PRINTABLE:Jackalopes at Carpet To Go - Sunday=0D=0A Time: 5:00 PM=0D=0A Location: Hidden Valley, Field 1
CLASS:PUBLIC
PRIORITY:5
BEGIN:VALARM
TRIGGER:-PT3000M
ACTION:DISPLAY
DESCRIPTION:Reminder
END:VALARM
END:VEVENT
BEGIN:VEVENT
DTSTART:2013-08-04T06:30:00Z
DTEND:2013-08-04T09:00:00Z
LOCATION:HV1: Hidden Valley, Field 1
CATEGORIES:Softball,Jackalopes,BB/SAA
UID:2B3CE379C889E7478A80A010CE69C996:
DTSTAMP:2026-04-21T07:17:15Z:
SUMMARY:Slap Dat Pitch at Jackalopes
DESCRIPTION;ENCODING=QUOTED-PRINTABLE:Slap Dat Pitch at Jackalopes=0D=0A Time: 11:30 AM=0D=0A Location: Hidden Valley, Field 1
CLASS:PUBLIC
PRIORITY:5
BEGIN:VALARM
TRIGGER:-PT2670M
ACTION:DISPLAY
DESCRIPTION:Reminder
END:VALARM
END:VEVENT
BEGIN:VEVENT
DTSTART:2013-08-11T06:30:00Z
DTEND:2013-08-11T09:00:00Z
LOCATION:HV1: Hidden Valley, Field 1
CATEGORIES:Softball,Jackalopes,BB/SAA
UID:335FB5518D62B4E9FD47FDBB4747A5F:
DTSTAMP:2026-04-21T07:17:15Z:
SUMMARY:Jackalopes at Problem Solvers
DESCRIPTION;ENCODING=QUOTED-PRINTABLE:Jackalopes at Problem Solvers=0D=0A Time: 11:30 AM=0D=0A Location: Hidden Valley, Field 1
CLASS:PUBLIC
PRIORITY:5
BEGIN:VALARM
TRIGGER:-PT2670M
ACTION:DISPLAY
DESCRIPTION:Reminder
END:VALARM
END:VEVENT
BEGIN:VEVENT
DTSTART:2013-08-18T09:30:00Z
DTEND:2013-08-19T12:00:00Z
LOCATION:HV1: Hidden Valley, Field 1
CATEGORIES:Softball,Jackalopes,BB/SAA
UID:E54CB66E9CE54146B664B6393D814FFE:
DTSTAMP:2026-04-21T07:17:15Z:
SUMMARY:Rally Killers at Jackalopes
DESCRIPTION;ENCODING=QUOTED-PRINTABLE:Rally Killers at Jackalopes=0D=0A Time: 2:30 PM=0D=0A Location: Hidden Valley, Field 1
CLASS:PUBLIC
PRIORITY:5
BEGIN:VALARM
TRIGGER:-PT2850M
ACTION:DISPLAY
DESCRIPTION:Reminder
END:VALARM
END:VEVENT
BEGIN:VEVENT
DTSTART:2013-08-25T06:30:00Z
DTEND:2013-08-25T09:00:00Z
LOCATION:HV1: Hidden Valley, Field 1
CATEGORIES:Softball,Jackalopes,BB/SAA
UID:4A5911A846C6044B2B17A2FFCDD44F:
DTSTAMP:2026-04-21T07:17:15Z:
SUMMARY:Jackalopes at Turtle
DESCRIPTION;ENCODING=QUOTED-PRINTABLE:Jackalopes at Turtle=0D=0A Time: 11:30 AM=0D=0A Location: Hidden Valley, Field 1
CLASS:PUBLIC
PRIORITY:5
BEGIN:VALARM
TRIGGER:-PT2670M
ACTION:DISPLAY
DESCRIPTION:Reminder
END:VALARM
END:VEVENT
BEGIN:VEVENT
DTSTART:2013-09-09T12:00:00Z
DTEND:2013-09-09T02:30:00Z
LOCATION:HV1: Hidden Valley, Field 1
CATEGORIES:Softball,Jackalopes,BB/SAA
UID:E25B4BDE62AB440843DA240EB7E4C6A:
DTSTAMP:2026-04-21T07:17:15Z:
SUMMARY:Carpet To Go - Sunday at Jackalopes
DESCRIPTION;ENCODING=QUOTED-PRINTABLE:Carpet To Go - Sunday at Jackalopes=0D=0A Time: 5:00 PM=0D=0A Location: Hidden Valley, Field 1
CLASS:PUBLIC
PRIORITY:5
BEGIN:VALARM
TRIGGER:-PT3000M
ACTION:DISPLAY
DESCRIPTION:Reminder
END:VALARM
END:VEVENT
BEGIN:VEVENT
DTSTART:2013-09-15T06:30:00Z
DTEND:2013-09-15T09:00:00Z
LOCATION:HV1: Hidden Valley, Field 1
CATEGORIES:Softball,Jackalopes,BB/SAA
UID:45C41DAF44433D4DBDFE60F75A48FA70:
DTSTAMP:2026-04-21T07:17:15Z:
SUMMARY:Jackalopes at Slap Dat Pitch
DESCRIPTION;ENCODING=QUOTED-PRINTABLE:Jackalopes at Slap Dat Pitch=0D=0A Time: 11:30 AM=0D=0A Location: Hidden Valley, Field 1
CLASS:PUBLIC
PRIORITY:5
BEGIN:VALARM
TRIGGER:-PT2670M
ACTION:DISPLAY
DESCRIPTION:Reminder
END:VALARM
END:VEVENT
END:VCALENDAR
