BEGIN:VCALENDAR
PRODID:-//Microsoft Corporation//Outlook 11.0 MIMEDIR//EN
VERSION:2.0
METHOD:PUBLISH
BEGIN:VEVENT
DTSTART:2013-07-11T03:30:00Z
DTEND:2013-07-11T06:00:00Z
LOCATION:MM6: Marymoor, Field 6
CATEGORIES:Softball,Paddy Coyne's,BB/SAA
UID:C931E5FD47C74F4E80C396D67712266F:
DTSTAMP:2026-04-21T05:43:55Z:
SUMMARY:Paddy Coyne's at Hit Squad
DESCRIPTION;ENCODING=QUOTED-PRINTABLE:Paddy Coyne's at Hit Squad=0D=0A Time: 8:30 PM=0D=0A Location: Marymoor, Field 6
CLASS:PUBLIC
PRIORITY:5
BEGIN:VALARM
TRIGGER:-PT330M
ACTION:DISPLAY
DESCRIPTION:Reminder
END:VALARM
END:VEVENT
BEGIN:VEVENT
DTSTART:2013-07-19T01:00:00Z
DTEND:2013-07-19T03:30:00Z
LOCATION:SAM1: Sammamish High School, Field 1
CATEGORIES:Softball,Paddy Coyne's,BB/SAA
UID:1BC55ECC33161644BF7E5A47A9232C7:
DTSTAMP:2026-04-21T05:43:55Z:
SUMMARY:Paddy Coyne's at Where My Pitches At?
DESCRIPTION;ENCODING=QUOTED-PRINTABLE:Paddy Coyne's at Where My Pitches At?=0D=0A Time: 6:00 PM=0D=0A Location: Sammamish High School, Field 1
CLASS:PUBLIC
PRIORITY:5
BEGIN:VALARM
TRIGGER:-PT180M
ACTION:DISPLAY
DESCRIPTION:Reminder
END:VALARM
END:VEVENT
BEGIN:VEVENT
DTSTART:2013-07-25T01:00:00Z
DTEND:2013-07-25T03:30:00Z
LOCATION:MM6: Marymoor, Field 6
CATEGORIES:Softball,Paddy Coyne's,BB/SAA
UID:F7D203F46FC124B8763A6FE6E938AE:
DTSTAMP:2026-04-21T05:43:55Z:
SUMMARY:All Saints at Paddy Coyne's
DESCRIPTION;ENCODING=QUOTED-PRINTABLE:All Saints at Paddy Coyne's=0D=0A Time: 6:00 PM=0D=0A Location: Marymoor, Field 6
CLASS:PUBLIC
PRIORITY:5
BEGIN:VALARM
TRIGGER:-PT180M
ACTION:DISPLAY
DESCRIPTION:Reminder
END:VALARM
END:VEVENT
BEGIN:VEVENT
DTSTART:2013-08-08T01:00:00Z
DTEND:2013-08-08T03:30:00Z
LOCATION:HV1: Hidden Valley, Field 1
CATEGORIES:Softball,Paddy Coyne's,BB/SAA
UID:C439164C7020E946AAF780A86B3060B2:
DTSTAMP:2026-04-21T05:43:55Z:
SUMMARY:Cabo Loco/JC Wright at Paddy Coyne's
DESCRIPTION;ENCODING=QUOTED-PRINTABLE:Cabo Loco/JC Wright at Paddy Coyne's=0D=0A Time: 6:00 PM=0D=0A Location: Hidden Valley, Field 1
CLASS:PUBLIC
PRIORITY:5
BEGIN:VALARM
TRIGGER:-PT180M
ACTION:DISPLAY
DESCRIPTION:Reminder
END:VALARM
END:VEVENT
BEGIN:VEVENT
DTSTART:2013-08-15T01:00:00Z
DTEND:2013-08-15T03:30:00Z
LOCATION:MM6: Marymoor, Field 6
CATEGORIES:Softball,Paddy Coyne's,BB/SAA
UID:AA5ECA94F6EA634ABFCFB6AA5692A4DA:
DTSTAMP:2026-04-21T05:43:55Z:
SUMMARY:Paddy Coyne's at Hit Squad
DESCRIPTION;ENCODING=QUOTED-PRINTABLE:Paddy Coyne's at Hit Squad=0D=0A Time: 6:00 PM=0D=0A Location: Marymoor, Field 6
CLASS:PUBLIC
PRIORITY:5
BEGIN:VALARM
TRIGGER:-PT180M
ACTION:DISPLAY
DESCRIPTION:Reminder
END:VALARM
END:VEVENT
BEGIN:VEVENT
DTSTART:2013-08-23T01:00:00Z
DTEND:2013-08-23T03:30:00Z
LOCATION:HV2: Hidden Valley, Field 2
CATEGORIES:Softball,Paddy Coyne's,BB/SAA
UID:AA7BCC4EADE83542A682D157CE4CD46F:
DTSTAMP:2026-04-21T05:43:55Z:
SUMMARY:Paddy Coyne's at Where My Pitches At?
DESCRIPTION;ENCODING=QUOTED-PRINTABLE:Paddy Coyne's at Where My Pitches At?=0D=0A Time: 6:00 PM=0D=0A Location: Hidden Valley, Field 2
CLASS:PUBLIC
PRIORITY:5
BEGIN:VALARM
TRIGGER:-PT180M
ACTION:DISPLAY
DESCRIPTION:Reminder
END:VALARM
END:VEVENT
BEGIN:VEVENT
DTSTART:2013-08-29T01:00:00Z
DTEND:2013-08-29T03:30:00Z
LOCATION:MM6: Marymoor, Field 6
CATEGORIES:Softball,Paddy Coyne's,BB/SAA
UID:F8D1E8D874D7F46A0BA4D2D4862A2C:
DTSTAMP:2026-04-21T05:43:55Z:
SUMMARY:Paddy Coyne's at All Saints
DESCRIPTION;ENCODING=QUOTED-PRINTABLE:Paddy Coyne's at All Saints=0D=0A Time: 6:00 PM=0D=0A Location: Marymoor, Field 6
CLASS:PUBLIC
PRIORITY:5
BEGIN:VALARM
TRIGGER:-PT180M
ACTION:DISPLAY
DESCRIPTION:Reminder
END:VALARM
END:VEVENT
BEGIN:VEVENT
DTSTART:2013-09-05T01:00:00Z
DTEND:2013-09-05T03:30:00Z
LOCATION:MM8: Marymoor, Field 8
CATEGORIES:Softball,Paddy Coyne's,BB/SAA
UID:D3BF3DF71B5AC04F92EA3983D3C48478:
DTSTAMP:2026-04-21T05:43:55Z:
SUMMARY:Palmer's Bombers at Paddy Coyne's
DESCRIPTION;ENCODING=QUOTED-PRINTABLE:Palmer's Bombers at Paddy Coyne's=0D=0A Time: 6:00 PM=0D=0A Location: Marymoor, Field 8
CLASS:PUBLIC
PRIORITY:5
BEGIN:VALARM
TRIGGER:-PT180M
ACTION:DISPLAY
DESCRIPTION:Reminder
END:VALARM
END:VEVENT
BEGIN:VEVENT
DTSTART:2013-09-13T01:00:00Z
DTEND:2013-09-13T03:30:00Z
LOCATION:MM7: Marymoor, Field 7
CATEGORIES:Softball,Paddy Coyne's,BB/SAA
UID:A372F77B057154A8EE876491A02498:
DTSTAMP:2026-04-21T05:43:55Z:
SUMMARY:Palmer's Bombers at Paddy Coyne's
DESCRIPTION;ENCODING=QUOTED-PRINTABLE:Palmer's Bombers at Paddy Coyne's=0D=0A Time: 6:00 PM=0D=0A Location: Marymoor, Field 7
CLASS:PUBLIC
PRIORITY:5
BEGIN:VALARM
TRIGGER:-PT180M
ACTION:DISPLAY
DESCRIPTION:Reminder
END:VALARM
END:VEVENT
END:VCALENDAR
