BEGIN:VCALENDAR
PRODID:-//Microsoft Corporation//Outlook 11.0 MIMEDIR//EN
VERSION:2.0
METHOD:PUBLISH
BEGIN:VEVENT
DTSTART:2013-07-11T03:30:00Z
DTEND:2013-07-11T06:00:00Z
LOCATION:MM6: Marymoor, Field 6
CATEGORIES:Softball,Hit Squad,BB/SAA
UID:DFA2C778BC294840937567CFF88987E9:
DTSTAMP:2026-04-21T05:43:23Z:
SUMMARY:Paddy Coyne's at Hit Squad
DESCRIPTION;ENCODING=QUOTED-PRINTABLE:Paddy Coyne's at Hit Squad=0D=0A Time: 8:30 PM=0D=0A Location: Marymoor, Field 6
CLASS:PUBLIC
PRIORITY:5
BEGIN:VALARM
TRIGGER:-PT330M
ACTION:DISPLAY
DESCRIPTION:Reminder
END:VALARM
END:VEVENT
BEGIN:VEVENT
DTSTART:2013-07-18T01:00:00Z
DTEND:2013-07-18T03:30:00Z
LOCATION:HV1: Hidden Valley, Field 1
CATEGORIES:Softball,Hit Squad,BB/SAA
UID:15B324CFC757634BB83485A86CEA1958:
DTSTAMP:2026-04-21T05:43:23Z:
SUMMARY:Hit Squad at Palmer's Bombers
DESCRIPTION;ENCODING=QUOTED-PRINTABLE:Hit Squad at Palmer's Bombers=0D=0A Time: 6:00 PM=0D=0A Location: Hidden Valley, Field 1
CLASS:PUBLIC
PRIORITY:5
BEGIN:VALARM
TRIGGER:-PT180M
ACTION:DISPLAY
DESCRIPTION:Reminder
END:VALARM
END:VEVENT
BEGIN:VEVENT
DTSTART:2013-07-25T03:30:00Z
DTEND:2013-07-25T06:00:00Z
LOCATION:HV1: Hidden Valley, Field 1
CATEGORIES:Softball,Hit Squad,BB/SAA
UID:C9F22AF2CA9A904B8D9C43A158B41E5E:
DTSTAMP:2026-04-21T05:43:23Z:
SUMMARY:Hit Squad at Cabo Loco/JC Wright
DESCRIPTION;ENCODING=QUOTED-PRINTABLE:Hit Squad at Cabo Loco/JC Wright=0D=0A Time: 8:30 PM=0D=0A Location: Hidden Valley, Field 1
CLASS:PUBLIC
PRIORITY:5
BEGIN:VALARM
TRIGGER:-PT330M
ACTION:DISPLAY
DESCRIPTION:Reminder
END:VALARM
END:VEVENT
BEGIN:VEVENT
DTSTART:2013-08-01T01:00:00Z
DTEND:2013-08-01T03:30:00Z
LOCATION:MM6: Marymoor, Field 6
CATEGORIES:Softball,Hit Squad,BB/SAA
UID:6A6BD5BAC6DCD48966D704CA258CB86:
DTSTAMP:2026-04-21T05:43:23Z:
SUMMARY:Hit Squad at All Saints
DESCRIPTION;ENCODING=QUOTED-PRINTABLE:Hit Squad at All Saints=0D=0A Time: 6:00 PM=0D=0A Location: Marymoor, Field 6
CLASS:PUBLIC
PRIORITY:5
BEGIN:VALARM
TRIGGER:-PT180M
ACTION:DISPLAY
DESCRIPTION:Reminder
END:VALARM
END:VEVENT
BEGIN:VEVENT
DTSTART:2013-08-08T03:30:00Z
DTEND:2013-08-08T06:00:00Z
LOCATION:MM7: Marymoor, Field 7
CATEGORIES:Softball,Hit Squad,BB/SAA
UID:F2825B85CECD479B316216D20E710:
DTSTAMP:2026-04-21T05:43:23Z:
SUMMARY:Where My Pitches At? at Hit Squad
DESCRIPTION;ENCODING=QUOTED-PRINTABLE:Where My Pitches At? at Hit Squad=0D=0A Time: 8:30 PM=0D=0A Location: Marymoor, Field 7
CLASS:PUBLIC
PRIORITY:5
BEGIN:VALARM
TRIGGER:-PT330M
ACTION:DISPLAY
DESCRIPTION:Reminder
END:VALARM
END:VEVENT
BEGIN:VEVENT
DTSTART:2013-08-15T01:00:00Z
DTEND:2013-08-15T03:30:00Z
LOCATION:MM6: Marymoor, Field 6
CATEGORIES:Softball,Hit Squad,BB/SAA
UID:91E2C65A66EF340BFFB1989418E7A3:
DTSTAMP:2026-04-21T05:43:23Z:
SUMMARY:Paddy Coyne's at Hit Squad
DESCRIPTION;ENCODING=QUOTED-PRINTABLE:Paddy Coyne's at Hit Squad=0D=0A Time: 6:00 PM=0D=0A Location: Marymoor, Field 6
CLASS:PUBLIC
PRIORITY:5
BEGIN:VALARM
TRIGGER:-PT180M
ACTION:DISPLAY
DESCRIPTION:Reminder
END:VALARM
END:VEVENT
BEGIN:VEVENT
DTSTART:2013-08-22T01:00:00Z
DTEND:2013-08-22T03:30:00Z
LOCATION:MM6: Marymoor, Field 6
CATEGORIES:Softball,Hit Squad,BB/SAA
UID:5B22576BBD37484783E7C54BFA125C7:
DTSTAMP:2026-04-21T05:43:23Z:
SUMMARY:Hit Squad at Palmer's Bombers
DESCRIPTION;ENCODING=QUOTED-PRINTABLE:Hit Squad at Palmer's Bombers=0D=0A Time: 6:00 PM=0D=0A Location: Marymoor, Field 6
CLASS:PUBLIC
PRIORITY:5
BEGIN:VALARM
TRIGGER:-PT180M
ACTION:DISPLAY
DESCRIPTION:Reminder
END:VALARM
END:VEVENT
BEGIN:VEVENT
DTSTART:2013-08-29T03:30:00Z
DTEND:2013-08-29T06:00:00Z
LOCATION:MM7: Marymoor, Field 7
CATEGORIES:Softball,Hit Squad,BB/SAA
UID:A64A2934AE9EB46B2EEDD9F6C1FD6C4:
DTSTAMP:2026-04-21T05:43:23Z:
SUMMARY:Hit Squad at Cabo Loco/JC Wright
DESCRIPTION;ENCODING=QUOTED-PRINTABLE:Hit Squad at Cabo Loco/JC Wright=0D=0A Time: 8:30 PM=0D=0A Location: Marymoor, Field 7
CLASS:PUBLIC
PRIORITY:5
BEGIN:VALARM
TRIGGER:-PT330M
ACTION:DISPLAY
DESCRIPTION:Reminder
END:VALARM
END:VEVENT
BEGIN:VEVENT
DTSTART:2013-09-05T03:30:00Z
DTEND:2013-09-05T06:00:00Z
LOCATION:MM8: Marymoor, Field 8
CATEGORIES:Softball,Hit Squad,BB/SAA
UID:224A6ACEF41FA945903A4BB8A5AC2ED:
DTSTAMP:2026-04-21T05:43:23Z:
SUMMARY:All Saints at Hit Squad
DESCRIPTION;ENCODING=QUOTED-PRINTABLE:All Saints at Hit Squad=0D=0A Time: 8:30 PM=0D=0A Location: Marymoor, Field 8
CLASS:PUBLIC
PRIORITY:5
BEGIN:VALARM
TRIGGER:-PT330M
ACTION:DISPLAY
DESCRIPTION:Reminder
END:VALARM
END:VEVENT
END:VCALENDAR
