BEGIN:VCALENDAR
PRODID:-//Microsoft Corporation//Outlook 11.0 MIMEDIR//EN
VERSION:2.0
METHOD:PUBLISH
BEGIN:VEVENT
DTSTART:2013-07-11T01:00:00Z
DTEND:2013-07-11T03:30:00Z
LOCATION:MM6: Marymoor, Field 6
CATEGORIES:Softball,Cabo Loco/JC Wright,BB/SAA
UID:A3AC6158A0F79240A9714ED3F883A2B:
DTSTAMP:2026-04-21T05:45:48Z:
SUMMARY:Cabo Loco/JC Wright at Palmer's Bombers
DESCRIPTION;ENCODING=QUOTED-PRINTABLE:Cabo Loco/JC Wright at Palmer's Bombers=0D=0A Time: 6:00 PM=0D=0A Location: Marymoor, Field 6
CLASS:PUBLIC
PRIORITY:5
BEGIN:VALARM
TRIGGER:-PT180M
ACTION:DISPLAY
DESCRIPTION:Reminder
END:VALARM
END:VEVENT
BEGIN:VEVENT
DTSTART:2013-07-18T03:30:00Z
DTEND:2013-07-18T06:00:00Z
LOCATION:HV1: Hidden Valley, Field 1
CATEGORIES:Softball,Cabo Loco/JC Wright,BB/SAA
UID:D9AF7B9BADBD174C966B28EF905BA893:
DTSTAMP:2026-04-21T05:45:48Z:
SUMMARY:Cabo Loco/JC Wright at All Saints
DESCRIPTION;ENCODING=QUOTED-PRINTABLE:Cabo Loco/JC Wright at All Saints=0D=0A Time: 8:30 PM=0D=0A Location: Hidden Valley, Field 1
CLASS:PUBLIC
PRIORITY:5
BEGIN:VALARM
TRIGGER:-PT330M
ACTION:DISPLAY
DESCRIPTION:Reminder
END:VALARM
END:VEVENT
BEGIN:VEVENT
DTSTART:2013-07-25T03:30:00Z
DTEND:2013-07-25T06:00:00Z
LOCATION:HV1: Hidden Valley, Field 1
CATEGORIES:Softball,Cabo Loco/JC Wright,BB/SAA
UID:ACF8CF2891724AAEF216A88C26496C:
DTSTAMP:2026-04-21T05:45:48Z:
SUMMARY:Hit Squad at Cabo Loco/JC Wright
DESCRIPTION;ENCODING=QUOTED-PRINTABLE:Hit Squad at Cabo Loco/JC Wright=0D=0A Time: 8:30 PM=0D=0A Location: Hidden Valley, Field 1
CLASS:PUBLIC
PRIORITY:5
BEGIN:VALARM
TRIGGER:-PT330M
ACTION:DISPLAY
DESCRIPTION:Reminder
END:VALARM
END:VEVENT
BEGIN:VEVENT
DTSTART:2013-08-03T01:00:00Z
DTEND:2013-08-03T03:30:00Z
LOCATION:HV2: Hidden Valley, Field 2
CATEGORIES:Softball,Cabo Loco/JC Wright,BB/SAA
UID:AFF2785FB210354BA873F26BB29A9FB:
DTSTAMP:2026-04-21T05:45:48Z:
SUMMARY:Where My Pitches At? at Cabo Loco/JC Wright
DESCRIPTION;ENCODING=QUOTED-PRINTABLE:Where My Pitches At? at Cabo Loco/JC Wright=0D=0A Time: 6:00 PM=0D=0A Location: Hidden Valley, Field 2
CLASS:PUBLIC
PRIORITY:5
BEGIN:VALARM
TRIGGER:-PT180M
ACTION:DISPLAY
DESCRIPTION:Reminder
END:VALARM
END:VEVENT
BEGIN:VEVENT
DTSTART:2013-08-08T01:00:00Z
DTEND:2013-08-08T03:30:00Z
LOCATION:HV1: Hidden Valley, Field 1
CATEGORIES:Softball,Cabo Loco/JC Wright,BB/SAA
UID:938345DE8BBA924586CB891C94DD3B:
DTSTAMP:2026-04-21T05:45:48Z:
SUMMARY:Cabo Loco/JC Wright at Paddy Coyne's
DESCRIPTION;ENCODING=QUOTED-PRINTABLE:Cabo Loco/JC Wright at Paddy Coyne's=0D=0A Time: 6:00 PM=0D=0A Location: Hidden Valley, Field 1
CLASS:PUBLIC
PRIORITY:5
BEGIN:VALARM
TRIGGER:-PT180M
ACTION:DISPLAY
DESCRIPTION:Reminder
END:VALARM
END:VEVENT
BEGIN:VEVENT
DTSTART:2013-08-15T03:30:00Z
DTEND:2013-08-15T06:00:00Z
LOCATION:MM7: Marymoor, Field 7
CATEGORIES:Softball,Cabo Loco/JC Wright,BB/SAA
UID:A9D22E88375B53469B3154BBE1AC2F56:
DTSTAMP:2026-04-21T05:45:48Z:
SUMMARY:Cabo Loco/JC Wright at Palmer's Bombers
DESCRIPTION;ENCODING=QUOTED-PRINTABLE:Cabo Loco/JC Wright at Palmer's Bombers=0D=0A Time: 8:30 PM=0D=0A Location: Marymoor, Field 7
CLASS:PUBLIC
PRIORITY:5
BEGIN:VALARM
TRIGGER:-PT330M
ACTION:DISPLAY
DESCRIPTION:Reminder
END:VALARM
END:VEVENT
BEGIN:VEVENT
DTSTART:2013-08-24T03:30:00Z
DTEND:2013-08-24T06:00:00Z
LOCATION:HV1: Hidden Valley, Field 1
CATEGORIES:Softball,Cabo Loco/JC Wright,BB/SAA
UID:A71830A1BA38FE46BEE5FDDE3341E151:
DTSTAMP:2026-04-21T05:45:48Z:
SUMMARY:All Saints at Cabo Loco/JC Wright
DESCRIPTION;ENCODING=QUOTED-PRINTABLE:All Saints at Cabo Loco/JC Wright=0D=0A Time: 8:30 PM=0D=0A Location: Hidden Valley, Field 1
CLASS:PUBLIC
PRIORITY:5
BEGIN:VALARM
TRIGGER:-PT330M
ACTION:DISPLAY
DESCRIPTION:Reminder
END:VALARM
END:VEVENT
BEGIN:VEVENT
DTSTART:2013-08-29T03:30:00Z
DTEND:2013-08-29T06:00:00Z
LOCATION:MM7: Marymoor, Field 7
CATEGORIES:Softball,Cabo Loco/JC Wright,BB/SAA
UID:CD5E886A1819A47811DAFFFCE39437E:
DTSTAMP:2026-04-21T05:45:48Z:
SUMMARY:Hit Squad at Cabo Loco/JC Wright
DESCRIPTION;ENCODING=QUOTED-PRINTABLE:Hit Squad at Cabo Loco/JC Wright=0D=0A Time: 8:30 PM=0D=0A Location: Marymoor, Field 7
CLASS:PUBLIC
PRIORITY:5
BEGIN:VALARM
TRIGGER:-PT330M
ACTION:DISPLAY
DESCRIPTION:Reminder
END:VALARM
END:VEVENT
BEGIN:VEVENT
DTSTART:2013-09-07T03:30:00Z
DTEND:2013-09-07T06:00:00Z
LOCATION:HV1: Hidden Valley, Field 1
CATEGORIES:Softball,Cabo Loco/JC Wright,BB/SAA
UID:5C5E506C2DED4041A0AF5FB866F6AB84:
DTSTAMP:2026-04-21T05:45:48Z:
SUMMARY:Where My Pitches At? at Cabo Loco/JC Wright
DESCRIPTION;ENCODING=QUOTED-PRINTABLE:Where My Pitches At? at Cabo Loco/JC Wright=0D=0A Time: 8:30 PM=0D=0A Location: Hidden Valley, Field 1
CLASS:PUBLIC
PRIORITY:5
BEGIN:VALARM
TRIGGER:-PT330M
ACTION:DISPLAY
DESCRIPTION:Reminder
END:VALARM
END:VEVENT
BEGIN:VEVENT
DTSTART:2013-09-14T02:00:00Z
DTEND:2013-09-14T04:30:00Z
LOCATION:HV1: Hidden Valley, Field 1
CATEGORIES:Softball,Cabo Loco/JC Wright,BB/SAA
UID:DB5815B44D487346AB6AFD5888F02BCB:
DTSTAMP:2026-04-21T05:45:48Z:
SUMMARY:Where My Pitches At? at Cabo Loco/JC Wright
DESCRIPTION;ENCODING=QUOTED-PRINTABLE:Where My Pitches At? at Cabo Loco/JC Wright=0D=0A Time: 7:00 PM=0D=0A Location: Hidden Valley, Field 1
CLASS:PUBLIC
PRIORITY:5
BEGIN:VALARM
TRIGGER:-PT240M
ACTION:DISPLAY
DESCRIPTION:Reminder
END:VALARM
END:VEVENT
END:VCALENDAR
