BEGIN:VCALENDAR
PRODID:-//Microsoft Corporation//Outlook 11.0 MIMEDIR//EN
VERSION:2.0
METHOD:PUBLISH
BEGIN:VEVENT
DTSTART:2013-07-11T01:00:00Z
DTEND:2013-07-11T03:30:00Z
LOCATION:MM7: Marymoor, Field 7
CATEGORIES:Softball,Goose Pub Wingmen,BB/SAA
UID:B64F75434876F4CB7CF4725D97444:
DTSTAMP:2026-04-21T05:45:11Z:
SUMMARY:Goose Pub Wingmen at Fatburger
DESCRIPTION;ENCODING=QUOTED-PRINTABLE:Goose Pub Wingmen at Fatburger=0D=0A Time: 6:00 PM=0D=0A Location: Marymoor, Field 7
CLASS:PUBLIC
PRIORITY:5
BEGIN:VALARM
TRIGGER:-PT180M
ACTION:DISPLAY
DESCRIPTION:Reminder
END:VALARM
END:VEVENT
BEGIN:VEVENT
DTSTART:2013-07-19T01:00:00Z
DTEND:2013-07-19T03:30:00Z
LOCATION:HV1: Hidden Valley, Field 1
CATEGORIES:Softball,Goose Pub Wingmen,BB/SAA
UID:855E71EDD97E774B983BAF93E82B4B:
DTSTAMP:2026-04-21T05:45:11Z:
SUMMARY:HST Construction at Goose Pub Wingmen
DESCRIPTION;ENCODING=QUOTED-PRINTABLE:HST Construction at Goose Pub Wingmen=0D=0A Time: 6:00 PM=0D=0A Location: Hidden Valley, Field 1
CLASS:PUBLIC
PRIORITY:5
BEGIN:VALARM
TRIGGER:-PT180M
ACTION:DISPLAY
DESCRIPTION:Reminder
END:VALARM
END:VEVENT
BEGIN:VEVENT
DTSTART:2013-07-25T03:30:00Z
DTEND:2013-07-25T06:00:00Z
LOCATION:MM6: Marymoor, Field 6
CATEGORIES:Softball,Goose Pub Wingmen,BB/SAA
UID:1DE4634E3AD3204A80195F18A7DFDB9A:
DTSTAMP:2026-04-21T05:45:11Z:
SUMMARY:Goose Pub Wingmen at Bellevue Merchants
DESCRIPTION;ENCODING=QUOTED-PRINTABLE:Goose Pub Wingmen at Bellevue Merchants=0D=0A Time: 8:30 PM=0D=0A Location: Marymoor, Field 6
CLASS:PUBLIC
PRIORITY:5
BEGIN:VALARM
TRIGGER:-PT330M
ACTION:DISPLAY
DESCRIPTION:Reminder
END:VALARM
END:VEVENT
BEGIN:VEVENT
DTSTART:2013-08-01T03:30:00Z
DTEND:2013-08-01T06:00:00Z
LOCATION:MM6: Marymoor, Field 6
CATEGORIES:Softball,Goose Pub Wingmen,BB/SAA
UID:A4BDFDE79C3CA346B24F25A1353D5675:
DTSTAMP:2026-04-21T05:45:11Z:
SUMMARY:Steele Homes, Inc. Rivals at Goose Pub Wingmen
DESCRIPTION;ENCODING=QUOTED-PRINTABLE:Steele Homes, Inc. Rivals at Goose Pub Wingmen=0D=0A Time: 8:30 PM=0D=0A Location: Marymoor, Field 6
CLASS:PUBLIC
PRIORITY:5
BEGIN:VALARM
TRIGGER:-PT330M
ACTION:DISPLAY
DESCRIPTION:Reminder
END:VALARM
END:VEVENT
BEGIN:VEVENT
DTSTART:2013-08-08T01:00:00Z
DTEND:2013-08-08T03:30:00Z
LOCATION:MM8: Marymoor, Field 8
CATEGORIES:Softball,Goose Pub Wingmen,BB/SAA
UID:7793B76C256A2843B72E39B0A3DB2C7:
DTSTAMP:2026-04-21T05:45:11Z:
SUMMARY:60-Day DL at Goose Pub Wingmen
DESCRIPTION;ENCODING=QUOTED-PRINTABLE:60-Day DL at Goose Pub Wingmen=0D=0A Time: 6:00 PM=0D=0A Location: Marymoor, Field 8
CLASS:PUBLIC
PRIORITY:5
BEGIN:VALARM
TRIGGER:-PT180M
ACTION:DISPLAY
DESCRIPTION:Reminder
END:VALARM
END:VEVENT
BEGIN:VEVENT
DTSTART:2013-08-15T01:00:00Z
DTEND:2013-08-15T03:30:00Z
LOCATION:MM8: Marymoor, Field 8
CATEGORIES:Softball,Goose Pub Wingmen,BB/SAA
UID:D27CD4E8865D14BBCE9514A1BB79022:
DTSTAMP:2026-04-21T05:45:11Z:
SUMMARY:j michaels at Goose Pub Wingmen
DESCRIPTION;ENCODING=QUOTED-PRINTABLE:j michaels at Goose Pub Wingmen=0D=0A Time: 6:00 PM=0D=0A Location: Marymoor, Field 8
CLASS:PUBLIC
PRIORITY:5
BEGIN:VALARM
TRIGGER:-PT180M
ACTION:DISPLAY
DESCRIPTION:Reminder
END:VALARM
END:VEVENT
BEGIN:VEVENT
DTSTART:2013-08-24T01:00:00Z
DTEND:2013-08-24T03:30:00Z
LOCATION:HV1: Hidden Valley, Field 1
CATEGORIES:Softball,Goose Pub Wingmen,BB/SAA
UID:57D6B0857BA2F5478798BBAA3E9362CE:
DTSTAMP:2026-04-21T05:45:11Z:
SUMMARY:Goose Pub Wingmen at Kona Kitchen
DESCRIPTION;ENCODING=QUOTED-PRINTABLE:Goose Pub Wingmen at Kona Kitchen=0D=0A Time: 6:00 PM=0D=0A Location: Hidden Valley, Field 1
CLASS:PUBLIC
PRIORITY:5
BEGIN:VALARM
TRIGGER:-PT180M
ACTION:DISPLAY
DESCRIPTION:Reminder
END:VALARM
END:VEVENT
BEGIN:VEVENT
DTSTART:2013-08-29T01:00:00Z
DTEND:2013-08-29T03:30:00Z
LOCATION:MM8: Marymoor, Field 8
CATEGORIES:Softball,Goose Pub Wingmen,BB/SAA
UID:817570C06F1F654A97FF277B7FBD1565:
DTSTAMP:2026-04-21T05:45:11Z:
SUMMARY:Goose Pub Wingmen at Fatburger
DESCRIPTION;ENCODING=QUOTED-PRINTABLE:Goose Pub Wingmen at Fatburger=0D=0A Time: 6:00 PM=0D=0A Location: Marymoor, Field 8
CLASS:PUBLIC
PRIORITY:5
BEGIN:VALARM
TRIGGER:-PT180M
ACTION:DISPLAY
DESCRIPTION:Reminder
END:VALARM
END:VEVENT
BEGIN:VEVENT
DTSTART:2013-09-06T01:00:00Z
DTEND:2013-09-06T03:30:00Z
LOCATION:MM7: Marymoor, Field 7
CATEGORIES:Softball,Goose Pub Wingmen,BB/SAA
UID:5934FA36845171478A559980D25D51CE:
DTSTAMP:2026-04-21T05:45:11Z:
SUMMARY:Goose Pub Wingmen at Bomb Squad
DESCRIPTION;ENCODING=QUOTED-PRINTABLE:Goose Pub Wingmen at Bomb Squad=0D=0A Time: 6:00 PM=0D=0A Location: Marymoor, Field 7
CLASS:PUBLIC
PRIORITY:5
BEGIN:VALARM
TRIGGER:-PT180M
ACTION:DISPLAY
DESCRIPTION:Reminder
END:VALARM
END:VEVENT
END:VCALENDAR
