BEGIN:VCALENDAR
PRODID:-//Microsoft Corporation//Outlook 11.0 MIMEDIR//EN
VERSION:2.0
METHOD:PUBLISH
BEGIN:VEVENT
DTSTART:2013-07-11T01:00:00Z
DTEND:2013-07-11T03:30:00Z
LOCATION:MM7: Marymoor, Field 7
CATEGORIES:Softball,Fatburger,BB/SAA
UID:8BF9D4526F441929E904FE4C53975:
DTSTAMP:2026-04-21T05:45:58Z:
SUMMARY:Goose Pub Wingmen at Fatburger
DESCRIPTION;ENCODING=QUOTED-PRINTABLE:Goose Pub Wingmen at Fatburger=0D=0A Time: 6:00 PM=0D=0A Location: Marymoor, Field 7
CLASS:PUBLIC
PRIORITY:5
BEGIN:VALARM
TRIGGER:-PT180M
ACTION:DISPLAY
DESCRIPTION:Reminder
END:VALARM
END:VEVENT
BEGIN:VEVENT
DTSTART:2013-07-18T01:00:00Z
DTEND:2013-07-18T03:30:00Z
LOCATION:MM7: Marymoor, Field 7
CATEGORIES:Softball,Fatburger,BB/SAA
UID:87C7D1878B1CC74C84FD8494254F7E7D:
DTSTAMP:2026-04-21T05:45:58Z:
SUMMARY:Fatburger at Steele Homes, Inc. Rivals
DESCRIPTION;ENCODING=QUOTED-PRINTABLE:Fatburger at Steele Homes, Inc. Rivals=0D=0A Time: 6:00 PM=0D=0A Location: Marymoor, Field 7
CLASS:PUBLIC
PRIORITY:5
BEGIN:VALARM
TRIGGER:-PT180M
ACTION:DISPLAY
DESCRIPTION:Reminder
END:VALARM
END:VEVENT
BEGIN:VEVENT
DTSTART:2013-07-25T01:00:00Z
DTEND:2013-07-25T03:30:00Z
LOCATION:HV1: Hidden Valley, Field 1
CATEGORIES:Softball,Fatburger,BB/SAA
UID:42E5C02F15561B4EB5DACF2F3056A5B8:
DTSTAMP:2026-04-21T05:45:58Z:
SUMMARY:60-Day DL at Fatburger
DESCRIPTION;ENCODING=QUOTED-PRINTABLE:60-Day DL at Fatburger=0D=0A Time: 6:00 PM=0D=0A Location: Hidden Valley, Field 1
CLASS:PUBLIC
PRIORITY:5
BEGIN:VALARM
TRIGGER:-PT180M
ACTION:DISPLAY
DESCRIPTION:Reminder
END:VALARM
END:VEVENT
BEGIN:VEVENT
DTSTART:2013-08-01T01:00:00Z
DTEND:2013-08-01T03:30:00Z
LOCATION:MM4: Marymoor, Field 4
CATEGORIES:Softball,Fatburger,BB/SAA
UID:3623C5464265248986A2BF95A7398AC:
DTSTAMP:2026-04-21T05:45:58Z:
SUMMARY:Fatburger at j michaels
DESCRIPTION;ENCODING=QUOTED-PRINTABLE:Fatburger at j michaels=0D=0A Time: 6:00 PM=0D=0A Location: Marymoor, Field 4
CLASS:PUBLIC
PRIORITY:5
BEGIN:VALARM
TRIGGER:-PT180M
ACTION:DISPLAY
DESCRIPTION:Reminder
END:VALARM
END:VEVENT
BEGIN:VEVENT
DTSTART:2013-08-09T01:00:00Z
DTEND:2013-08-09T03:30:00Z
LOCATION:MM6: Marymoor, Field 6
CATEGORIES:Softball,Fatburger,BB/SAA
UID:333827D6C9E7D4592612B7EFB856A77:
DTSTAMP:2026-04-21T05:45:58Z:
SUMMARY:Fatburger at Kona Kitchen
DESCRIPTION;ENCODING=QUOTED-PRINTABLE:Fatburger at Kona Kitchen=0D=0A Time: 6:00 PM=0D=0A Location: Marymoor, Field 6
CLASS:PUBLIC
PRIORITY:5
BEGIN:VALARM
TRIGGER:-PT180M
ACTION:DISPLAY
DESCRIPTION:Reminder
END:VALARM
END:VEVENT
BEGIN:VEVENT
DTSTART:2013-08-15T01:00:00Z
DTEND:2013-08-15T03:30:00Z
LOCATION:MM7: Marymoor, Field 7
CATEGORIES:Softball,Fatburger,BB/SAA
UID:E84323D9AB821C4197B48E35288D6E1F:
DTSTAMP:2026-04-21T05:45:58Z:
SUMMARY:Fatburger at Bellevue Merchants
DESCRIPTION;ENCODING=QUOTED-PRINTABLE:Fatburger at Bellevue Merchants=0D=0A Time: 6:00 PM=0D=0A Location: Marymoor, Field 7
CLASS:PUBLIC
PRIORITY:5
BEGIN:VALARM
TRIGGER:-PT180M
ACTION:DISPLAY
DESCRIPTION:Reminder
END:VALARM
END:VEVENT
BEGIN:VEVENT
DTSTART:2013-08-23T01:00:00Z
DTEND:2013-08-23T03:30:00Z
LOCATION:MM6: Marymoor, Field 6
CATEGORIES:Softball,Fatburger,BB/SAA
UID:63EC38D181F5F4DA2224543BBAECB7:
DTSTAMP:2026-04-21T05:45:58Z:
SUMMARY:HST Construction at Fatburger
DESCRIPTION;ENCODING=QUOTED-PRINTABLE:HST Construction at Fatburger=0D=0A Time: 6:00 PM=0D=0A Location: Marymoor, Field 6
CLASS:PUBLIC
PRIORITY:5
BEGIN:VALARM
TRIGGER:-PT180M
ACTION:DISPLAY
DESCRIPTION:Reminder
END:VALARM
END:VEVENT
BEGIN:VEVENT
DTSTART:2013-08-29T01:00:00Z
DTEND:2013-08-29T03:30:00Z
LOCATION:MM8: Marymoor, Field 8
CATEGORIES:Softball,Fatburger,BB/SAA
UID:47A35E8F831FB74686BD37266BA55221:
DTSTAMP:2026-04-21T05:45:58Z:
SUMMARY:Goose Pub Wingmen at Fatburger
DESCRIPTION;ENCODING=QUOTED-PRINTABLE:Goose Pub Wingmen at Fatburger=0D=0A Time: 6:00 PM=0D=0A Location: Marymoor, Field 8
CLASS:PUBLIC
PRIORITY:5
BEGIN:VALARM
TRIGGER:-PT180M
ACTION:DISPLAY
DESCRIPTION:Reminder
END:VALARM
END:VEVENT
BEGIN:VEVENT
DTSTART:2013-09-05T03:30:00Z
DTEND:2013-09-05T06:00:00Z
LOCATION:HV1: Hidden Valley, Field 1
CATEGORIES:Softball,Fatburger,BB/SAA
UID:6E5FDAD3FD135940803276607A97DE1:
DTSTAMP:2026-04-21T05:45:58Z:
SUMMARY:Steele Homes, Inc. Rivals at Fatburger
DESCRIPTION;ENCODING=QUOTED-PRINTABLE:Steele Homes, Inc. Rivals at Fatburger=0D=0A Time: 8:30 PM=0D=0A Location: Hidden Valley, Field 1
CLASS:PUBLIC
PRIORITY:5
BEGIN:VALARM
TRIGGER:-PT330M
ACTION:DISPLAY
DESCRIPTION:Reminder
END:VALARM
END:VEVENT
END:VCALENDAR
