BEGIN:VCALENDAR
PRODID:-//Microsoft Corporation//Outlook 11.0 MIMEDIR//EN
VERSION:2.0
METHOD:PUBLISH
BEGIN:VEVENT
DTSTART:2013-07-11T01:00:00Z
DTEND:2013-07-11T03:30:00Z
LOCATION:MM3: Marymoor, Field 3
CATEGORIES:Softball,60-Day DL,BB/SAA
UID:38B9C4683E221B418059DC1285E2516F:
DTSTAMP:2026-04-21T05:45:20Z:
SUMMARY:j michaels at 60-Day DL
DESCRIPTION;ENCODING=QUOTED-PRINTABLE:j michaels at 60-Day DL=0D=0A Time: 6:00 PM=0D=0A Location: Marymoor, Field 3
CLASS:PUBLIC
PRIORITY:5
BEGIN:VALARM
TRIGGER:-PT180M
ACTION:DISPLAY
DESCRIPTION:Reminder
END:VALARM
END:VEVENT
BEGIN:VEVENT
DTSTART:2013-07-20T01:00:00Z
DTEND:2013-07-20T03:30:00Z
LOCATION:HV1: Hidden Valley, Field 1
CATEGORIES:Softball,60-Day DL,BB/SAA
UID:E9F2CA9AE22C284AA8C3DBDBA2B8F46F:
DTSTAMP:2026-04-21T05:45:20Z:
SUMMARY:60-Day DL at Kona Kitchen
DESCRIPTION;ENCODING=QUOTED-PRINTABLE:60-Day DL at Kona Kitchen=0D=0A Time: 6:00 PM=0D=0A Location: Hidden Valley, Field 1
CLASS:PUBLIC
PRIORITY:5
BEGIN:VALARM
TRIGGER:-PT180M
ACTION:DISPLAY
DESCRIPTION:Reminder
END:VALARM
END:VEVENT
BEGIN:VEVENT
DTSTART:2013-07-25T01:00:00Z
DTEND:2013-07-25T03:30:00Z
LOCATION:HV1: Hidden Valley, Field 1
CATEGORIES:Softball,60-Day DL,BB/SAA
UID:5EFBD879761E14F99491972E1FF923:
DTSTAMP:2026-04-21T05:45:20Z:
SUMMARY:60-Day DL at Fatburger
DESCRIPTION;ENCODING=QUOTED-PRINTABLE:60-Day DL at Fatburger=0D=0A Time: 6:00 PM=0D=0A Location: Hidden Valley, Field 1
CLASS:PUBLIC
PRIORITY:5
BEGIN:VALARM
TRIGGER:-PT180M
ACTION:DISPLAY
DESCRIPTION:Reminder
END:VALARM
END:VEVENT
BEGIN:VEVENT
DTSTART:2013-08-01T01:00:00Z
DTEND:2013-08-01T03:30:00Z
LOCATION:HV1: Hidden Valley, Field 1
CATEGORIES:Softball,60-Day DL,BB/SAA
UID:A26864D756A942B021388085D95F72:
DTSTAMP:2026-04-21T05:45:20Z:
SUMMARY:60-Day DL at Bomb Squad
DESCRIPTION;ENCODING=QUOTED-PRINTABLE:60-Day DL at Bomb Squad=0D=0A Time: 6:00 PM=0D=0A Location: Hidden Valley, Field 1
CLASS:PUBLIC
PRIORITY:5
BEGIN:VALARM
TRIGGER:-PT180M
ACTION:DISPLAY
DESCRIPTION:Reminder
END:VALARM
END:VEVENT
BEGIN:VEVENT
DTSTART:2013-08-08T01:00:00Z
DTEND:2013-08-08T03:30:00Z
LOCATION:MM8: Marymoor, Field 8
CATEGORIES:Softball,60-Day DL,BB/SAA
UID:AC9DC84183C0B7448CA13CB48B32CAF1:
DTSTAMP:2026-04-21T05:45:20Z:
SUMMARY:60-Day DL at Goose Pub Wingmen
DESCRIPTION;ENCODING=QUOTED-PRINTABLE:60-Day DL at Goose Pub Wingmen=0D=0A Time: 6:00 PM=0D=0A Location: Marymoor, Field 8
CLASS:PUBLIC
PRIORITY:5
BEGIN:VALARM
TRIGGER:-PT180M
ACTION:DISPLAY
DESCRIPTION:Reminder
END:VALARM
END:VEVENT
BEGIN:VEVENT
DTSTART:2013-08-15T03:30:00Z
DTEND:2013-08-15T06:00:00Z
LOCATION:MM8: Marymoor, Field 8
CATEGORIES:Softball,60-Day DL,BB/SAA
UID:7D33BDA1C86FB40823EC556DBC5EEA6:
DTSTAMP:2026-04-21T05:45:20Z:
SUMMARY:60-Day DL at Steele Homes, Inc. Rivals
DESCRIPTION;ENCODING=QUOTED-PRINTABLE:60-Day DL at Steele Homes, Inc. Rivals=0D=0A Time: 8:30 PM=0D=0A Location: Marymoor, Field 8
CLASS:PUBLIC
PRIORITY:5
BEGIN:VALARM
TRIGGER:-PT330M
ACTION:DISPLAY
DESCRIPTION:Reminder
END:VALARM
END:VEVENT
BEGIN:VEVENT
DTSTART:2013-08-22T03:30:00Z
DTEND:2013-08-22T06:00:00Z
LOCATION:HV1: Hidden Valley, Field 1
CATEGORIES:Softball,60-Day DL,BB/SAA
UID:A39CECCAF5B443B4DA50B6E266A39C:
DTSTAMP:2026-04-21T05:45:20Z:
SUMMARY:Bellevue Merchants at 60-Day DL
DESCRIPTION;ENCODING=QUOTED-PRINTABLE:Bellevue Merchants at 60-Day DL=0D=0A Time: 8:30 PM=0D=0A Location: Hidden Valley, Field 1
CLASS:PUBLIC
PRIORITY:5
BEGIN:VALARM
TRIGGER:-PT330M
ACTION:DISPLAY
DESCRIPTION:Reminder
END:VALARM
END:VEVENT
BEGIN:VEVENT
DTSTART:2013-08-29T01:00:00Z
DTEND:2013-08-29T03:30:00Z
LOCATION:MM7: Marymoor, Field 7
CATEGORIES:Softball,60-Day DL,BB/SAA
UID:69D5ADBE53274F44BE3AFF4B64575:
DTSTAMP:2026-04-21T05:45:20Z:
SUMMARY:j michaels at 60-Day DL
DESCRIPTION;ENCODING=QUOTED-PRINTABLE:j michaels at 60-Day DL=0D=0A Time: 6:00 PM=0D=0A Location: Marymoor, Field 7
CLASS:PUBLIC
PRIORITY:5
BEGIN:VALARM
TRIGGER:-PT180M
ACTION:DISPLAY
DESCRIPTION:Reminder
END:VALARM
END:VEVENT
BEGIN:VEVENT
DTSTART:2013-09-07T01:00:00Z
DTEND:2013-09-07T03:30:00Z
LOCATION:HV1: Hidden Valley, Field 1
CATEGORIES:Softball,60-Day DL,BB/SAA
UID:7751CC327385745BC8093F62D254FC:
DTSTAMP:2026-04-21T05:45:20Z:
SUMMARY:Kona Kitchen at 60-Day DL
DESCRIPTION;ENCODING=QUOTED-PRINTABLE:Kona Kitchen at 60-Day DL=0D=0A Time: 6:00 PM=0D=0A Location: Hidden Valley, Field 1
CLASS:PUBLIC
PRIORITY:5
BEGIN:VALARM
TRIGGER:-PT180M
ACTION:DISPLAY
DESCRIPTION:Reminder
END:VALARM
END:VEVENT
BEGIN:VEVENT
DTSTART:2013-09-18T01:30:00Z
DTEND:2013-09-18T04:00:00Z
LOCATION:MM7: Marymoor, Field 7
CATEGORIES:Softball,60-Day DL,BB/SAA
UID:A5988C6D1D17F438984F253104E52:
DTSTAMP:2026-04-21T05:45:20Z:
SUMMARY:Kona Kitchen at 60-Day DL
DESCRIPTION;ENCODING=QUOTED-PRINTABLE:Kona Kitchen at 60-Day DL=0D=0A Time: 6:30 PM=0D=0A Location: Marymoor, Field 7
CLASS:PUBLIC
PRIORITY:5
BEGIN:VALARM
TRIGGER:-PT210M
ACTION:DISPLAY
DESCRIPTION:Reminder
END:VALARM
END:VEVENT
END:VCALENDAR
