BEGIN:VCALENDAR
PRODID:-//Microsoft Corporation//Outlook 11.0 MIMEDIR//EN
VERSION:2.0
METHOD:PUBLISH
BEGIN:VEVENT
DTSTART:2013-07-12T03:30:00Z
DTEND:2013-07-12T06:00:00Z
LOCATION:MM7: Marymoor, Field 7
CATEGORIES:Softball,I'd Hit It,BB/SAA
UID:FE3CE12E78455841A871D6D4D6C4DBB3:
DTSTAMP:2026-04-21T05:44:27Z:
SUMMARY:HST Construction at I'd Hit It
DESCRIPTION;ENCODING=QUOTED-PRINTABLE:HST Construction at I'd Hit It=0D=0A Time: 8:30 PM=0D=0A Location: Marymoor, Field 7
CLASS:PUBLIC
PRIORITY:5
BEGIN:VALARM
TRIGGER:-PT330M
ACTION:DISPLAY
DESCRIPTION:Reminder
END:VALARM
END:VEVENT
BEGIN:VEVENT
DTSTART:2013-07-18T03:30:00Z
DTEND:2013-07-18T06:00:00Z
LOCATION:MM7: Marymoor, Field 7
CATEGORIES:Softball,I'd Hit It,BB/SAA
UID:183788722D40B94EB73ECF1ECB3C68A0:
DTSTAMP:2026-04-21T05:44:27Z:
SUMMARY:I'd Hit It at 520 LOBS
DESCRIPTION;ENCODING=QUOTED-PRINTABLE:I'd Hit It at 520 LOBS=0D=0A Time: 8:30 PM=0D=0A Location: Marymoor, Field 7
CLASS:PUBLIC
PRIORITY:5
BEGIN:VALARM
TRIGGER:-PT330M
ACTION:DISPLAY
DESCRIPTION:Reminder
END:VALARM
END:VEVENT
BEGIN:VEVENT
DTSTART:2013-07-26T01:00:00Z
DTEND:2013-07-26T03:30:00Z
LOCATION:MM6: Marymoor, Field 6
CATEGORIES:Softball,I'd Hit It,BB/SAA
UID:DBBBBF7B20CED74899DB79B982D14D:
DTSTAMP:2026-04-21T05:44:27Z:
SUMMARY:I'd Hit It at Bomb Squad
DESCRIPTION;ENCODING=QUOTED-PRINTABLE:I'd Hit It at Bomb Squad=0D=0A Time: 6:00 PM=0D=0A Location: Marymoor, Field 6
CLASS:PUBLIC
PRIORITY:5
BEGIN:VALARM
TRIGGER:-PT180M
ACTION:DISPLAY
DESCRIPTION:Reminder
END:VALARM
END:VEVENT
BEGIN:VEVENT
DTSTART:2013-08-02T01:00:00Z
DTEND:2013-08-02T03:30:00Z
LOCATION:MM7: Marymoor, Field 7
CATEGORIES:Softball,I'd Hit It,BB/SAA
UID:CF71293FECE0F149A169FA75CC374A:
DTSTAMP:2026-04-21T05:44:27Z:
SUMMARY:I'd Hit It at Carpet To Go
DESCRIPTION;ENCODING=QUOTED-PRINTABLE:I'd Hit It at Carpet To Go=0D=0A Time: 6:00 PM=0D=0A Location: Marymoor, Field 7
CLASS:PUBLIC
PRIORITY:5
BEGIN:VALARM
TRIGGER:-PT180M
ACTION:DISPLAY
DESCRIPTION:Reminder
END:VALARM
END:VEVENT
BEGIN:VEVENT
DTSTART:2013-08-09T01:00:00Z
DTEND:2013-08-09T03:30:00Z
LOCATION:MM7: Marymoor, Field 7
CATEGORIES:Softball,I'd Hit It,BB/SAA
UID:24D738427BF12D479D2C9FBCA7EE3621:
DTSTAMP:2026-04-21T05:44:27Z:
SUMMARY:j michaels at I'd Hit It
DESCRIPTION;ENCODING=QUOTED-PRINTABLE:j michaels at I'd Hit It=0D=0A Time: 6:00 PM=0D=0A Location: Marymoor, Field 7
CLASS:PUBLIC
PRIORITY:5
BEGIN:VALARM
TRIGGER:-PT180M
ACTION:DISPLAY
DESCRIPTION:Reminder
END:VALARM
END:VEVENT
BEGIN:VEVENT
DTSTART:2013-08-16T01:00:00Z
DTEND:2013-08-16T03:30:00Z
LOCATION:MM8: Marymoor, Field 8
CATEGORIES:Softball,I'd Hit It,BB/SAA
UID:4521FD85B13E0488F5EB170B58041E2:
DTSTAMP:2026-04-21T05:44:27Z:
SUMMARY:HST Construction at I'd Hit It
DESCRIPTION;ENCODING=QUOTED-PRINTABLE:HST Construction at I'd Hit It=0D=0A Time: 6:00 PM=0D=0A Location: Marymoor, Field 8
CLASS:PUBLIC
PRIORITY:5
BEGIN:VALARM
TRIGGER:-PT180M
ACTION:DISPLAY
DESCRIPTION:Reminder
END:VALARM
END:VEVENT
BEGIN:VEVENT
DTSTART:2013-08-23T01:00:00Z
DTEND:2013-08-23T03:30:00Z
LOCATION:MM8: Marymoor, Field 8
CATEGORIES:Softball,I'd Hit It,BB/SAA
UID:6CAD4081BF3484685A0F17252C6BF3:
DTSTAMP:2026-04-21T05:44:27Z:
SUMMARY:I'd Hit It at 520 LOBS
DESCRIPTION;ENCODING=QUOTED-PRINTABLE:I'd Hit It at 520 LOBS=0D=0A Time: 6:00 PM=0D=0A Location: Marymoor, Field 8
CLASS:PUBLIC
PRIORITY:5
BEGIN:VALARM
TRIGGER:-PT180M
ACTION:DISPLAY
DESCRIPTION:Reminder
END:VALARM
END:VEVENT
BEGIN:VEVENT
DTSTART:2013-08-30T01:00:00Z
DTEND:2013-08-30T03:30:00Z
LOCATION:MM7: Marymoor, Field 7
CATEGORIES:Softball,I'd Hit It,BB/SAA
UID:EAC5F794E78ED84F8AA4B4718D5B15B:
DTSTAMP:2026-04-21T05:44:27Z:
SUMMARY:I'd Hit It at Bomb Squad
DESCRIPTION;ENCODING=QUOTED-PRINTABLE:I'd Hit It at Bomb Squad=0D=0A Time: 6:00 PM=0D=0A Location: Marymoor, Field 7
CLASS:PUBLIC
PRIORITY:5
BEGIN:VALARM
TRIGGER:-PT180M
ACTION:DISPLAY
DESCRIPTION:Reminder
END:VALARM
END:VEVENT
BEGIN:VEVENT
DTSTART:2013-09-06T03:30:00Z
DTEND:2013-09-06T06:00:00Z
LOCATION:HV1: Hidden Valley, Field 1
CATEGORIES:Softball,I'd Hit It,BB/SAA
UID:54AD89B0235011409AEB807AF33A6B21:
DTSTAMP:2026-04-21T05:44:27Z:
SUMMARY:Carpet To Go at I'd Hit It
DESCRIPTION;ENCODING=QUOTED-PRINTABLE:Carpet To Go at I'd Hit It=0D=0A Time: 8:30 PM=0D=0A Location: Hidden Valley, Field 1
CLASS:PUBLIC
PRIORITY:5
BEGIN:VALARM
TRIGGER:-PT330M
ACTION:DISPLAY
DESCRIPTION:Reminder
END:VALARM
END:VEVENT
BEGIN:VEVENT
DTSTART:2013-09-13T03:30:00Z
DTEND:2013-09-13T06:00:00Z
LOCATION:MM6: Marymoor, Field 6
CATEGORIES:Softball,I'd Hit It,BB/SAA
UID:8A2FF3AD4FEC4080ACE6F540EC7B9E:
DTSTAMP:2026-04-21T05:44:27Z:
SUMMARY:I'd Hit It at Bomb Squad
DESCRIPTION;ENCODING=QUOTED-PRINTABLE:I'd Hit It at Bomb Squad=0D=0A Time: 8:30 PM=0D=0A Location: Marymoor, Field 6
CLASS:PUBLIC
PRIORITY:5
BEGIN:VALARM
TRIGGER:-PT330M
ACTION:DISPLAY
DESCRIPTION:Reminder
END:VALARM
END:VEVENT
BEGIN:VEVENT
DTSTART:2013-09-19T03:45:00Z
DTEND:2013-09-19T06:15:00Z
LOCATION:HV1: Hidden Valley, Field 1
CATEGORIES:Softball,I'd Hit It,BB/SAA
UID:5FD4AB90A9244AEF06E18D090709D:
DTSTAMP:2026-04-21T05:44:27Z:
SUMMARY:Carpet To Go at I'd Hit It
DESCRIPTION;ENCODING=QUOTED-PRINTABLE:Carpet To Go at I'd Hit It=0D=0A Time: 8:45 PM=0D=0A Location: Hidden Valley, Field 1
CLASS:PUBLIC
PRIORITY:5
BEGIN:VALARM
TRIGGER:-PT345M
ACTION:DISPLAY
DESCRIPTION:Reminder
END:VALARM
END:VEVENT
END:VCALENDAR
