BEGIN:VCALENDAR
PRODID:-//Microsoft Corporation//Outlook 11.0 MIMEDIR//EN
VERSION:2.0
METHOD:PUBLISH
BEGIN:VEVENT
DTSTART:2013-07-10T01:00:00Z
DTEND:2013-07-10T03:30:00Z
LOCATION:SAM1: Sammamish High School, Field 1
CATEGORIES:Softball,The TRIAD Group,BB/SAA
UID:7BCC113BEE68B4A90A2465EA7B9DF59:
DTSTAMP:2026-04-21T05:36:02Z:
SUMMARY:Combine at The TRIAD Group
DESCRIPTION;ENCODING=QUOTED-PRINTABLE:Combine at The TRIAD Group=0D=0A Time: 6:00 PM=0D=0A Location: Sammamish High School, Field 1
CLASS:PUBLIC
PRIORITY:5
BEGIN:VALARM
TRIGGER:-PT180M
ACTION:DISPLAY
DESCRIPTION:Reminder
END:VALARM
END:VEVENT
BEGIN:VEVENT
DTSTART:2013-07-17T01:00:00Z
DTEND:2013-07-17T03:30:00Z
LOCATION:HV1: Hidden Valley, Field 1
CATEGORIES:Softball,The TRIAD Group,BB/SAA
UID:E67A6E3DA8E03444A6FF8266C5E2C997:
DTSTAMP:2026-04-21T05:36:02Z:
SUMMARY:The TRIAD Group at Infospace
DESCRIPTION;ENCODING=QUOTED-PRINTABLE:The TRIAD Group at Infospace=0D=0A Time: 6:00 PM=0D=0A Location: Hidden Valley, Field 1
CLASS:PUBLIC
PRIORITY:5
BEGIN:VALARM
TRIGGER:-PT180M
ACTION:DISPLAY
DESCRIPTION:Reminder
END:VALARM
END:VEVENT
BEGIN:VEVENT
DTSTART:2013-07-24T02:00:00Z
DTEND:2013-07-24T04:30:00Z
LOCATION:HV1: Hidden Valley, Field 1
CATEGORIES:Softball,The TRIAD Group,BB/SAA
UID:DE36291B6DEB804F9025DB7760D3A4D1:
DTSTAMP:2026-04-21T05:36:02Z:
SUMMARY:The TRIAD Group at Sample Smashers
DESCRIPTION;ENCODING=QUOTED-PRINTABLE:The TRIAD Group at Sample Smashers=0D=0A Time: 7:00 PM=0D=0A Location: Hidden Valley, Field 1
CLASS:PUBLIC
PRIORITY:5
BEGIN:VALARM
TRIGGER:-PT240M
ACTION:DISPLAY
DESCRIPTION:Reminder
END:VALARM
END:VEVENT
BEGIN:VEVENT
DTSTART:2013-07-31T01:00:00Z
DTEND:2013-07-31T03:30:00Z
LOCATION:SAM2: Sammamish High School, Field 2
CATEGORIES:Softball,The TRIAD Group,BB/SAA
UID:835555F51EFC64CA14BCA547B9FC7:
DTSTAMP:2026-04-21T05:36:02Z:
SUMMARY:The TRIAD Group at Newport Knockouts
DESCRIPTION;ENCODING=QUOTED-PRINTABLE:The TRIAD Group at Newport Knockouts=0D=0A Time: 6:00 PM=0D=0A Location: Sammamish High School, Field 2
CLASS:PUBLIC
PRIORITY:5
BEGIN:VALARM
TRIGGER:-PT180M
ACTION:DISPLAY
DESCRIPTION:Reminder
END:VALARM
END:VEVENT
BEGIN:VEVENT
DTSTART:2013-08-07T01:00:00Z
DTEND:2013-08-07T03:30:00Z
LOCATION:MM7: Marymoor, Field 7
CATEGORIES:Softball,The TRIAD Group,BB/SAA
UID:E131D65F7C9764D8160B528BB322E49:
DTSTAMP:2026-04-21T05:36:02Z:
SUMMARY:The TRIAD Group at Happy Hour
DESCRIPTION;ENCODING=QUOTED-PRINTABLE:The TRIAD Group at Happy Hour=0D=0A Time: 6:00 PM=0D=0A Location: Marymoor, Field 7
CLASS:PUBLIC
PRIORITY:5
BEGIN:VALARM
TRIGGER:-PT180M
ACTION:DISPLAY
DESCRIPTION:Reminder
END:VALARM
END:VEVENT
BEGIN:VEVENT
DTSTART:2013-08-14T01:00:00Z
DTEND:2013-08-14T03:30:00Z
LOCATION:MM6: Marymoor, Field 6
CATEGORIES:Softball,The TRIAD Group,BB/SAA
UID:A96A7B41F3DCE349989ACDADF6E54998:
DTSTAMP:2026-04-21T05:36:02Z:
SUMMARY:The TRIAD Group at MG2 Marauders
DESCRIPTION;ENCODING=QUOTED-PRINTABLE:The TRIAD Group at MG2 Marauders=0D=0A Time: 6:00 PM=0D=0A Location: Marymoor, Field 6
CLASS:PUBLIC
PRIORITY:5
BEGIN:VALARM
TRIGGER:-PT180M
ACTION:DISPLAY
DESCRIPTION:Reminder
END:VALARM
END:VEVENT
BEGIN:VEVENT
DTSTART:2013-08-21T01:00:00Z
DTEND:2013-08-21T03:30:00Z
LOCATION:HV1: Hidden Valley, Field 1
CATEGORIES:Softball,The TRIAD Group,BB/SAA
UID:E8E5EE7296A124AB6D7F54AA51BC8:
DTSTAMP:2026-04-21T05:36:02Z:
SUMMARY:Axia Home Loans at The TRIAD Group
DESCRIPTION;ENCODING=QUOTED-PRINTABLE:Axia Home Loans at The TRIAD Group=0D=0A Time: 6:00 PM=0D=0A Location: Hidden Valley, Field 1
CLASS:PUBLIC
PRIORITY:5
BEGIN:VALARM
TRIGGER:-PT180M
ACTION:DISPLAY
DESCRIPTION:Reminder
END:VALARM
END:VEVENT
BEGIN:VEVENT
DTSTART:2013-08-28T01:00:00Z
DTEND:2013-08-28T03:30:00Z
LOCATION:MM8: Marymoor, Field 8
CATEGORIES:Softball,The TRIAD Group,BB/SAA
UID:F7633283E4525408ED659781048EF39:
DTSTAMP:2026-04-21T05:36:02Z:
SUMMARY:Combine at The TRIAD Group
DESCRIPTION;ENCODING=QUOTED-PRINTABLE:Combine at The TRIAD Group=0D=0A Time: 6:00 PM=0D=0A Location: Marymoor, Field 8
CLASS:PUBLIC
PRIORITY:5
BEGIN:VALARM
TRIGGER:-PT180M
ACTION:DISPLAY
DESCRIPTION:Reminder
END:VALARM
END:VEVENT
BEGIN:VEVENT
DTSTART:2013-09-04T01:00:00Z
DTEND:2013-09-04T03:30:00Z
LOCATION:MM7: Marymoor, Field 7
CATEGORIES:Softball,The TRIAD Group,BB/SAA
UID:80ADD15BCEEE99428521D5698C76FD54:
DTSTAMP:2026-04-21T05:36:02Z:
SUMMARY:Infospace at The TRIAD Group
DESCRIPTION;ENCODING=QUOTED-PRINTABLE:Infospace at The TRIAD Group=0D=0A Time: 6:00 PM=0D=0A Location: Marymoor, Field 7
CLASS:PUBLIC
PRIORITY:5
BEGIN:VALARM
TRIGGER:-PT180M
ACTION:DISPLAY
DESCRIPTION:Reminder
END:VALARM
END:VEVENT
END:VCALENDAR
