BEGIN:VCALENDAR
PRODID:-//Microsoft Corporation//Outlook 11.0 MIMEDIR//EN
VERSION:2.0
METHOD:PUBLISH
BEGIN:VEVENT
DTSTART:2013-07-10T01:00:00Z
DTEND:2013-07-10T03:30:00Z
LOCATION:SAM2: Sammamish High School, Field 2
CATEGORIES:Softball,MG2 Marauders,BB/SAA
UID:C6279293C5531448983163BC5D52E28B:
DTSTAMP:2026-04-21T06:59:12Z:
SUMMARY:Infospace at MG2 Marauders
DESCRIPTION;ENCODING=QUOTED-PRINTABLE:Infospace at MG2 Marauders=0D=0A Time: 6:00 PM=0D=0A Location: Sammamish High School, Field 2
CLASS:PUBLIC
PRIORITY:5
BEGIN:VALARM
TRIGGER:-PT180M
ACTION:DISPLAY
DESCRIPTION:Reminder
END:VALARM
END:VEVENT
BEGIN:VEVENT
DTSTART:2013-07-17T01:00:00Z
DTEND:2013-07-17T03:30:00Z
LOCATION:SAM1: Sammamish High School, Field 1
CATEGORIES:Softball,MG2 Marauders,BB/SAA
UID:2C4E48F36D5F6441BB8C256B4EC66F7:
DTSTAMP:2026-04-21T06:59:12Z:
SUMMARY:Sample Smashers at MG2 Marauders
DESCRIPTION;ENCODING=QUOTED-PRINTABLE:Sample Smashers at MG2 Marauders=0D=0A Time: 6:00 PM=0D=0A Location: Sammamish High School, Field 1
CLASS:PUBLIC
PRIORITY:5
BEGIN:VALARM
TRIGGER:-PT180M
ACTION:DISPLAY
DESCRIPTION:Reminder
END:VALARM
END:VEVENT
BEGIN:VEVENT
DTSTART:2013-07-24T01:00:00Z
DTEND:2013-07-24T03:30:00Z
LOCATION:MM7: Marymoor, Field 7
CATEGORIES:Softball,MG2 Marauders,BB/SAA
UID:D8521A6325C1954F9F6B9148F4D8276:
DTSTAMP:2026-04-21T06:59:12Z:
SUMMARY:MG2 Marauders at Newport Knockouts
DESCRIPTION;ENCODING=QUOTED-PRINTABLE:MG2 Marauders at Newport Knockouts=0D=0A Time: 6:00 PM=0D=0A Location: Marymoor, Field 7
CLASS:PUBLIC
PRIORITY:5
BEGIN:VALARM
TRIGGER:-PT180M
ACTION:DISPLAY
DESCRIPTION:Reminder
END:VALARM
END:VEVENT
BEGIN:VEVENT
DTSTART:2013-07-31T01:00:00Z
DTEND:2013-07-31T03:30:00Z
LOCATION:HV1: Hidden Valley, Field 1
CATEGORIES:Softball,MG2 Marauders,BB/SAA
UID:FFD0F9DB8F70DA40A51CF7AAA9CB973:
DTSTAMP:2026-04-21T06:59:12Z:
SUMMARY:MG2 Marauders at Happy Hour
DESCRIPTION;ENCODING=QUOTED-PRINTABLE:MG2 Marauders at Happy Hour=0D=0A Time: 6:00 PM=0D=0A Location: Hidden Valley, Field 1
CLASS:PUBLIC
PRIORITY:5
BEGIN:VALARM
TRIGGER:-PT180M
ACTION:DISPLAY
DESCRIPTION:Reminder
END:VALARM
END:VEVENT
BEGIN:VEVENT
DTSTART:2013-08-07T01:00:00Z
DTEND:2013-08-07T03:30:00Z
LOCATION:SAM1: Sammamish High School, Field 1
CATEGORIES:Softball,MG2 Marauders,BB/SAA
UID:C876117F39AF2B4EBBC142EAC5F567C9:
DTSTAMP:2026-04-21T06:59:12Z:
SUMMARY:MG2 Marauders at Axia Home Loans
DESCRIPTION;ENCODING=QUOTED-PRINTABLE:MG2 Marauders at Axia Home Loans=0D=0A Time: 6:00 PM=0D=0A Location: Sammamish High School, Field 1
CLASS:PUBLIC
PRIORITY:5
BEGIN:VALARM
TRIGGER:-PT180M
ACTION:DISPLAY
DESCRIPTION:Reminder
END:VALARM
END:VEVENT
BEGIN:VEVENT
DTSTART:2013-08-14T01:00:00Z
DTEND:2013-08-14T03:30:00Z
LOCATION:MM6: Marymoor, Field 6
CATEGORIES:Softball,MG2 Marauders,BB/SAA
UID:A73899F0B5F84B4A801B35EF3C18738A:
DTSTAMP:2026-04-21T06:59:12Z:
SUMMARY:The TRIAD Group at MG2 Marauders
DESCRIPTION;ENCODING=QUOTED-PRINTABLE:The TRIAD Group at MG2 Marauders=0D=0A Time: 6:00 PM=0D=0A Location: Marymoor, Field 6
CLASS:PUBLIC
PRIORITY:5
BEGIN:VALARM
TRIGGER:-PT180M
ACTION:DISPLAY
DESCRIPTION:Reminder
END:VALARM
END:VEVENT
BEGIN:VEVENT
DTSTART:2013-08-21T01:00:00Z
DTEND:2013-08-21T03:30:00Z
LOCATION:MM7: Marymoor, Field 7
CATEGORIES:Softball,MG2 Marauders,BB/SAA
UID:1541ABF62E2CD442B91646EB65149ED:
DTSTAMP:2026-04-21T06:59:12Z:
SUMMARY:Combine at MG2 Marauders
DESCRIPTION;ENCODING=QUOTED-PRINTABLE:Combine at MG2 Marauders=0D=0A Time: 6:00 PM=0D=0A Location: Marymoor, Field 7
CLASS:PUBLIC
PRIORITY:5
BEGIN:VALARM
TRIGGER:-PT180M
ACTION:DISPLAY
DESCRIPTION:Reminder
END:VALARM
END:VEVENT
BEGIN:VEVENT
DTSTART:2013-08-28T01:00:00Z
DTEND:2013-08-28T03:30:00Z
LOCATION:MM6: Marymoor, Field 6
CATEGORIES:Softball,MG2 Marauders,BB/SAA
UID:246DAD6A43E3A74DB271DB31933319A:
DTSTAMP:2026-04-21T06:59:12Z:
SUMMARY:Infospace at MG2 Marauders
DESCRIPTION;ENCODING=QUOTED-PRINTABLE:Infospace at MG2 Marauders=0D=0A Time: 6:00 PM=0D=0A Location: Marymoor, Field 6
CLASS:PUBLIC
PRIORITY:5
BEGIN:VALARM
TRIGGER:-PT180M
ACTION:DISPLAY
DESCRIPTION:Reminder
END:VALARM
END:VEVENT
BEGIN:VEVENT
DTSTART:2013-09-04T01:00:00Z
DTEND:2013-09-04T03:30:00Z
LOCATION:MM6: Marymoor, Field 6
CATEGORIES:Softball,MG2 Marauders,BB/SAA
UID:B6504756B9AD44187E35946612A19D3:
DTSTAMP:2026-04-21T06:59:12Z:
SUMMARY:MG2 Marauders at Sample Smashers
DESCRIPTION;ENCODING=QUOTED-PRINTABLE:MG2 Marauders at Sample Smashers=0D=0A Time: 6:00 PM=0D=0A Location: Marymoor, Field 6
CLASS:PUBLIC
PRIORITY:5
BEGIN:VALARM
TRIGGER:-PT180M
ACTION:DISPLAY
DESCRIPTION:Reminder
END:VALARM
END:VEVENT
END:VCALENDAR
