BEGIN:VCALENDAR
PRODID:-//Microsoft Corporation//Outlook 11.0 MIMEDIR//EN
VERSION:2.0
METHOD:PUBLISH
BEGIN:VEVENT
DTSTART:2013-07-10T01:00:00Z
DTEND:2013-07-10T03:30:00Z
LOCATION:HV1: Hidden Valley, Field 1
CATEGORIES:Softball,Happy Hour,BB/SAA
UID:80A9D487CF3AD34C83C253DF177519EC:
DTSTAMP:2026-04-21T05:29:25Z:
SUMMARY:Happy Hour at Sample Smashers
DESCRIPTION;ENCODING=QUOTED-PRINTABLE:Happy Hour at Sample Smashers=0D=0A Time: 6:00 PM=0D=0A Location: Hidden Valley, Field 1
CLASS:PUBLIC
PRIORITY:5
BEGIN:VALARM
TRIGGER:-PT180M
ACTION:DISPLAY
DESCRIPTION:Reminder
END:VALARM
END:VEVENT
BEGIN:VEVENT
DTSTART:2013-07-17T01:00:00Z
DTEND:2013-07-17T03:30:00Z
LOCATION:MM6: Marymoor, Field 6
CATEGORIES:Softball,Happy Hour,BB/SAA
UID:48E248F78781243B44924E713DB6E0:
DTSTAMP:2026-04-21T05:29:25Z:
SUMMARY:Newport Knockouts at Happy Hour
DESCRIPTION;ENCODING=QUOTED-PRINTABLE:Newport Knockouts at Happy Hour=0D=0A Time: 6:00 PM=0D=0A Location: Marymoor, Field 6
CLASS:PUBLIC
PRIORITY:5
BEGIN:VALARM
TRIGGER:-PT180M
ACTION:DISPLAY
DESCRIPTION:Reminder
END:VALARM
END:VEVENT
BEGIN:VEVENT
DTSTART:2013-07-24T01:00:00Z
DTEND:2013-07-24T03:30:00Z
LOCATION:MM6: Marymoor, Field 6
CATEGORIES:Softball,Happy Hour,BB/SAA
UID:28BDEF6BB73B584393841C95F782C9E:
DTSTAMP:2026-04-21T05:29:25Z:
SUMMARY:Happy Hour at Axia Home Loans
DESCRIPTION;ENCODING=QUOTED-PRINTABLE:Happy Hour at Axia Home Loans=0D=0A Time: 6:00 PM=0D=0A Location: Marymoor, Field 6
CLASS:PUBLIC
PRIORITY:5
BEGIN:VALARM
TRIGGER:-PT180M
ACTION:DISPLAY
DESCRIPTION:Reminder
END:VALARM
END:VEVENT
BEGIN:VEVENT
DTSTART:2013-07-31T01:00:00Z
DTEND:2013-07-31T03:30:00Z
LOCATION:HV1: Hidden Valley, Field 1
CATEGORIES:Softball,Happy Hour,BB/SAA
UID:93938FC71E6AE04A95EA18E9AB7D6774:
DTSTAMP:2026-04-21T05:29:25Z:
SUMMARY:MG2 Marauders at Happy Hour
DESCRIPTION;ENCODING=QUOTED-PRINTABLE:MG2 Marauders at Happy Hour=0D=0A Time: 6:00 PM=0D=0A Location: Hidden Valley, Field 1
CLASS:PUBLIC
PRIORITY:5
BEGIN:VALARM
TRIGGER:-PT180M
ACTION:DISPLAY
DESCRIPTION:Reminder
END:VALARM
END:VEVENT
BEGIN:VEVENT
DTSTART:2013-08-07T01:00:00Z
DTEND:2013-08-07T03:30:00Z
LOCATION:MM7: Marymoor, Field 7
CATEGORIES:Softball,Happy Hour,BB/SAA
UID:DFC776A0E85E6141BCBBAD12D6E3D673:
DTSTAMP:2026-04-21T05:29:25Z:
SUMMARY:The TRIAD Group at Happy Hour
DESCRIPTION;ENCODING=QUOTED-PRINTABLE:The TRIAD Group at Happy Hour=0D=0A Time: 6:00 PM=0D=0A Location: Marymoor, Field 7
CLASS:PUBLIC
PRIORITY:5
BEGIN:VALARM
TRIGGER:-PT180M
ACTION:DISPLAY
DESCRIPTION:Reminder
END:VALARM
END:VEVENT
BEGIN:VEVENT
DTSTART:2013-08-14T01:00:00Z
DTEND:2013-08-14T03:30:00Z
LOCATION:SAM2: Sammamish High School, Field 2
CATEGORIES:Softball,Happy Hour,BB/SAA
UID:3C32A2C0C6FCF0458BE418FD4C2D3F4:
DTSTAMP:2026-04-21T05:29:25Z:
SUMMARY:Combine at Happy Hour
DESCRIPTION;ENCODING=QUOTED-PRINTABLE:Combine at Happy Hour=0D=0A Time: 6:00 PM=0D=0A Location: Sammamish High School, Field 2
CLASS:PUBLIC
PRIORITY:5
BEGIN:VALARM
TRIGGER:-PT180M
ACTION:DISPLAY
DESCRIPTION:Reminder
END:VALARM
END:VEVENT
BEGIN:VEVENT
DTSTART:2013-08-21T01:00:00Z
DTEND:2013-08-21T03:30:00Z
LOCATION:MM6: Marymoor, Field 6
CATEGORIES:Softball,Happy Hour,BB/SAA
UID:5DEEDAC5D0FAEE4FB842C39CDFA162A4:
DTSTAMP:2026-04-21T05:29:25Z:
SUMMARY:Happy Hour at Infospace
DESCRIPTION;ENCODING=QUOTED-PRINTABLE:Happy Hour at Infospace=0D=0A Time: 6:00 PM=0D=0A Location: Marymoor, Field 6
CLASS:PUBLIC
PRIORITY:5
BEGIN:VALARM
TRIGGER:-PT180M
ACTION:DISPLAY
DESCRIPTION:Reminder
END:VALARM
END:VEVENT
BEGIN:VEVENT
DTSTART:2013-08-28T03:30:00Z
DTEND:2013-08-28T06:00:00Z
LOCATION:HV1: Hidden Valley, Field 1
CATEGORIES:Softball,Happy Hour,BB/SAA
UID:F37A20C1A7D9B64EA9C454A07FDD7740:
DTSTAMP:2026-04-21T05:29:25Z:
SUMMARY:Happy Hour at Sample Smashers
DESCRIPTION;ENCODING=QUOTED-PRINTABLE:Happy Hour at Sample Smashers=0D=0A Time: 8:30 PM=0D=0A Location: Hidden Valley, Field 1
CLASS:PUBLIC
PRIORITY:5
BEGIN:VALARM
TRIGGER:-PT330M
ACTION:DISPLAY
DESCRIPTION:Reminder
END:VALARM
END:VEVENT
BEGIN:VEVENT
DTSTART:2013-09-04T03:30:00Z
DTEND:2013-09-04T06:00:00Z
LOCATION:HV1: Hidden Valley, Field 1
CATEGORIES:Softball,Happy Hour,BB/SAA
UID:85CA326B29341489E1BF64EC3DD4DD:
DTSTAMP:2026-04-21T05:29:25Z:
SUMMARY:Happy Hour at Newport Knockouts
DESCRIPTION;ENCODING=QUOTED-PRINTABLE:Happy Hour at Newport Knockouts=0D=0A Time: 8:30 PM=0D=0A Location: Hidden Valley, Field 1
CLASS:PUBLIC
PRIORITY:5
BEGIN:VALARM
TRIGGER:-PT330M
ACTION:DISPLAY
DESCRIPTION:Reminder
END:VALARM
END:VEVENT
END:VCALENDAR
