BEGIN:VCALENDAR
PRODID:-//Microsoft Corporation//Outlook 11.0 MIMEDIR//EN
VERSION:2.0
METHOD:PUBLISH
BEGIN:VEVENT
DTSTART:2013-07-09T01:00:00Z
DTEND:2013-07-09T03:30:00Z
LOCATION:MM8: Marymoor, Field 8
CATEGORIES:Softball,Polarisites,BB/SAA
UID:D0FA899EF0F5E74BA0DB942B2F721CF2:
DTSTAMP:2026-04-23T11:23:21Z:
SUMMARY:Chicks and Dicks at Polarisites
DESCRIPTION;ENCODING=QUOTED-PRINTABLE:Chicks and Dicks at Polarisites=0D=0A Time: 6:00 PM=0D=0A Location: Marymoor, Field 8
CLASS:PUBLIC
PRIORITY:5
BEGIN:VALARM
TRIGGER:-PT180M
ACTION:DISPLAY
DESCRIPTION:Reminder
END:VALARM
END:VEVENT
BEGIN:VEVENT
DTSTART:2013-07-16T01:00:00Z
DTEND:2013-07-16T03:30:00Z
LOCATION:HV2: Hidden Valley, Field 2
CATEGORIES:Softball,Polarisites,BB/SAA
UID:F53A1FA3AFB6A741A3E26B53B62B77D:
DTSTAMP:2026-04-23T11:23:21Z:
SUMMARY:Polarisites at Dreadsox
DESCRIPTION;ENCODING=QUOTED-PRINTABLE:Polarisites at Dreadsox=0D=0A Time: 6:00 PM=0D=0A Location: Hidden Valley, Field 2
CLASS:PUBLIC
PRIORITY:5
BEGIN:VALARM
TRIGGER:-PT180M
ACTION:DISPLAY
DESCRIPTION:Reminder
END:VALARM
END:VEVENT
BEGIN:VEVENT
DTSTART:2013-07-23T01:00:00Z
DTEND:2013-07-23T03:30:00Z
LOCATION:MM6: Marymoor, Field 6
CATEGORIES:Softball,Polarisites,BB/SAA
UID:499F27861931FE41B2D08268861E665E:
DTSTAMP:2026-04-23T11:23:21Z:
SUMMARY:En Fuego at Polarisites
DESCRIPTION;ENCODING=QUOTED-PRINTABLE:En Fuego at Polarisites=0D=0A Time: 6:00 PM=0D=0A Location: Marymoor, Field 6
CLASS:PUBLIC
PRIORITY:5
BEGIN:VALARM
TRIGGER:-PT180M
ACTION:DISPLAY
DESCRIPTION:Reminder
END:VALARM
END:VEVENT
BEGIN:VEVENT
DTSTART:2013-07-30T01:00:00Z
DTEND:2013-07-30T03:30:00Z
LOCATION:SAM2: Sammamish High School, Field 2
CATEGORIES:Softball,Polarisites,BB/SAA
UID:FFC237B9AEE1F4098725E3D69E37088:
DTSTAMP:2026-04-23T11:23:21Z:
SUMMARY:Polarisites at Value Village
DESCRIPTION;ENCODING=QUOTED-PRINTABLE:Polarisites at Value Village=0D=0A Time: 6:00 PM=0D=0A Location: Sammamish High School, Field 2
CLASS:PUBLIC
PRIORITY:5
BEGIN:VALARM
TRIGGER:-PT180M
ACTION:DISPLAY
DESCRIPTION:Reminder
END:VALARM
END:VEVENT
BEGIN:VEVENT
DTSTART:2013-08-06T01:00:00Z
DTEND:2013-08-06T03:30:00Z
LOCATION:HV2: Hidden Valley, Field 2
CATEGORIES:Softball,Polarisites,BB/SAA
UID:2D83143542A21E4AB240D8DC8ACC92DA:
DTSTAMP:2026-04-23T11:23:21Z:
SUMMARY:Polarisites at ChemPoint
DESCRIPTION;ENCODING=QUOTED-PRINTABLE:Polarisites at ChemPoint=0D=0A Time: 6:00 PM=0D=0A Location: Hidden Valley, Field 2
CLASS:PUBLIC
PRIORITY:5
BEGIN:VALARM
TRIGGER:-PT180M
ACTION:DISPLAY
DESCRIPTION:Reminder
END:VALARM
END:VEVENT
BEGIN:VEVENT
DTSTART:2013-08-13T01:00:00Z
DTEND:2013-08-13T03:30:00Z
LOCATION:SAM1: Sammamish High School, Field 1
CATEGORIES:Softball,Polarisites,BB/SAA
UID:E96A8D47EDA347B0B27B155DA0CF:
DTSTAMP:2026-04-23T11:23:21Z:
SUMMARY:Polarisites at Do You Concur?
DESCRIPTION;ENCODING=QUOTED-PRINTABLE:Polarisites at Do You Concur?=0D=0A Time: 6:00 PM=0D=0A Location: Sammamish High School, Field 1
CLASS:PUBLIC
PRIORITY:5
BEGIN:VALARM
TRIGGER:-PT180M
ACTION:DISPLAY
DESCRIPTION:Reminder
END:VALARM
END:VEVENT
BEGIN:VEVENT
DTSTART:2013-08-20T01:00:00Z
DTEND:2013-08-20T03:30:00Z
LOCATION:MM8: Marymoor, Field 8
CATEGORIES:Softball,Polarisites,BB/SAA
UID:C3589373E39BAA4A87FA848BACBEFB3:
DTSTAMP:2026-04-23T11:23:21Z:
SUMMARY:Polarisites at Dreamkillers
DESCRIPTION;ENCODING=QUOTED-PRINTABLE:Polarisites at Dreamkillers=0D=0A Time: 6:00 PM=0D=0A Location: Marymoor, Field 8
CLASS:PUBLIC
PRIORITY:5
BEGIN:VALARM
TRIGGER:-PT180M
ACTION:DISPLAY
DESCRIPTION:Reminder
END:VALARM
END:VEVENT
BEGIN:VEVENT
DTSTART:2013-08-27T01:00:00Z
DTEND:2013-08-27T03:30:00Z
LOCATION:MM6: Marymoor, Field 6
CATEGORIES:Softball,Polarisites,BB/SAA
UID:6BE31A12CD1924A8574E58BCE912471:
DTSTAMP:2026-04-23T11:23:21Z:
SUMMARY:AIM Consulting at Polarisites
DESCRIPTION;ENCODING=QUOTED-PRINTABLE:AIM Consulting at Polarisites=0D=0A Time: 6:00 PM=0D=0A Location: Marymoor, Field 6
CLASS:PUBLIC
PRIORITY:5
BEGIN:VALARM
TRIGGER:-PT180M
ACTION:DISPLAY
DESCRIPTION:Reminder
END:VALARM
END:VEVENT
BEGIN:VEVENT
DTSTART:2013-09-10T01:00:00Z
DTEND:2013-09-10T03:30:00Z
LOCATION:MM6: Marymoor, Field 6
CATEGORIES:Softball,Polarisites,BB/SAA
UID:E9B3C9198E02C4B8DED7C406A8D57F5:
DTSTAMP:2026-04-23T11:23:21Z:
SUMMARY:Outerwall Outlaws at Polarisites
DESCRIPTION;ENCODING=QUOTED-PRINTABLE:Outerwall Outlaws at Polarisites=0D=0A Time: 6:00 PM=0D=0A Location: Marymoor, Field 6
CLASS:PUBLIC
PRIORITY:5
BEGIN:VALARM
TRIGGER:-PT180M
ACTION:DISPLAY
DESCRIPTION:Reminder
END:VALARM
END:VEVENT
END:VCALENDAR
