BEGIN:VCALENDAR
PRODID:-//Microsoft Corporation//Outlook 11.0 MIMEDIR//EN
VERSION:2.0
METHOD:PUBLISH
BEGIN:VEVENT
DTSTART:2013-07-09T01:00:00Z
DTEND:2013-07-09T03:30:00Z
LOCATION:MM3: Marymoor, Field 3
CATEGORIES:Softball,Dreamkillers,BB/SAA
UID:4ADC4CD0CEE3ED4F8540EAFBD829BB28:
DTSTAMP:2026-04-23T11:23:29Z:
SUMMARY:Dreadsox at Dreamkillers
DESCRIPTION;ENCODING=QUOTED-PRINTABLE:Dreadsox at Dreamkillers=0D=0A Time: 6:00 PM=0D=0A Location: Marymoor, Field 3
CLASS:PUBLIC
PRIORITY:5
BEGIN:VALARM
TRIGGER:-PT180M
ACTION:DISPLAY
DESCRIPTION:Reminder
END:VALARM
END:VEVENT
BEGIN:VEVENT
DTSTART:2013-07-16T01:00:00Z
DTEND:2013-07-16T03:30:00Z
LOCATION:MM6: Marymoor, Field 6
CATEGORIES:Softball,Dreamkillers,BB/SAA
UID:A4EBD94529C2E741BF84C897A3E4B122:
DTSTAMP:2026-04-23T11:23:29Z:
SUMMARY:Dreamkillers at En Fuego
DESCRIPTION;ENCODING=QUOTED-PRINTABLE:Dreamkillers at En Fuego=0D=0A Time: 6:00 PM=0D=0A Location: Marymoor, Field 6
CLASS:PUBLIC
PRIORITY:5
BEGIN:VALARM
TRIGGER:-PT180M
ACTION:DISPLAY
DESCRIPTION:Reminder
END:VALARM
END:VEVENT
BEGIN:VEVENT
DTSTART:2013-07-23T01:00:00Z
DTEND:2013-07-23T03:30:00Z
LOCATION:MM4: Marymoor, Field 4
CATEGORIES:Softball,Dreamkillers,BB/SAA
UID:9939CB9A89D1E340A770C7794FAC1722:
DTSTAMP:2026-04-23T11:23:29Z:
SUMMARY:Dreamkillers at Value Village
DESCRIPTION;ENCODING=QUOTED-PRINTABLE:Dreamkillers at Value Village=0D=0A Time: 6:00 PM=0D=0A Location: Marymoor, Field 4
CLASS:PUBLIC
PRIORITY:5
BEGIN:VALARM
TRIGGER:-PT180M
ACTION:DISPLAY
DESCRIPTION:Reminder
END:VALARM
END:VEVENT
BEGIN:VEVENT
DTSTART:2013-07-30T01:00:00Z
DTEND:2013-07-30T03:30:00Z
LOCATION:SAM1: Sammamish High School, Field 1
CATEGORIES:Softball,Dreamkillers,BB/SAA
UID:A6EA1E2A17E2409C50FFB46F7E63D8:
DTSTAMP:2026-04-23T11:23:29Z:
SUMMARY:Dreamkillers at ChemPoint
DESCRIPTION;ENCODING=QUOTED-PRINTABLE:Dreamkillers at ChemPoint=0D=0A Time: 6:00 PM=0D=0A Location: Sammamish High School, Field 1
CLASS:PUBLIC
PRIORITY:5
BEGIN:VALARM
TRIGGER:-PT180M
ACTION:DISPLAY
DESCRIPTION:Reminder
END:VALARM
END:VEVENT
BEGIN:VEVENT
DTSTART:2013-08-06T01:00:00Z
DTEND:2013-08-06T03:30:00Z
LOCATION:HV1: Hidden Valley, Field 1
CATEGORIES:Softball,Dreamkillers,BB/SAA
UID:A826B38BED5454FAFEE3C6B38BA745D:
DTSTAMP:2026-04-23T11:23:29Z:
SUMMARY:Dreamkillers at Do You Concur?
DESCRIPTION;ENCODING=QUOTED-PRINTABLE:Dreamkillers at Do You Concur?=0D=0A Time: 6:00 PM=0D=0A Location: Hidden Valley, Field 1
CLASS:PUBLIC
PRIORITY:5
BEGIN:VALARM
TRIGGER:-PT180M
ACTION:DISPLAY
DESCRIPTION:Reminder
END:VALARM
END:VEVENT
BEGIN:VEVENT
DTSTART:2013-08-13T01:00:00Z
DTEND:2013-08-13T03:30:00Z
LOCATION:HV2: Hidden Valley, Field 2
CATEGORIES:Softball,Dreamkillers,BB/SAA
UID:D1C55667C8F1A47A2F6C553BABF74C:
DTSTAMP:2026-04-23T11:23:29Z:
SUMMARY:Dreamkillers at AIM Consulting
DESCRIPTION;ENCODING=QUOTED-PRINTABLE:Dreamkillers at AIM Consulting=0D=0A Time: 6:00 PM=0D=0A Location: Hidden Valley, Field 2
CLASS:PUBLIC
PRIORITY:5
BEGIN:VALARM
TRIGGER:-PT180M
ACTION:DISPLAY
DESCRIPTION:Reminder
END:VALARM
END:VEVENT
BEGIN:VEVENT
DTSTART:2013-08-20T01:00:00Z
DTEND:2013-08-20T03:30:00Z
LOCATION:MM8: Marymoor, Field 8
CATEGORIES:Softball,Dreamkillers,BB/SAA
UID:73A6BC50E3EA84182429D3528419B7:
DTSTAMP:2026-04-23T11:23:29Z:
SUMMARY:Polarisites at Dreamkillers
DESCRIPTION;ENCODING=QUOTED-PRINTABLE:Polarisites at Dreamkillers=0D=0A Time: 6:00 PM=0D=0A Location: Marymoor, Field 8
CLASS:PUBLIC
PRIORITY:5
BEGIN:VALARM
TRIGGER:-PT180M
ACTION:DISPLAY
DESCRIPTION:Reminder
END:VALARM
END:VEVENT
BEGIN:VEVENT
DTSTART:2013-08-27T03:30:00Z
DTEND:2013-08-27T06:00:00Z
LOCATION:MM6: Marymoor, Field 6
CATEGORIES:Softball,Dreamkillers,BB/SAA
UID:2AFEC5F2BDEB4D92C271DC228F3492:
DTSTAMP:2026-04-23T11:23:29Z:
SUMMARY:Outerwall Outlaws at Dreamkillers
DESCRIPTION;ENCODING=QUOTED-PRINTABLE:Outerwall Outlaws at Dreamkillers=0D=0A Time: 8:30 PM=0D=0A Location: Marymoor, Field 6
CLASS:PUBLIC
PRIORITY:5
BEGIN:VALARM
TRIGGER:-PT330M
ACTION:DISPLAY
DESCRIPTION:Reminder
END:VALARM
END:VEVENT
BEGIN:VEVENT
DTSTART:2013-09-10T01:00:00Z
DTEND:2013-09-10T03:30:00Z
LOCATION:MM8: Marymoor, Field 8
CATEGORIES:Softball,Dreamkillers,BB/SAA
UID:DA76B3924C48498E22873662D7EAEF:
DTSTAMP:2026-04-23T11:23:29Z:
SUMMARY:Chicks and Dicks at Dreamkillers
DESCRIPTION;ENCODING=QUOTED-PRINTABLE:Chicks and Dicks at Dreamkillers=0D=0A Time: 6:00 PM=0D=0A Location: Marymoor, Field 8
CLASS:PUBLIC
PRIORITY:5
BEGIN:VALARM
TRIGGER:-PT180M
ACTION:DISPLAY
DESCRIPTION:Reminder
END:VALARM
END:VEVENT
END:VCALENDAR
