BEGIN:VCALENDAR
PRODID:-//Microsoft Corporation//Outlook 11.0 MIMEDIR//EN
VERSION:2.0
METHOD:PUBLISH
BEGIN:VEVENT
DTSTART:2013-07-09T01:00:00Z
DTEND:2013-07-09T03:30:00Z
LOCATION:MM6: Marymoor, Field 6
CATEGORIES:Softball,ChemPoint,BB/SAA
UID:ABF5B2A2D8AF45A11C102906D292E:
DTSTAMP:2026-04-23T11:39:02Z:
SUMMARY:ChemPoint at Value Village
DESCRIPTION;ENCODING=QUOTED-PRINTABLE:ChemPoint at Value Village=0D=0A Time: 6:00 PM=0D=0A Location: Marymoor, Field 6
CLASS:PUBLIC
PRIORITY:5
BEGIN:VALARM
TRIGGER:-PT180M
ACTION:DISPLAY
DESCRIPTION:Reminder
END:VALARM
END:VEVENT
BEGIN:VEVENT
DTSTART:2013-07-16T01:00:00Z
DTEND:2013-07-16T03:30:00Z
LOCATION:MM3: Marymoor, Field 3
CATEGORIES:Softball,ChemPoint,BB/SAA
UID:304BC53C24F674082BE36F6DE198A96:
DTSTAMP:2026-04-23T11:39:02Z:
SUMMARY:AIM Consulting at ChemPoint
DESCRIPTION;ENCODING=QUOTED-PRINTABLE:AIM Consulting at ChemPoint=0D=0A Time: 6:00 PM=0D=0A Location: Marymoor, Field 3
CLASS:PUBLIC
PRIORITY:5
BEGIN:VALARM
TRIGGER:-PT180M
ACTION:DISPLAY
DESCRIPTION:Reminder
END:VALARM
END:VEVENT
BEGIN:VEVENT
DTSTART:2013-07-23T01:00:00Z
DTEND:2013-07-23T03:30:00Z
LOCATION:SAM1: Sammamish High School, Field 1
CATEGORIES:Softball,ChemPoint,BB/SAA
UID:65DEBD3840B4C941A9C935117929764:
DTSTAMP:2026-04-23T11:39:02Z:
SUMMARY:Do You Concur? at ChemPoint
DESCRIPTION;ENCODING=QUOTED-PRINTABLE:Do You Concur? at ChemPoint=0D=0A Time: 6:00 PM=0D=0A Location: Sammamish High School, Field 1
CLASS:PUBLIC
PRIORITY:5
BEGIN:VALARM
TRIGGER:-PT180M
ACTION:DISPLAY
DESCRIPTION:Reminder
END:VALARM
END:VEVENT
BEGIN:VEVENT
DTSTART:2013-07-30T01:00:00Z
DTEND:2013-07-30T03:30:00Z
LOCATION:SAM1: Sammamish High School, Field 1
CATEGORIES:Softball,ChemPoint,BB/SAA
UID:89DC716F2CB15F418D88152BE3F8D471:
DTSTAMP:2026-04-23T11:39:02Z:
SUMMARY:Dreamkillers at ChemPoint
DESCRIPTION;ENCODING=QUOTED-PRINTABLE:Dreamkillers at ChemPoint=0D=0A Time: 6:00 PM=0D=0A Location: Sammamish High School, Field 1
CLASS:PUBLIC
PRIORITY:5
BEGIN:VALARM
TRIGGER:-PT180M
ACTION:DISPLAY
DESCRIPTION:Reminder
END:VALARM
END:VEVENT
BEGIN:VEVENT
DTSTART:2013-08-06T01:00:00Z
DTEND:2013-08-06T03:30:00Z
LOCATION:HV2: Hidden Valley, Field 2
CATEGORIES:Softball,ChemPoint,BB/SAA
UID:BABF5C682F9E44FA4558D21C19F9FD3:
DTSTAMP:2026-04-23T11:39:02Z:
SUMMARY:Polarisites at ChemPoint
DESCRIPTION;ENCODING=QUOTED-PRINTABLE:Polarisites at ChemPoint=0D=0A Time: 6:00 PM=0D=0A Location: Hidden Valley, Field 2
CLASS:PUBLIC
PRIORITY:5
BEGIN:VALARM
TRIGGER:-PT180M
ACTION:DISPLAY
DESCRIPTION:Reminder
END:VALARM
END:VEVENT
BEGIN:VEVENT
DTSTART:2013-08-13T01:00:00Z
DTEND:2013-08-13T03:30:00Z
LOCATION:HV1: Hidden Valley, Field 1
CATEGORIES:Softball,ChemPoint,BB/SAA
UID:D7F8CDF979EC874A977D4C4475645DF4:
DTSTAMP:2026-04-23T11:39:02Z:
SUMMARY:Outerwall Outlaws at ChemPoint
DESCRIPTION;ENCODING=QUOTED-PRINTABLE:Outerwall Outlaws at ChemPoint=0D=0A Time: 6:00 PM=0D=0A Location: Hidden Valley, Field 1
CLASS:PUBLIC
PRIORITY:5
BEGIN:VALARM
TRIGGER:-PT180M
ACTION:DISPLAY
DESCRIPTION:Reminder
END:VALARM
END:VEVENT
BEGIN:VEVENT
DTSTART:2013-08-20T01:00:00Z
DTEND:2013-08-20T03:30:00Z
LOCATION:HV1: Hidden Valley, Field 1
CATEGORIES:Softball,ChemPoint,BB/SAA
UID:1C46455DBAF04F428B446554016DE89:
DTSTAMP:2026-04-23T11:39:02Z:
SUMMARY:ChemPoint at Chicks and Dicks
DESCRIPTION;ENCODING=QUOTED-PRINTABLE:ChemPoint at Chicks and Dicks=0D=0A Time: 6:00 PM=0D=0A Location: Hidden Valley, Field 1
CLASS:PUBLIC
PRIORITY:5
BEGIN:VALARM
TRIGGER:-PT180M
ACTION:DISPLAY
DESCRIPTION:Reminder
END:VALARM
END:VEVENT
BEGIN:VEVENT
DTSTART:2013-08-27T01:00:00Z
DTEND:2013-08-27T03:30:00Z
LOCATION:HV1: Hidden Valley, Field 1
CATEGORIES:Softball,ChemPoint,BB/SAA
UID:E30477FFC3921408312C7E61EC61E10:
DTSTAMP:2026-04-23T11:39:02Z:
SUMMARY:ChemPoint at Dreadsox
DESCRIPTION;ENCODING=QUOTED-PRINTABLE:ChemPoint at Dreadsox=0D=0A Time: 6:00 PM=0D=0A Location: Hidden Valley, Field 1
CLASS:PUBLIC
PRIORITY:5
BEGIN:VALARM
TRIGGER:-PT180M
ACTION:DISPLAY
DESCRIPTION:Reminder
END:VALARM
END:VEVENT
BEGIN:VEVENT
DTSTART:2013-09-10T03:30:00Z
DTEND:2013-09-10T06:00:00Z
LOCATION:MM6: Marymoor, Field 6
CATEGORIES:Softball,ChemPoint,BB/SAA
UID:C4831CE452A874CBC1EC5C78AF470EF:
DTSTAMP:2026-04-23T11:39:02Z:
SUMMARY:ChemPoint at En Fuego
DESCRIPTION;ENCODING=QUOTED-PRINTABLE:ChemPoint at En Fuego=0D=0A Time: 8:30 PM=0D=0A Location: Marymoor, Field 6
CLASS:PUBLIC
PRIORITY:5
BEGIN:VALARM
TRIGGER:-PT330M
ACTION:DISPLAY
DESCRIPTION:Reminder
END:VALARM
END:VEVENT
END:VCALENDAR
