BEGIN:VCALENDAR
PRODID:-//Microsoft Corporation//Outlook 11.0 MIMEDIR//EN
VERSION:2.0
METHOD:PUBLISH
BEGIN:VEVENT
DTSTART:2013-07-09T01:00:00Z
DTEND:2013-07-09T03:30:00Z
LOCATION:HV2: Hidden Valley, Field 2
CATEGORIES:Softball,AIM Consulting,BB/SAA
UID:BA0D6BD63F6A4682118FE42FB16E9:
DTSTAMP:2026-04-23T11:23:13Z:
SUMMARY:Outerwall Outlaws at AIM Consulting
DESCRIPTION;ENCODING=QUOTED-PRINTABLE:Outerwall Outlaws at AIM Consulting=0D=0A Time: 6:00 PM=0D=0A Location: Hidden Valley, Field 2
CLASS:PUBLIC
PRIORITY:5
BEGIN:VALARM
TRIGGER:-PT180M
ACTION:DISPLAY
DESCRIPTION:Reminder
END:VALARM
END:VEVENT
BEGIN:VEVENT
DTSTART:2013-07-16T01:00:00Z
DTEND:2013-07-16T03:30:00Z
LOCATION:MM3: Marymoor, Field 3
CATEGORIES:Softball,AIM Consulting,BB/SAA
UID:CD855E63AF92774D868B814767D37D5C:
DTSTAMP:2026-04-23T11:23:13Z:
SUMMARY:AIM Consulting at ChemPoint
DESCRIPTION;ENCODING=QUOTED-PRINTABLE:AIM Consulting at ChemPoint=0D=0A Time: 6:00 PM=0D=0A Location: Marymoor, Field 3
CLASS:PUBLIC
PRIORITY:5
BEGIN:VALARM
TRIGGER:-PT180M
ACTION:DISPLAY
DESCRIPTION:Reminder
END:VALARM
END:VEVENT
BEGIN:VEVENT
DTSTART:2013-07-23T01:00:00Z
DTEND:2013-07-23T03:30:00Z
LOCATION:MM3: Marymoor, Field 3
CATEGORIES:Softball,AIM Consulting,BB/SAA
UID:EB4FA7481641D54BA6CD191B5E33D051:
DTSTAMP:2026-04-23T11:23:13Z:
SUMMARY:AIM Consulting at Chicks and Dicks
DESCRIPTION;ENCODING=QUOTED-PRINTABLE:AIM Consulting at Chicks and Dicks=0D=0A Time: 6:00 PM=0D=0A Location: Marymoor, Field 3
CLASS:PUBLIC
PRIORITY:5
BEGIN:VALARM
TRIGGER:-PT180M
ACTION:DISPLAY
DESCRIPTION:Reminder
END:VALARM
END:VEVENT
BEGIN:VEVENT
DTSTART:2013-07-30T01:00:00Z
DTEND:2013-07-30T03:30:00Z
LOCATION:HV1: Hidden Valley, Field 1
CATEGORIES:Softball,AIM Consulting,BB/SAA
UID:BE5373C75D5DF64FA99C701C69BFE0BB:
DTSTAMP:2026-04-23T11:23:13Z:
SUMMARY:Do You Concur? at AIM Consulting
DESCRIPTION;ENCODING=QUOTED-PRINTABLE:Do You Concur? at AIM Consulting=0D=0A Time: 6:00 PM=0D=0A Location: Hidden Valley, Field 1
CLASS:PUBLIC
PRIORITY:5
BEGIN:VALARM
TRIGGER:-PT180M
ACTION:DISPLAY
DESCRIPTION:Reminder
END:VALARM
END:VEVENT
BEGIN:VEVENT
DTSTART:2013-08-06T01:00:00Z
DTEND:2013-08-06T03:30:00Z
LOCATION:SAM1: Sammamish High School, Field 1
CATEGORIES:Softball,AIM Consulting,BB/SAA
UID:4B324A7A22B9B9428032CFD1C26556:
DTSTAMP:2026-04-23T11:23:13Z:
SUMMARY:Dreadsox at AIM Consulting
DESCRIPTION;ENCODING=QUOTED-PRINTABLE:Dreadsox at AIM Consulting=0D=0A Time: 6:00 PM=0D=0A Location: Sammamish High School, Field 1
CLASS:PUBLIC
PRIORITY:5
BEGIN:VALARM
TRIGGER:-PT180M
ACTION:DISPLAY
DESCRIPTION:Reminder
END:VALARM
END:VEVENT
BEGIN:VEVENT
DTSTART:2013-08-13T01:00:00Z
DTEND:2013-08-13T03:30:00Z
LOCATION:HV2: Hidden Valley, Field 2
CATEGORIES:Softball,AIM Consulting,BB/SAA
UID:4D056C5E15AB540A636B4F6D43BEC82:
DTSTAMP:2026-04-23T11:23:13Z:
SUMMARY:Dreamkillers at AIM Consulting
DESCRIPTION;ENCODING=QUOTED-PRINTABLE:Dreamkillers at AIM Consulting=0D=0A Time: 6:00 PM=0D=0A Location: Hidden Valley, Field 2
CLASS:PUBLIC
PRIORITY:5
BEGIN:VALARM
TRIGGER:-PT180M
ACTION:DISPLAY
DESCRIPTION:Reminder
END:VALARM
END:VEVENT
BEGIN:VEVENT
DTSTART:2013-08-20T01:00:00Z
DTEND:2013-08-20T03:30:00Z
LOCATION:MM6: Marymoor, Field 6
CATEGORIES:Softball,AIM Consulting,BB/SAA
UID:29C275DCC3C51419E3EFA843F3177DA:
DTSTAMP:2026-04-23T11:23:13Z:
SUMMARY:En Fuego at AIM Consulting
DESCRIPTION;ENCODING=QUOTED-PRINTABLE:En Fuego at AIM Consulting=0D=0A Time: 6:00 PM=0D=0A Location: Marymoor, Field 6
CLASS:PUBLIC
PRIORITY:5
BEGIN:VALARM
TRIGGER:-PT180M
ACTION:DISPLAY
DESCRIPTION:Reminder
END:VALARM
END:VEVENT
BEGIN:VEVENT
DTSTART:2013-08-27T01:00:00Z
DTEND:2013-08-27T03:30:00Z
LOCATION:MM6: Marymoor, Field 6
CATEGORIES:Softball,AIM Consulting,BB/SAA
UID:7CC3571B6AD7494A83413C88246897:
DTSTAMP:2026-04-23T11:23:13Z:
SUMMARY:AIM Consulting at Polarisites
DESCRIPTION;ENCODING=QUOTED-PRINTABLE:AIM Consulting at Polarisites=0D=0A Time: 6:00 PM=0D=0A Location: Marymoor, Field 6
CLASS:PUBLIC
PRIORITY:5
BEGIN:VALARM
TRIGGER:-PT180M
ACTION:DISPLAY
DESCRIPTION:Reminder
END:VALARM
END:VEVENT
BEGIN:VEVENT
DTSTART:2013-09-10T03:30:00Z
DTEND:2013-09-10T06:00:00Z
LOCATION:HV1: Hidden Valley, Field 1
CATEGORIES:Softball,AIM Consulting,BB/SAA
UID:518F6A3A6DE74E40A4AA678170565325:
DTSTAMP:2026-04-23T11:23:13Z:
SUMMARY:AIM Consulting at Value Village
DESCRIPTION;ENCODING=QUOTED-PRINTABLE:AIM Consulting at Value Village=0D=0A Time: 8:30 PM=0D=0A Location: Hidden Valley, Field 1
CLASS:PUBLIC
PRIORITY:5
BEGIN:VALARM
TRIGGER:-PT330M
ACTION:DISPLAY
DESCRIPTION:Reminder
END:VALARM
END:VEVENT
END:VCALENDAR
