BEGIN:VCALENDAR
PRODID:-//Microsoft Corporation//Outlook 11.0 MIMEDIR//EN
VERSION:2.0
METHOD:PUBLISH
BEGIN:VEVENT
DTSTART:2013-07-09T01:00:00Z
DTEND:2013-07-09T03:30:00Z
LOCATION:SAM2: Sammamish High School, Field 2
CATEGORIES:Softball,Kleinfelder Pirates,BB/SAA
UID:BA545B9E13D8BD439A106C4D4FDE9:
DTSTAMP:2026-04-21T05:43:55Z:
SUMMARY:Brookshire Homes at Kleinfelder Pirates
DESCRIPTION;ENCODING=QUOTED-PRINTABLE:Brookshire Homes at Kleinfelder Pirates=0D=0A Time: 6:00 PM=0D=0A Location: Sammamish High School, Field 2
CLASS:PUBLIC
PRIORITY:5
BEGIN:VALARM
TRIGGER:-PT180M
ACTION:DISPLAY
DESCRIPTION:Reminder
END:VALARM
END:VEVENT
BEGIN:VEVENT
DTSTART:2013-07-16T01:00:00Z
DTEND:2013-07-16T03:30:00Z
LOCATION:SAM1: Sammamish High School, Field 1
CATEGORIES:Softball,Kleinfelder Pirates,BB/SAA
UID:A176FE33D6D8D43AA8BE8598F8906E:
DTSTAMP:2026-04-21T05:43:55Z:
SUMMARY:Roundabouts at Kleinfelder Pirates
DESCRIPTION;ENCODING=QUOTED-PRINTABLE:Roundabouts at Kleinfelder Pirates=0D=0A Time: 6:00 PM=0D=0A Location: Sammamish High School, Field 1
CLASS:PUBLIC
PRIORITY:5
BEGIN:VALARM
TRIGGER:-PT180M
ACTION:DISPLAY
DESCRIPTION:Reminder
END:VALARM
END:VEVENT
BEGIN:VEVENT
DTSTART:2013-07-23T01:00:00Z
DTEND:2013-07-23T03:30:00Z
LOCATION:HV2: Hidden Valley, Field 2
CATEGORIES:Softball,Kleinfelder Pirates,BB/SAA
UID:845DE26F83CBC048BFCF96D0D9B9AD98:
DTSTAMP:2026-04-21T05:43:55Z:
SUMMARY:Kleinfelder Pirates at Triple Play
DESCRIPTION;ENCODING=QUOTED-PRINTABLE:Kleinfelder Pirates at Triple Play=0D=0A Time: 6:00 PM=0D=0A Location: Hidden Valley, Field 2
CLASS:PUBLIC
PRIORITY:5
BEGIN:VALARM
TRIGGER:-PT180M
ACTION:DISPLAY
DESCRIPTION:Reminder
END:VALARM
END:VEVENT
BEGIN:VEVENT
DTSTART:2013-07-30T03:30:00Z
DTEND:2013-07-30T06:00:00Z
LOCATION:MM6: Marymoor, Field 6
CATEGORIES:Softball,Kleinfelder Pirates,BB/SAA
UID:3752576202AAD4C9B4CCA88DFD6ABDD:
DTSTAMP:2026-04-21T05:43:55Z:
SUMMARY:Kleinfelder Pirates at Pitch Slap
DESCRIPTION;ENCODING=QUOTED-PRINTABLE:Kleinfelder Pirates at Pitch Slap=0D=0A Time: 8:30 PM=0D=0A Location: Marymoor, Field 6
CLASS:PUBLIC
PRIORITY:5
BEGIN:VALARM
TRIGGER:-PT330M
ACTION:DISPLAY
DESCRIPTION:Reminder
END:VALARM
END:VEVENT
BEGIN:VEVENT
DTSTART:2013-08-06T01:00:00Z
DTEND:2013-08-06T03:30:00Z
LOCATION:MM7: Marymoor, Field 7
CATEGORIES:Softball,Kleinfelder Pirates,BB/SAA
UID:B2F62687AA40E4283C4E822F0EF3ED3:
DTSTAMP:2026-04-21T05:43:55Z:
SUMMARY:Fielder's Choice at Kleinfelder Pirates
DESCRIPTION;ENCODING=QUOTED-PRINTABLE:Fielder's Choice at Kleinfelder Pirates=0D=0A Time: 6:00 PM=0D=0A Location: Marymoor, Field 7
CLASS:PUBLIC
PRIORITY:5
BEGIN:VALARM
TRIGGER:-PT180M
ACTION:DISPLAY
DESCRIPTION:Reminder
END:VALARM
END:VEVENT
BEGIN:VEVENT
DTSTART:2013-08-13T01:00:00Z
DTEND:2013-08-13T03:30:00Z
LOCATION:MM7: Marymoor, Field 7
CATEGORIES:Softball,Kleinfelder Pirates,BB/SAA
UID:EB13CC249CBC4438FAC44C146311BDC:
DTSTAMP:2026-04-21T05:43:55Z:
SUMMARY:Brookshire Homes at Kleinfelder Pirates
DESCRIPTION;ENCODING=QUOTED-PRINTABLE:Brookshire Homes at Kleinfelder Pirates=0D=0A Time: 6:00 PM=0D=0A Location: Marymoor, Field 7
CLASS:PUBLIC
PRIORITY:5
BEGIN:VALARM
TRIGGER:-PT180M
ACTION:DISPLAY
DESCRIPTION:Reminder
END:VALARM
END:VEVENT
BEGIN:VEVENT
DTSTART:2013-08-20T03:30:00Z
DTEND:2013-08-20T06:00:00Z
LOCATION:MM6: Marymoor, Field 6
CATEGORIES:Softball,Kleinfelder Pirates,BB/SAA
UID:42A8E56CB9123D46952894338716401B:
DTSTAMP:2026-04-21T05:43:55Z:
SUMMARY:Roundabouts at Kleinfelder Pirates
DESCRIPTION;ENCODING=QUOTED-PRINTABLE:Roundabouts at Kleinfelder Pirates=0D=0A Time: 8:30 PM=0D=0A Location: Marymoor, Field 6
CLASS:PUBLIC
PRIORITY:5
BEGIN:VALARM
TRIGGER:-PT330M
ACTION:DISPLAY
DESCRIPTION:Reminder
END:VALARM
END:VEVENT
BEGIN:VEVENT
DTSTART:2013-08-27T01:00:00Z
DTEND:2013-08-27T03:30:00Z
LOCATION:HV2: Hidden Valley, Field 2
CATEGORIES:Softball,Kleinfelder Pirates,BB/SAA
UID:D2DB898B5CFB14C9F5A46D62134CA1A:
DTSTAMP:2026-04-21T05:43:55Z:
SUMMARY:Kleinfelder Pirates at Triple Play
DESCRIPTION;ENCODING=QUOTED-PRINTABLE:Kleinfelder Pirates at Triple Play=0D=0A Time: 6:00 PM=0D=0A Location: Hidden Valley, Field 2
CLASS:PUBLIC
PRIORITY:5
BEGIN:VALARM
TRIGGER:-PT180M
ACTION:DISPLAY
DESCRIPTION:Reminder
END:VALARM
END:VEVENT
BEGIN:VEVENT
DTSTART:2013-09-10T01:00:00Z
DTEND:2013-09-10T03:30:00Z
LOCATION:HV1: Hidden Valley, Field 1
CATEGORIES:Softball,Kleinfelder Pirates,BB/SAA
UID:74E25DAEAD1824CA02B3C81FE2C740:
DTSTAMP:2026-04-21T05:43:55Z:
SUMMARY:Kleinfelder Pirates at Pitch Slap
DESCRIPTION;ENCODING=QUOTED-PRINTABLE:Kleinfelder Pirates at Pitch Slap=0D=0A Time: 6:00 PM=0D=0A Location: Hidden Valley, Field 1
CLASS:PUBLIC
PRIORITY:5
BEGIN:VALARM
TRIGGER:-PT180M
ACTION:DISPLAY
DESCRIPTION:Reminder
END:VALARM
END:VEVENT
END:VCALENDAR
