BEGIN:VCALENDAR
PRODID:-//Microsoft Corporation//Outlook 11.0 MIMEDIR//EN
VERSION:2.0
METHOD:PUBLISH
BEGIN:VEVENT
DTSTART:2013-07-09T01:00:00Z
DTEND:2013-07-09T03:30:00Z
LOCATION:SAM1: Sammamish High School, Field 1
CATEGORIES:Softball,Fielder's Choice,BB/SAA
UID:AF5F7EF7B2F5444A4A493333711B756:
DTSTAMP:2026-04-21T07:16:59Z:
SUMMARY:Fielder's Choice at Triple Play
DESCRIPTION;ENCODING=QUOTED-PRINTABLE:Fielder's Choice at Triple Play=0D=0A Time: 6:00 PM=0D=0A Location: Sammamish High School, Field 1
CLASS:PUBLIC
PRIORITY:5
BEGIN:VALARM
TRIGGER:-PT180M
ACTION:DISPLAY
DESCRIPTION:Reminder
END:VALARM
END:VEVENT
BEGIN:VEVENT
DTSTART:2013-07-16T01:00:00Z
DTEND:2013-07-16T03:30:00Z
LOCATION:SAM2: Sammamish High School, Field 2
CATEGORIES:Softball,Fielder's Choice,BB/SAA
UID:2FBF658821AD04BBB4B1217DDD18CA:
DTSTAMP:2026-04-21T07:16:59Z:
SUMMARY:Brookshire Homes at Fielder's Choice
DESCRIPTION;ENCODING=QUOTED-PRINTABLE:Brookshire Homes at Fielder's Choice=0D=0A Time: 6:00 PM=0D=0A Location: Sammamish High School, Field 2
CLASS:PUBLIC
PRIORITY:5
BEGIN:VALARM
TRIGGER:-PT180M
ACTION:DISPLAY
DESCRIPTION:Reminder
END:VALARM
END:VEVENT
BEGIN:VEVENT
DTSTART:2013-07-23T01:00:00Z
DTEND:2013-07-23T03:30:00Z
LOCATION:MM7: Marymoor, Field 7
CATEGORIES:Softball,Fielder's Choice,BB/SAA
UID:CE99796B062A94A9F95065452E7DA:
DTSTAMP:2026-04-21T07:16:59Z:
SUMMARY:Fielder's Choice at Pitch Slap
DESCRIPTION;ENCODING=QUOTED-PRINTABLE:Fielder's Choice at Pitch Slap=0D=0A Time: 6:00 PM=0D=0A Location: Marymoor, Field 7
CLASS:PUBLIC
PRIORITY:5
BEGIN:VALARM
TRIGGER:-PT180M
ACTION:DISPLAY
DESCRIPTION:Reminder
END:VALARM
END:VEVENT
BEGIN:VEVENT
DTSTART:2013-07-30T01:00:00Z
DTEND:2013-07-30T03:30:00Z
LOCATION:HV2: Hidden Valley, Field 2
CATEGORIES:Softball,Fielder's Choice,BB/SAA
UID:B035EE43B020314BA39065C449103FCF:
DTSTAMP:2026-04-21T07:16:59Z:
SUMMARY:Roundabouts at Fielder's Choice
DESCRIPTION;ENCODING=QUOTED-PRINTABLE:Roundabouts at Fielder's Choice=0D=0A Time: 6:00 PM=0D=0A Location: Hidden Valley, Field 2
CLASS:PUBLIC
PRIORITY:5
BEGIN:VALARM
TRIGGER:-PT180M
ACTION:DISPLAY
DESCRIPTION:Reminder
END:VALARM
END:VEVENT
BEGIN:VEVENT
DTSTART:2013-08-06T01:00:00Z
DTEND:2013-08-06T03:30:00Z
LOCATION:MM7: Marymoor, Field 7
CATEGORIES:Softball,Fielder's Choice,BB/SAA
UID:1F1C26DAD09B274A86391A1FA983F66B:
DTSTAMP:2026-04-21T07:16:59Z:
SUMMARY:Fielder's Choice at Kleinfelder Pirates
DESCRIPTION;ENCODING=QUOTED-PRINTABLE:Fielder's Choice at Kleinfelder Pirates=0D=0A Time: 6:00 PM=0D=0A Location: Marymoor, Field 7
CLASS:PUBLIC
PRIORITY:5
BEGIN:VALARM
TRIGGER:-PT180M
ACTION:DISPLAY
DESCRIPTION:Reminder
END:VALARM
END:VEVENT
BEGIN:VEVENT
DTSTART:2013-08-13T01:00:00Z
DTEND:2013-08-13T03:30:00Z
LOCATION:MM3: Marymoor, Field 3
CATEGORIES:Softball,Fielder's Choice,BB/SAA
UID:49367C7CDFC2F049A51FCDF8804CDF2C:
DTSTAMP:2026-04-21T07:16:59Z:
SUMMARY:Triple Play at Fielder's Choice
DESCRIPTION;ENCODING=QUOTED-PRINTABLE:Triple Play at Fielder's Choice=0D=0A Time: 6:00 PM=0D=0A Location: Marymoor, Field 3
CLASS:PUBLIC
PRIORITY:5
BEGIN:VALARM
TRIGGER:-PT180M
ACTION:DISPLAY
DESCRIPTION:Reminder
END:VALARM
END:VEVENT
BEGIN:VEVENT
DTSTART:2013-08-20T01:00:00Z
DTEND:2013-08-20T03:30:00Z
LOCATION:HV2: Hidden Valley, Field 2
CATEGORIES:Softball,Fielder's Choice,BB/SAA
UID:69A2CA6F67296E418073264AA1751ECC:
DTSTAMP:2026-04-21T07:16:59Z:
SUMMARY:Fielder's Choice at Brookshire Homes
DESCRIPTION;ENCODING=QUOTED-PRINTABLE:Fielder's Choice at Brookshire Homes=0D=0A Time: 6:00 PM=0D=0A Location: Hidden Valley, Field 2
CLASS:PUBLIC
PRIORITY:5
BEGIN:VALARM
TRIGGER:-PT180M
ACTION:DISPLAY
DESCRIPTION:Reminder
END:VALARM
END:VEVENT
BEGIN:VEVENT
DTSTART:2013-08-27T03:30:00Z
DTEND:2013-08-27T06:00:00Z
LOCATION:HV1: Hidden Valley, Field 1
CATEGORIES:Softball,Fielder's Choice,BB/SAA
UID:2A1CFD2F6A3CE245866267C33C1C22CC:
DTSTAMP:2026-04-21T07:16:59Z:
SUMMARY:Pitch Slap at Fielder's Choice
DESCRIPTION;ENCODING=QUOTED-PRINTABLE:Pitch Slap at Fielder's Choice=0D=0A Time: 8:30 PM=0D=0A Location: Hidden Valley, Field 1
CLASS:PUBLIC
PRIORITY:5
BEGIN:VALARM
TRIGGER:-PT330M
ACTION:DISPLAY
DESCRIPTION:Reminder
END:VALARM
END:VEVENT
BEGIN:VEVENT
DTSTART:2013-09-10T03:30:00Z
DTEND:2013-09-10T06:00:00Z
LOCATION:MM7: Marymoor, Field 7
CATEGORIES:Softball,Fielder's Choice,BB/SAA
UID:5D2638E1F5E037429FE95CEBF688E48F:
DTSTAMP:2026-04-21T07:16:59Z:
SUMMARY:Fielder's Choice at Roundabouts
DESCRIPTION;ENCODING=QUOTED-PRINTABLE:Fielder's Choice at Roundabouts=0D=0A Time: 8:30 PM=0D=0A Location: Marymoor, Field 7
CLASS:PUBLIC
PRIORITY:5
BEGIN:VALARM
TRIGGER:-PT330M
ACTION:DISPLAY
DESCRIPTION:Reminder
END:VALARM
END:VEVENT
END:VCALENDAR
