BEGIN:VCALENDAR
PRODID:-//Microsoft Corporation//Outlook 11.0 MIMEDIR//EN
VERSION:2.0
METHOD:PUBLISH
BEGIN:VEVENT
DTSTART:2013-07-09T01:00:00Z
DTEND:2013-07-09T03:30:00Z
LOCATION:SAM2: Sammamish High School, Field 2
CATEGORIES:Softball,Brookshire Homes,BB/SAA
UID:6236605BDAF9C04CA1E5A86F643D7931:
DTSTAMP:2026-04-21T07:18:45Z:
SUMMARY:Brookshire Homes at Kleinfelder Pirates
DESCRIPTION;ENCODING=QUOTED-PRINTABLE:Brookshire Homes at Kleinfelder Pirates=0D=0A Time: 6:00 PM=0D=0A Location: Sammamish High School, Field 2
CLASS:PUBLIC
PRIORITY:5
BEGIN:VALARM
TRIGGER:-PT180M
ACTION:DISPLAY
DESCRIPTION:Reminder
END:VALARM
END:VEVENT
BEGIN:VEVENT
DTSTART:2013-07-16T01:00:00Z
DTEND:2013-07-16T03:30:00Z
LOCATION:SAM2: Sammamish High School, Field 2
CATEGORIES:Softball,Brookshire Homes,BB/SAA
UID:D89C75A47888B6419FE1A1DDFAC4FABA:
DTSTAMP:2026-04-21T07:18:45Z:
SUMMARY:Brookshire Homes at Fielder's Choice
DESCRIPTION;ENCODING=QUOTED-PRINTABLE:Brookshire Homes at Fielder's Choice=0D=0A Time: 6:00 PM=0D=0A Location: Sammamish High School, Field 2
CLASS:PUBLIC
PRIORITY:5
BEGIN:VALARM
TRIGGER:-PT180M
ACTION:DISPLAY
DESCRIPTION:Reminder
END:VALARM
END:VEVENT
BEGIN:VEVENT
DTSTART:2013-07-23T01:00:00Z
DTEND:2013-07-23T03:30:00Z
LOCATION:HV1: Hidden Valley, Field 1
CATEGORIES:Softball,Brookshire Homes,BB/SAA
UID:68FD86BFAF3C54A923FF3F64C4BE88:
DTSTAMP:2026-04-21T07:18:45Z:
SUMMARY:Roundabouts at Brookshire Homes
DESCRIPTION;ENCODING=QUOTED-PRINTABLE:Roundabouts at Brookshire Homes=0D=0A Time: 6:00 PM=0D=0A Location: Hidden Valley, Field 1
CLASS:PUBLIC
PRIORITY:5
BEGIN:VALARM
TRIGGER:-PT180M
ACTION:DISPLAY
DESCRIPTION:Reminder
END:VALARM
END:VEVENT
BEGIN:VEVENT
DTSTART:2013-07-30T01:00:00Z
DTEND:2013-07-30T03:30:00Z
LOCATION:MM7: Marymoor, Field 7
CATEGORIES:Softball,Brookshire Homes,BB/SAA
UID:D7F3B65C658E3F499F6E733182C693C7:
DTSTAMP:2026-04-21T07:18:45Z:
SUMMARY:Triple Play at Brookshire Homes
DESCRIPTION;ENCODING=QUOTED-PRINTABLE:Triple Play at Brookshire Homes=0D=0A Time: 6:00 PM=0D=0A Location: Marymoor, Field 7
CLASS:PUBLIC
PRIORITY:5
BEGIN:VALARM
TRIGGER:-PT180M
ACTION:DISPLAY
DESCRIPTION:Reminder
END:VALARM
END:VEVENT
BEGIN:VEVENT
DTSTART:2013-08-06T01:00:00Z
DTEND:2013-08-06T03:30:00Z
LOCATION:MM4: Marymoor, Field 4
CATEGORIES:Softball,Brookshire Homes,BB/SAA
UID:3BC23B28E72DFE4DB6B69873AD60EF6:
DTSTAMP:2026-04-21T07:18:45Z:
SUMMARY:Brookshire Homes at Pitch Slap
DESCRIPTION;ENCODING=QUOTED-PRINTABLE:Brookshire Homes at Pitch Slap=0D=0A Time: 6:00 PM=0D=0A Location: Marymoor, Field 4
CLASS:PUBLIC
PRIORITY:5
BEGIN:VALARM
TRIGGER:-PT180M
ACTION:DISPLAY
DESCRIPTION:Reminder
END:VALARM
END:VEVENT
BEGIN:VEVENT
DTSTART:2013-08-13T01:00:00Z
DTEND:2013-08-13T03:30:00Z
LOCATION:MM7: Marymoor, Field 7
CATEGORIES:Softball,Brookshire Homes,BB/SAA
UID:BBD5ADDAACBFF4FA2EB73CBAB89797:
DTSTAMP:2026-04-21T07:18:45Z:
SUMMARY:Brookshire Homes at Kleinfelder Pirates
DESCRIPTION;ENCODING=QUOTED-PRINTABLE:Brookshire Homes at Kleinfelder Pirates=0D=0A Time: 6:00 PM=0D=0A Location: Marymoor, Field 7
CLASS:PUBLIC
PRIORITY:5
BEGIN:VALARM
TRIGGER:-PT180M
ACTION:DISPLAY
DESCRIPTION:Reminder
END:VALARM
END:VEVENT
BEGIN:VEVENT
DTSTART:2013-08-20T01:00:00Z
DTEND:2013-08-20T03:30:00Z
LOCATION:HV2: Hidden Valley, Field 2
CATEGORIES:Softball,Brookshire Homes,BB/SAA
UID:B46F3115AC696E4E89A6B9ECF263E96:
DTSTAMP:2026-04-21T07:18:45Z:
SUMMARY:Fielder's Choice at Brookshire Homes
DESCRIPTION;ENCODING=QUOTED-PRINTABLE:Fielder's Choice at Brookshire Homes=0D=0A Time: 6:00 PM=0D=0A Location: Hidden Valley, Field 2
CLASS:PUBLIC
PRIORITY:5
BEGIN:VALARM
TRIGGER:-PT180M
ACTION:DISPLAY
DESCRIPTION:Reminder
END:VALARM
END:VEVENT
BEGIN:VEVENT
DTSTART:2013-08-28T01:00:00Z
DTEND:2013-08-28T03:30:00Z
LOCATION:HV1: Hidden Valley, Field 1
CATEGORIES:Softball,Brookshire Homes,BB/SAA
UID:DF8D1F5DF55B5B438C68D0C7A7A7BA:
DTSTAMP:2026-04-21T07:18:45Z:
SUMMARY:Roundabouts at Brookshire Homes
DESCRIPTION;ENCODING=QUOTED-PRINTABLE:Roundabouts at Brookshire Homes=0D=0A Time: 6:00 PM=0D=0A Location: Hidden Valley, Field 1
CLASS:PUBLIC
PRIORITY:5
BEGIN:VALARM
TRIGGER:-PT180M
ACTION:DISPLAY
DESCRIPTION:Reminder
END:VALARM
END:VEVENT
BEGIN:VEVENT
DTSTART:2013-09-10T01:00:00Z
DTEND:2013-09-10T03:30:00Z
LOCATION:MM7: Marymoor, Field 7
CATEGORIES:Softball,Brookshire Homes,BB/SAA
UID:4727876BB1D11448511E973220826D:
DTSTAMP:2026-04-21T07:18:45Z:
SUMMARY:Triple Play at Brookshire Homes
DESCRIPTION;ENCODING=QUOTED-PRINTABLE:Triple Play at Brookshire Homes=0D=0A Time: 6:00 PM=0D=0A Location: Marymoor, Field 7
CLASS:PUBLIC
PRIORITY:5
BEGIN:VALARM
TRIGGER:-PT180M
ACTION:DISPLAY
DESCRIPTION:Reminder
END:VALARM
END:VEVENT
END:VCALENDAR
