BEGIN:VCALENDAR
PRODID:-//Microsoft Corporation//Outlook 11.0 MIMEDIR//EN
VERSION:2.0
METHOD:PUBLISH
BEGIN:VEVENT
DTSTART:2013-04-09T01:00:00Z
DTEND:2013-04-09T03:30:00Z
LOCATION:MM7: Marymoor, Field 7
CATEGORIES:Softball,Ace of Bases,BB/SAA
UID:D8F6A5AAC92E96419E415BCC7E47C33C:
DTSTAMP:2026-04-21T05:35:09Z:
SUMMARY:Do You Concur? at Ace of Bases
DESCRIPTION;ENCODING=QUOTED-PRINTABLE:Do You Concur? at Ace of Bases=0D=0A Time: 6:00 PM=0D=0A Location: Marymoor, Field 7
CLASS:PUBLIC
PRIORITY:5
BEGIN:VALARM
TRIGGER:-PT180M
ACTION:DISPLAY
DESCRIPTION:Reminder
END:VALARM
END:VEVENT
BEGIN:VEVENT
DTSTART:2013-04-16T01:00:00Z
DTEND:2013-04-16T03:30:00Z
LOCATION:MM6: Marymoor, Field 6
CATEGORIES:Softball,Ace of Bases,BB/SAA
UID:526ED042BCC804CAA25A94EA8A2EA8:
DTSTAMP:2026-04-21T05:35:09Z:
SUMMARY:En Fuego at Ace of Bases
DESCRIPTION;ENCODING=QUOTED-PRINTABLE:En Fuego at Ace of Bases=0D=0A Time: 6:00 PM=0D=0A Location: Marymoor, Field 6
CLASS:PUBLIC
PRIORITY:5
BEGIN:VALARM
TRIGGER:-PT180M
ACTION:DISPLAY
DESCRIPTION:Reminder
END:VALARM
END:VEVENT
BEGIN:VEVENT
DTSTART:2013-04-30T03:30:00Z
DTEND:2013-04-30T06:00:00Z
LOCATION:MM6: Marymoor, Field 6
CATEGORIES:Softball,Ace of Bases,BB/SAA
UID:69BC7E636AF82846AB8E6CE0C8FC86B:
DTSTAMP:2026-04-21T05:35:09Z:
SUMMARY:Ace of Bases at Dream killers
DESCRIPTION;ENCODING=QUOTED-PRINTABLE:Ace of Bases at Dream killers=0D=0A Time: 8:30 PM=0D=0A Location: Marymoor, Field 6
CLASS:PUBLIC
PRIORITY:5
BEGIN:VALARM
TRIGGER:-PT330M
ACTION:DISPLAY
DESCRIPTION:Reminder
END:VALARM
END:VEVENT
BEGIN:VEVENT
DTSTART:2013-05-07T01:00:00Z
DTEND:2013-05-07T03:30:00Z
LOCATION:MM7: Marymoor, Field 7
CATEGORIES:Softball,Ace of Bases,BB/SAA
UID:452FEDA1C792A343A868C0EE907A8D70:
DTSTAMP:2026-04-21T05:35:09Z:
SUMMARY:The Combine at Ace of Bases
DESCRIPTION;ENCODING=QUOTED-PRINTABLE:The Combine at Ace of Bases=0D=0A Time: 6:00 PM=0D=0A Location: Marymoor, Field 7
CLASS:PUBLIC
PRIORITY:5
BEGIN:VALARM
TRIGGER:-PT180M
ACTION:DISPLAY
DESCRIPTION:Reminder
END:VALARM
END:VEVENT
BEGIN:VEVENT
DTSTART:2013-05-14T03:30:00Z
DTEND:2013-05-14T06:00:00Z
LOCATION:HV1: Hidden Valley, Field 1
CATEGORIES:Softball,Ace of Bases,BB/SAA
UID:3A7CBDAFCD7EE549AE55FDCEA32DD974:
DTSTAMP:2026-04-21T05:35:09Z:
SUMMARY:Do You Concur? at Ace of Bases
DESCRIPTION;ENCODING=QUOTED-PRINTABLE:Do You Concur? at Ace of Bases=0D=0A Time: 8:30 PM=0D=0A Location: Hidden Valley, Field 1
CLASS:PUBLIC
PRIORITY:5
BEGIN:VALARM
TRIGGER:-PT330M
ACTION:DISPLAY
DESCRIPTION:Reminder
END:VALARM
END:VEVENT
BEGIN:VEVENT
DTSTART:2013-05-21T03:30:00Z
DTEND:2013-05-21T06:00:00Z
LOCATION:HV1: Hidden Valley, Field 1
CATEGORIES:Softball,Ace of Bases,BB/SAA
UID:71F99DD03AA7ED4D833FB28214B752E2:
DTSTAMP:2026-04-21T05:35:09Z:
SUMMARY:Ace of Bases at En Fuego
DESCRIPTION;ENCODING=QUOTED-PRINTABLE:Ace of Bases at En Fuego=0D=0A Time: 8:30 PM=0D=0A Location: Hidden Valley, Field 1
CLASS:PUBLIC
PRIORITY:5
BEGIN:VALARM
TRIGGER:-PT330M
ACTION:DISPLAY
DESCRIPTION:Reminder
END:VALARM
END:VEVENT
BEGIN:VEVENT
DTSTART:2013-06-04T01:00:00Z
DTEND:2013-06-04T03:30:00Z
LOCATION:SAM2: Sammamish High School, Field 2
CATEGORIES:Softball,Ace of Bases,BB/SAA
UID:901799485BEA2243BD589D90B8CC938:
DTSTAMP:2026-04-21T05:35:09Z:
SUMMARY:Ace of Bases at Dream killers
DESCRIPTION;ENCODING=QUOTED-PRINTABLE:Ace of Bases at Dream killers=0D=0A Time: 6:00 PM=0D=0A Location: Sammamish High School, Field 2
CLASS:PUBLIC
PRIORITY:5
BEGIN:VALARM
TRIGGER:-PT180M
ACTION:DISPLAY
DESCRIPTION:Reminder
END:VALARM
END:VEVENT
BEGIN:VEVENT
DTSTART:2013-06-11T03:30:00Z
DTEND:2013-06-11T06:00:00Z
LOCATION:HV1: Hidden Valley, Field 1
CATEGORIES:Softball,Ace of Bases,BB/SAA
UID:8299E5A3B2FB5D468EA44B7B56587F6C:
DTSTAMP:2026-04-21T05:35:09Z:
SUMMARY:Ace of Bases at The Combine
DESCRIPTION;ENCODING=QUOTED-PRINTABLE:Ace of Bases at The Combine=0D=0A Time: 8:30 PM=0D=0A Location: Hidden Valley, Field 1
CLASS:PUBLIC
PRIORITY:5
BEGIN:VALARM
TRIGGER:-PT330M
ACTION:DISPLAY
DESCRIPTION:Reminder
END:VALARM
END:VEVENT
BEGIN:VEVENT
DTSTART:2013-06-18T01:00:00Z
DTEND:2013-06-18T03:30:00Z
LOCATION:MM6: Marymoor, Field 6
CATEGORIES:Softball,Ace of Bases,BB/SAA
UID:40738D61E1D7458EE9296F681D68:
DTSTAMP:2026-04-21T05:35:09Z:
SUMMARY:En Fuego at Ace of Bases
DESCRIPTION;ENCODING=QUOTED-PRINTABLE:En Fuego at Ace of Bases=0D=0A Time: 6:00 PM=0D=0A Location: Marymoor, Field 6
CLASS:PUBLIC
PRIORITY:5
BEGIN:VALARM
TRIGGER:-PT180M
ACTION:DISPLAY
DESCRIPTION:Reminder
END:VALARM
END:VEVENT
BEGIN:VEVENT
DTSTART:2013-06-25T02:15:00Z
DTEND:2013-06-25T04:45:00Z
LOCATION:MM6: Marymoor, Field 6
CATEGORIES:Softball,Ace of Bases,BB/SAA
UID:C86F114A736A274E8695B25FBD7BAF2:
DTSTAMP:2026-04-21T05:35:09Z:
SUMMARY:Ace of Bases at Dream killers
DESCRIPTION;ENCODING=QUOTED-PRINTABLE:Ace of Bases at Dream killers=0D=0A Time: 7:15 PM=0D=0A Location: Marymoor, Field 6
CLASS:PUBLIC
PRIORITY:5
BEGIN:VALARM
TRIGGER:-PT255M
ACTION:DISPLAY
DESCRIPTION:Reminder
END:VALARM
END:VEVENT
END:VCALENDAR
