BEGIN:VCALENDAR
PRODID:-//Microsoft Corporation//Outlook 11.0 MIMEDIR//EN
VERSION:2.0
METHOD:PUBLISH
BEGIN:VEVENT
DTSTART:2013-04-11T03:30:00Z
DTEND:2013-04-11T06:00:00Z
LOCATION:HV1: Hidden Valley, Field 1
CATEGORIES:Softball,Carpet To Go - Weekday,BB/SAA
UID:C430B0A2E7D4A94681F6353FE47E05A:
DTSTAMP:2026-04-21T05:46:53Z:
SUMMARY:I'd Hit It at Carpet To Go - Weekday
DESCRIPTION;ENCODING=QUOTED-PRINTABLE:I'd Hit It at Carpet To Go - Weekday=0D=0A Time: 8:30 PM=0D=0A Location: Hidden Valley, Field 1
CLASS:PUBLIC
PRIORITY:5
BEGIN:VALARM
TRIGGER:-PT330M
ACTION:DISPLAY
DESCRIPTION:Reminder
END:VALARM
END:VEVENT
BEGIN:VEVENT
DTSTART:2013-04-19T03:30:00Z
DTEND:2013-04-19T06:00:00Z
LOCATION:HV1: Hidden Valley, Field 1
CATEGORIES:Softball,Carpet To Go - Weekday,BB/SAA
UID:627140CCBD7E764C9CEB667393BAAB42:
DTSTAMP:2026-04-21T05:46:53Z:
SUMMARY:Carpet To Go - Weekday at Balls Deep
DESCRIPTION;ENCODING=QUOTED-PRINTABLE:Carpet To Go - Weekday at Balls Deep=0D=0A Time: 8:30 PM=0D=0A Location: Hidden Valley, Field 1
CLASS:PUBLIC
PRIORITY:5
BEGIN:VALARM
TRIGGER:-PT330M
ACTION:DISPLAY
DESCRIPTION:Reminder
END:VALARM
END:VEVENT
BEGIN:VEVENT
DTSTART:2013-04-25T03:30:00Z
DTEND:2013-04-25T06:00:00Z
LOCATION:MM7: Marymoor, Field 7
CATEGORIES:Softball,Carpet To Go - Weekday,BB/SAA
UID:5386C2E1C2125F4A80F89EA362576F3B:
DTSTAMP:2026-04-21T05:46:53Z:
SUMMARY:Carpet To Go - Weekday at VPX Sports Bang 357
DESCRIPTION;ENCODING=QUOTED-PRINTABLE:Carpet To Go - Weekday at VPX Sports Bang 357=0D=0A Time: 8:30 PM=0D=0A Location: Marymoor, Field 7
CLASS:PUBLIC
PRIORITY:5
BEGIN:VALARM
TRIGGER:-PT330M
ACTION:DISPLAY
DESCRIPTION:Reminder
END:VALARM
END:VEVENT
BEGIN:VEVENT
DTSTART:2013-05-03T03:30:00Z
DTEND:2013-05-03T06:00:00Z
LOCATION:HV1: Hidden Valley, Field 1
CATEGORIES:Softball,Carpet To Go - Weekday,BB/SAA
UID:5B883B3E18539943BB751097EEE3BDDF:
DTSTAMP:2026-04-21T05:46:53Z:
SUMMARY:I'd Hit It at Carpet To Go - Weekday
DESCRIPTION;ENCODING=QUOTED-PRINTABLE:I'd Hit It at Carpet To Go - Weekday=0D=0A Time: 8:30 PM=0D=0A Location: Hidden Valley, Field 1
CLASS:PUBLIC
PRIORITY:5
BEGIN:VALARM
TRIGGER:-PT330M
ACTION:DISPLAY
DESCRIPTION:Reminder
END:VALARM
END:VEVENT
BEGIN:VEVENT
DTSTART:2013-05-10T03:30:00Z
DTEND:2013-05-10T06:00:00Z
LOCATION:HV1: Hidden Valley, Field 1
CATEGORIES:Softball,Carpet To Go - Weekday,BB/SAA
UID:C8F570A37F9CA42A8DC12F9D843B815:
DTSTAMP:2026-04-21T05:46:53Z:
SUMMARY:Balls Deep at Carpet To Go - Weekday
DESCRIPTION;ENCODING=QUOTED-PRINTABLE:Balls Deep at Carpet To Go - Weekday=0D=0A Time: 8:30 PM=0D=0A Location: Hidden Valley, Field 1
CLASS:PUBLIC
PRIORITY:5
BEGIN:VALARM
TRIGGER:-PT330M
ACTION:DISPLAY
DESCRIPTION:Reminder
END:VALARM
END:VEVENT
BEGIN:VEVENT
DTSTART:2013-05-16T03:30:00Z
DTEND:2013-05-16T06:00:00Z
LOCATION:HV1: Hidden Valley, Field 1
CATEGORIES:Softball,Carpet To Go - Weekday,BB/SAA
UID:97E7EFDA78A4A4F833CD8604CA8BEC5:
DTSTAMP:2026-04-21T05:46:53Z:
SUMMARY:Carpet To Go - Weekday at VPX Sports Bang 357
DESCRIPTION;ENCODING=QUOTED-PRINTABLE:Carpet To Go - Weekday at VPX Sports Bang 357=0D=0A Time: 8:30 PM=0D=0A Location: Hidden Valley, Field 1
CLASS:PUBLIC
PRIORITY:5
BEGIN:VALARM
TRIGGER:-PT330M
ACTION:DISPLAY
DESCRIPTION:Reminder
END:VALARM
END:VEVENT
BEGIN:VEVENT
DTSTART:2013-05-24T03:30:00Z
DTEND:2013-05-24T06:00:00Z
LOCATION:HV1: Hidden Valley, Field 1
CATEGORIES:Softball,Carpet To Go - Weekday,BB/SAA
UID:99295D63319D441AB8C19EE7FFB3374:
DTSTAMP:2026-04-21T05:46:53Z:
SUMMARY:I'd Hit It at Carpet To Go - Weekday
DESCRIPTION;ENCODING=QUOTED-PRINTABLE:I'd Hit It at Carpet To Go - Weekday=0D=0A Time: 8:30 PM=0D=0A Location: Hidden Valley, Field 1
CLASS:PUBLIC
PRIORITY:5
BEGIN:VALARM
TRIGGER:-PT330M
ACTION:DISPLAY
DESCRIPTION:Reminder
END:VALARM
END:VEVENT
BEGIN:VEVENT
DTSTART:2013-05-31T03:30:00Z
DTEND:2013-05-31T06:00:00Z
LOCATION:HV1: Hidden Valley, Field 1
CATEGORIES:Softball,Carpet To Go - Weekday,BB/SAA
UID:80FE6CAB629D342A995CADB1F821A39:
DTSTAMP:2026-04-21T05:46:53Z:
SUMMARY:Carpet To Go - Weekday at Balls Deep
DESCRIPTION;ENCODING=QUOTED-PRINTABLE:Carpet To Go - Weekday at Balls Deep=0D=0A Time: 8:30 PM=0D=0A Location: Hidden Valley, Field 1
CLASS:PUBLIC
PRIORITY:5
BEGIN:VALARM
TRIGGER:-PT330M
ACTION:DISPLAY
DESCRIPTION:Reminder
END:VALARM
END:VEVENT
BEGIN:VEVENT
DTSTART:2013-06-06T03:30:00Z
DTEND:2013-06-06T06:00:00Z
LOCATION:MM6: Marymoor, Field 6
CATEGORIES:Softball,Carpet To Go - Weekday,BB/SAA
UID:6B108849428F4E4980D0A49535ACC7FF:
DTSTAMP:2026-04-21T05:46:53Z:
SUMMARY:I'd Hit It at Carpet To Go - Weekday
DESCRIPTION;ENCODING=QUOTED-PRINTABLE:I'd Hit It at Carpet To Go - Weekday=0D=0A Time: 8:30 PM=0D=0A Location: Marymoor, Field 6
CLASS:PUBLIC
PRIORITY:5
BEGIN:VALARM
TRIGGER:-PT330M
ACTION:DISPLAY
DESCRIPTION:Reminder
END:VALARM
END:VEVENT
BEGIN:VEVENT
DTSTART:2013-06-14T03:30:00Z
DTEND:2013-06-14T06:00:00Z
LOCATION:HV1: Hidden Valley, Field 1
CATEGORIES:Softball,Carpet To Go - Weekday,BB/SAA
UID:6C9E4B34303A7A4E92C94CFCCCC893E6:
DTSTAMP:2026-04-21T05:46:53Z:
SUMMARY:Carpet To Go - Weekday at Balls Deep
DESCRIPTION;ENCODING=QUOTED-PRINTABLE:Carpet To Go - Weekday at Balls Deep=0D=0A Time: 8:30 PM=0D=0A Location: Hidden Valley, Field 1
CLASS:PUBLIC
PRIORITY:5
BEGIN:VALARM
TRIGGER:-PT330M
ACTION:DISPLAY
DESCRIPTION:Reminder
END:VALARM
END:VEVENT
BEGIN:VEVENT
DTSTART:2013-06-28T01:00:00Z
DTEND:2013-06-28T03:30:00Z
LOCATION:MM7: Marymoor, Field 7
CATEGORIES:Softball,Carpet To Go - Weekday,BB/SAA
UID:F91F79601245F4084DD2B8FF5104996:
DTSTAMP:2026-04-21T05:46:53Z:
SUMMARY:Sea Drunks at Carpet To Go - Weekday
DESCRIPTION;ENCODING=QUOTED-PRINTABLE:Sea Drunks at Carpet To Go - Weekday=0D=0A Time: 6:00 PM=0D=0A Location: Marymoor, Field 7
CLASS:PUBLIC
PRIORITY:5
BEGIN:VALARM
TRIGGER:-PT180M
ACTION:DISPLAY
DESCRIPTION:Reminder
END:VALARM
END:VEVENT
BEGIN:VEVENT
DTSTART:2013-06-28T02:30:00Z
DTEND:2013-06-28T05:00:00Z
LOCATION:MM7: Marymoor, Field 7
CATEGORIES:Softball,Carpet To Go - Weekday,BB/SAA
UID:C33FD87A89E7E4E96BF4D80EA611DD:
DTSTAMP:2026-04-21T05:46:53Z:
SUMMARY:Carpet To Go - Weekday at I'd Hit It
DESCRIPTION;ENCODING=QUOTED-PRINTABLE:Carpet To Go - Weekday at I'd Hit It=0D=0A Time: 7:30 PM=0D=0A Location: Marymoor, Field 7
CLASS:PUBLIC
PRIORITY:5
BEGIN:VALARM
TRIGGER:-PT270M
ACTION:DISPLAY
DESCRIPTION:Reminder
END:VALARM
END:VEVENT
END:VCALENDAR
