BEGIN:VCALENDAR
PRODID:-//Microsoft Corporation//Outlook 11.0 MIMEDIR//EN
VERSION:2.0
METHOD:PUBLISH
BEGIN:VEVENT
DTSTART:2013-04-18T03:30:00Z
DTEND:2013-04-18T06:00:00Z
LOCATION:MM7: Marymoor, Field 7
CATEGORIES:Softball,Team Shocker,BB/SAA
UID:B1A14CFADE5E94795FC1E4423C409F:
DTSTAMP:2026-04-21T05:29:26Z:
SUMMARY:Goose Pub 1 at Team Shocker
DESCRIPTION;ENCODING=QUOTED-PRINTABLE:Goose Pub 1 at Team Shocker=0D=0A Time: 8:30 PM=0D=0A Location: Marymoor, Field 7
CLASS:PUBLIC
PRIORITY:5
BEGIN:VALARM
TRIGGER:-PT330M
ACTION:DISPLAY
DESCRIPTION:Reminder
END:VALARM
END:VEVENT
BEGIN:VEVENT
DTSTART:2013-04-25T01:00:00Z
DTEND:2013-04-25T03:30:00Z
LOCATION:MM7: Marymoor, Field 7
CATEGORIES:Softball,Team Shocker,BB/SAA
UID:1315D2EDB45A224CA2F354B08C55A6B2:
DTSTAMP:2026-04-21T05:29:26Z:
SUMMARY:Moneyballs at Team Shocker
DESCRIPTION;ENCODING=QUOTED-PRINTABLE:Moneyballs at Team Shocker=0D=0A Time: 6:00 PM=0D=0A Location: Marymoor, Field 7
CLASS:PUBLIC
PRIORITY:5
BEGIN:VALARM
TRIGGER:-PT180M
ACTION:DISPLAY
DESCRIPTION:Reminder
END:VALARM
END:VEVENT
BEGIN:VEVENT
DTSTART:2013-05-02T01:00:00Z
DTEND:2013-05-02T03:30:00Z
LOCATION:HV1: Hidden Valley, Field 1
CATEGORIES:Softball,Team Shocker,BB/SAA
UID:DDC413A4DFA0334B8B26C7FC5353B1:
DTSTAMP:2026-04-21T05:29:26Z:
SUMMARY:Team Shocker at Silver Foxes
DESCRIPTION;ENCODING=QUOTED-PRINTABLE:Team Shocker at Silver Foxes=0D=0A Time: 6:00 PM=0D=0A Location: Hidden Valley, Field 1
CLASS:PUBLIC
PRIORITY:5
BEGIN:VALARM
TRIGGER:-PT180M
ACTION:DISPLAY
DESCRIPTION:Reminder
END:VALARM
END:VEVENT
BEGIN:VEVENT
DTSTART:2013-05-09T01:00:00Z
DTEND:2013-05-09T03:30:00Z
LOCATION:HV1: Hidden Valley, Field 1
CATEGORIES:Softball,Team Shocker,BB/SAA
UID:CD5BC645BBD9E4EB5B16296214FFCC0:
DTSTAMP:2026-04-21T05:29:26Z:
SUMMARY:Team Shocker at Slap Dat Pitch
DESCRIPTION;ENCODING=QUOTED-PRINTABLE:Team Shocker at Slap Dat Pitch=0D=0A Time: 6:00 PM=0D=0A Location: Hidden Valley, Field 1
CLASS:PUBLIC
PRIORITY:5
BEGIN:VALARM
TRIGGER:-PT180M
ACTION:DISPLAY
DESCRIPTION:Reminder
END:VALARM
END:VEVENT
BEGIN:VEVENT
DTSTART:2013-05-16T03:30:00Z
DTEND:2013-05-16T06:00:00Z
LOCATION:MM7: Marymoor, Field 7
CATEGORIES:Softball,Team Shocker,BB/SAA
UID:5BD5158D6380F04DA6EFFEC06A4837EA:
DTSTAMP:2026-04-21T05:29:26Z:
SUMMARY:Team Shocker at Mad Dogs
DESCRIPTION;ENCODING=QUOTED-PRINTABLE:Team Shocker at Mad Dogs=0D=0A Time: 8:30 PM=0D=0A Location: Marymoor, Field 7
CLASS:PUBLIC
PRIORITY:5
BEGIN:VALARM
TRIGGER:-PT330M
ACTION:DISPLAY
DESCRIPTION:Reminder
END:VALARM
END:VEVENT
BEGIN:VEVENT
DTSTART:2013-05-23T03:30:00Z
DTEND:2013-05-23T06:00:00Z
LOCATION:MM7: Marymoor, Field 7
CATEGORIES:Softball,Team Shocker,BB/SAA
UID:E56B68522A9F34C8995FA8FE8EFB5D0:
DTSTAMP:2026-04-21T05:29:26Z:
SUMMARY:Team Shocker at Problem Solvers
DESCRIPTION;ENCODING=QUOTED-PRINTABLE:Team Shocker at Problem Solvers=0D=0A Time: 8:30 PM=0D=0A Location: Marymoor, Field 7
CLASS:PUBLIC
PRIORITY:5
BEGIN:VALARM
TRIGGER:-PT330M
ACTION:DISPLAY
DESCRIPTION:Reminder
END:VALARM
END:VEVENT
BEGIN:VEVENT
DTSTART:2013-05-30T03:30:00Z
DTEND:2013-05-30T06:00:00Z
LOCATION:HV1: Hidden Valley, Field 1
CATEGORIES:Softball,Team Shocker,BB/SAA
UID:DFA13F05F79264A9DEDC362580FACE:
DTSTAMP:2026-04-21T05:29:26Z:
SUMMARY:First Presbyterian at Team Shocker
DESCRIPTION;ENCODING=QUOTED-PRINTABLE:First Presbyterian at Team Shocker=0D=0A Time: 8:30 PM=0D=0A Location: Hidden Valley, Field 1
CLASS:PUBLIC
PRIORITY:5
BEGIN:VALARM
TRIGGER:-PT330M
ACTION:DISPLAY
DESCRIPTION:Reminder
END:VALARM
END:VEVENT
BEGIN:VEVENT
DTSTART:2013-06-06T01:00:00Z
DTEND:2013-06-06T03:30:00Z
LOCATION:HV1: Hidden Valley, Field 1
CATEGORIES:Softball,Team Shocker,BB/SAA
UID:94784392B7A27845817FDD040C29819:
DTSTAMP:2026-04-21T05:29:26Z:
SUMMARY:Goose Pub 1 at Team Shocker
DESCRIPTION;ENCODING=QUOTED-PRINTABLE:Goose Pub 1 at Team Shocker=0D=0A Time: 6:00 PM=0D=0A Location: Hidden Valley, Field 1
CLASS:PUBLIC
PRIORITY:5
BEGIN:VALARM
TRIGGER:-PT180M
ACTION:DISPLAY
DESCRIPTION:Reminder
END:VALARM
END:VEVENT
END:VCALENDAR
