BEGIN:VCALENDAR
PRODID:-//Microsoft Corporation//Outlook 11.0 MIMEDIR//EN
VERSION:2.0
METHOD:PUBLISH
BEGIN:VEVENT
DTSTART:2013-04-20T01:00:00Z
DTEND:2013-04-20T03:30:00Z
LOCATION:HV1: Hidden Valley, Field 1
CATEGORIES:Softball,Where My Pitches At?,BB/SAA
UID:A3B4F4393AF61C429F863A39EDFC5AEB:
DTSTAMP:2026-04-21T07:20:30Z:
SUMMARY:All Saints at Where My Pitches At?
DESCRIPTION;ENCODING=QUOTED-PRINTABLE:All Saints at Where My Pitches At?=0D=0A Time: 6:00 PM=0D=0A Location: Hidden Valley, Field 1
CLASS:PUBLIC
PRIORITY:5
BEGIN:VALARM
TRIGGER:-PT180M
ACTION:DISPLAY
DESCRIPTION:Reminder
END:VALARM
END:VEVENT
BEGIN:VEVENT
DTSTART:2013-04-24T01:00:00Z
DTEND:2013-04-24T03:30:00Z
LOCATION:MM7: Marymoor, Field 7
CATEGORIES:Softball,Where My Pitches At?,BB/SAA
UID:6DDDA6EC5BAF4D4DB7C3A5B0DBF6476D:
DTSTAMP:2026-04-21T07:20:30Z:
SUMMARY:Where My Pitches At? at Kona Kitchen
DESCRIPTION;ENCODING=QUOTED-PRINTABLE:Where My Pitches At? at Kona Kitchen=0D=0A Time: 6:00 PM=0D=0A Location: Marymoor, Field 7
CLASS:PUBLIC
PRIORITY:5
BEGIN:VALARM
TRIGGER:-PT180M
ACTION:DISPLAY
DESCRIPTION:Reminder
END:VALARM
END:VEVENT
BEGIN:VEVENT
DTSTART:2013-05-04T01:00:00Z
DTEND:2013-05-04T03:30:00Z
LOCATION:HV1: Hidden Valley, Field 1
CATEGORIES:Softball,Where My Pitches At?,BB/SAA
UID:6AE64CB49AEEE749A9E62CE24F6D138:
DTSTAMP:2026-04-21T07:20:30Z:
SUMMARY:Regulators at Where My Pitches At?
DESCRIPTION;ENCODING=QUOTED-PRINTABLE:Regulators at Where My Pitches At?=0D=0A Time: 6:00 PM=0D=0A Location: Hidden Valley, Field 1
CLASS:PUBLIC
PRIORITY:5
BEGIN:VALARM
TRIGGER:-PT180M
ACTION:DISPLAY
DESCRIPTION:Reminder
END:VALARM
END:VEVENT
BEGIN:VEVENT
DTSTART:2013-05-11T01:00:00Z
DTEND:2013-05-11T03:30:00Z
LOCATION:HV1: Hidden Valley, Field 1
CATEGORIES:Softball,Where My Pitches At?,BB/SAA
UID:9B81734C988A7F4593F6C1D426B07D16:
DTSTAMP:2026-04-21T07:20:30Z:
SUMMARY:Where My Pitches At? at Cabo Loco / JC Wright
DESCRIPTION;ENCODING=QUOTED-PRINTABLE:Where My Pitches At? at Cabo Loco / JC Wright=0D=0A Time: 6:00 PM=0D=0A Location: Hidden Valley, Field 1
CLASS:PUBLIC
PRIORITY:5
BEGIN:VALARM
TRIGGER:-PT180M
ACTION:DISPLAY
DESCRIPTION:Reminder
END:VALARM
END:VEVENT
BEGIN:VEVENT
DTSTART:2013-05-15T01:00:00Z
DTEND:2013-05-15T03:30:00Z
LOCATION:MM7: Marymoor, Field 7
CATEGORIES:Softball,Where My Pitches At?,BB/SAA
UID:36544D81159A449B25E79DDB8D1174D:
DTSTAMP:2026-04-21T07:20:30Z:
SUMMARY:Where My Pitches At? at Palmer's Bombers
DESCRIPTION;ENCODING=QUOTED-PRINTABLE:Where My Pitches At? at Palmer's Bombers=0D=0A Time: 6:00 PM=0D=0A Location: Marymoor, Field 7
CLASS:PUBLIC
PRIORITY:5
BEGIN:VALARM
TRIGGER:-PT180M
ACTION:DISPLAY
DESCRIPTION:Reminder
END:VALARM
END:VEVENT
BEGIN:VEVENT
DTSTART:2013-05-22T03:30:00Z
DTEND:2013-05-22T06:00:00Z
LOCATION:MM6: Marymoor, Field 6
CATEGORIES:Softball,Where My Pitches At?,BB/SAA
UID:9222C9DE894364C91A2F2FF6EA3CF9:
DTSTAMP:2026-04-21T07:20:30Z:
SUMMARY:Where My Pitches At? at All Saints
DESCRIPTION;ENCODING=QUOTED-PRINTABLE:Where My Pitches At? at All Saints=0D=0A Time: 8:30 PM=0D=0A Location: Marymoor, Field 6
CLASS:PUBLIC
PRIORITY:5
BEGIN:VALARM
TRIGGER:-PT330M
ACTION:DISPLAY
DESCRIPTION:Reminder
END:VALARM
END:VEVENT
BEGIN:VEVENT
DTSTART:2013-06-01T03:30:00Z
DTEND:2013-06-01T06:00:00Z
LOCATION:HV1: Hidden Valley, Field 1
CATEGORIES:Softball,Where My Pitches At?,BB/SAA
UID:7D17DB6096A9B845B45492E0599BB6F1:
DTSTAMP:2026-04-21T07:20:30Z:
SUMMARY:Kona Kitchen at Where My Pitches At?
DESCRIPTION;ENCODING=QUOTED-PRINTABLE:Kona Kitchen at Where My Pitches At?=0D=0A Time: 8:30 PM=0D=0A Location: Hidden Valley, Field 1
CLASS:PUBLIC
PRIORITY:5
BEGIN:VALARM
TRIGGER:-PT330M
ACTION:DISPLAY
DESCRIPTION:Reminder
END:VALARM
END:VEVENT
BEGIN:VEVENT
DTSTART:2013-06-05T01:00:00Z
DTEND:2013-06-05T03:30:00Z
LOCATION:MM7: Marymoor, Field 7
CATEGORIES:Softball,Where My Pitches At?,BB/SAA
UID:6C819BD75E9E44D8482ACEA755F6FB9:
DTSTAMP:2026-04-21T07:20:30Z:
SUMMARY:Regulators at Where My Pitches At?
DESCRIPTION;ENCODING=QUOTED-PRINTABLE:Regulators at Where My Pitches At?=0D=0A Time: 6:00 PM=0D=0A Location: Marymoor, Field 7
CLASS:PUBLIC
PRIORITY:5
BEGIN:VALARM
TRIGGER:-PT180M
ACTION:DISPLAY
DESCRIPTION:Reminder
END:VALARM
END:VEVENT
BEGIN:VEVENT
DTSTART:2013-06-15T01:00:00Z
DTEND:2013-06-15T03:30:00Z
LOCATION:HV1: Hidden Valley, Field 1
CATEGORIES:Softball,Where My Pitches At?,BB/SAA
UID:B06E912D226254F8233967F269E9742:
DTSTAMP:2026-04-21T07:20:30Z:
SUMMARY:All Saints at Where My Pitches At?
DESCRIPTION;ENCODING=QUOTED-PRINTABLE:All Saints at Where My Pitches At?=0D=0A Time: 6:00 PM=0D=0A Location: Hidden Valley, Field 1
CLASS:PUBLIC
PRIORITY:5
BEGIN:VALARM
TRIGGER:-PT180M
ACTION:DISPLAY
DESCRIPTION:Reminder
END:VALARM
END:VEVENT
END:VCALENDAR
