BEGIN:VCALENDAR
PRODID:-//Microsoft Corporation//Outlook 11.0 MIMEDIR//EN
VERSION:2.0
METHOD:PUBLISH
BEGIN:VEVENT
DTSTART:2013-04-09T01:00:00Z
DTEND:2013-04-09T03:30:00Z
LOCATION:HV1: Hidden Valley, Field 1
CATEGORIES:Softball,Triple Play,BB/SAA
UID:799A84EB9E24FB5E3B3F7207AAF54:
DTSTAMP:2026-04-21T06:56:20Z:
SUMMARY:Fielder's Choice at Triple Play
DESCRIPTION;ENCODING=QUOTED-PRINTABLE:Fielder's Choice at Triple Play=0D=0A Time: 6:00 PM=0D=0A Location: Hidden Valley, Field 1
CLASS:PUBLIC
PRIORITY:5
BEGIN:VALARM
TRIGGER:-PT180M
ACTION:DISPLAY
DESCRIPTION:Reminder
END:VALARM
END:VEVENT
BEGIN:VEVENT
DTSTART:2013-04-16T01:00:00Z
DTEND:2013-04-16T03:30:00Z
LOCATION:HV1: Hidden Valley, Field 1
CATEGORIES:Softball,Triple Play,BB/SAA
UID:68481746B16F946AC1E3F28B77F46FD:
DTSTAMP:2026-04-21T06:56:20Z:
SUMMARY:DinoMo's at Triple Play
DESCRIPTION;ENCODING=QUOTED-PRINTABLE:DinoMo's at Triple Play=0D=0A Time: 6:00 PM=0D=0A Location: Hidden Valley, Field 1
CLASS:PUBLIC
PRIORITY:5
BEGIN:VALARM
TRIGGER:-PT180M
ACTION:DISPLAY
DESCRIPTION:Reminder
END:VALARM
END:VEVENT
BEGIN:VEVENT
DTSTART:2013-04-24T01:00:00Z
DTEND:2013-04-24T03:30:00Z
LOCATION:MM6: Marymoor, Field 6
CATEGORIES:Softball,Triple Play,BB/SAA
UID:68FB8696FC81F14EBB162D4A3826571C:
DTSTAMP:2026-04-21T06:56:20Z:
SUMMARY:Triple Play at MNF club
DESCRIPTION;ENCODING=QUOTED-PRINTABLE:Triple Play at MNF club=0D=0A Time: 6:00 PM=0D=0A Location: Marymoor, Field 6
CLASS:PUBLIC
PRIORITY:5
BEGIN:VALARM
TRIGGER:-PT180M
ACTION:DISPLAY
DESCRIPTION:Reminder
END:VALARM
END:VEVENT
BEGIN:VEVENT
DTSTART:2013-04-30T01:00:00Z
DTEND:2013-04-30T03:30:00Z
LOCATION:HV1: Hidden Valley, Field 1
CATEGORIES:Softball,Triple Play,BB/SAA
UID:AD7791CEB932E64F89B3AAFAB93C46E:
DTSTAMP:2026-04-21T06:56:20Z:
SUMMARY:Triple Play at Pirates
DESCRIPTION;ENCODING=QUOTED-PRINTABLE:Triple Play at Pirates=0D=0A Time: 6:00 PM=0D=0A Location: Hidden Valley, Field 1
CLASS:PUBLIC
PRIORITY:5
BEGIN:VALARM
TRIGGER:-PT180M
ACTION:DISPLAY
DESCRIPTION:Reminder
END:VALARM
END:VEVENT
BEGIN:VEVENT
DTSTART:2013-05-07T01:00:00Z
DTEND:2013-05-07T03:30:00Z
LOCATION:MM6: Marymoor, Field 6
CATEGORIES:Softball,Triple Play,BB/SAA
UID:148CC7169657BB419431BA9B38899A24:
DTSTAMP:2026-04-21T06:56:20Z:
SUMMARY:Triple Play at Brookshire Homes
DESCRIPTION;ENCODING=QUOTED-PRINTABLE:Triple Play at Brookshire Homes=0D=0A Time: 6:00 PM=0D=0A Location: Marymoor, Field 6
CLASS:PUBLIC
PRIORITY:5
BEGIN:VALARM
TRIGGER:-PT180M
ACTION:DISPLAY
DESCRIPTION:Reminder
END:VALARM
END:VEVENT
BEGIN:VEVENT
DTSTART:2013-05-14T03:30:00Z
DTEND:2013-05-14T06:00:00Z
LOCATION:MM7: Marymoor, Field 7
CATEGORIES:Softball,Triple Play,BB/SAA
UID:D0935643E5ACD54FA356FA673579EA6:
DTSTAMP:2026-04-21T06:56:20Z:
SUMMARY:Dreadsox at Triple Play
DESCRIPTION;ENCODING=QUOTED-PRINTABLE:Dreadsox at Triple Play=0D=0A Time: 8:30 PM=0D=0A Location: Marymoor, Field 7
CLASS:PUBLIC
PRIORITY:5
BEGIN:VALARM
TRIGGER:-PT330M
ACTION:DISPLAY
DESCRIPTION:Reminder
END:VALARM
END:VEVENT
BEGIN:VEVENT
DTSTART:2013-05-22T01:00:00Z
DTEND:2013-05-22T03:30:00Z
LOCATION:HV1: Hidden Valley, Field 1
CATEGORIES:Softball,Triple Play,BB/SAA
UID:D468EE3316E12D4689F021663DCCC5ED:
DTSTAMP:2026-04-21T06:56:20Z:
SUMMARY:Triple Play at Roundabouts
DESCRIPTION;ENCODING=QUOTED-PRINTABLE:Triple Play at Roundabouts=0D=0A Time: 6:00 PM=0D=0A Location: Hidden Valley, Field 1
CLASS:PUBLIC
PRIORITY:5
BEGIN:VALARM
TRIGGER:-PT180M
ACTION:DISPLAY
DESCRIPTION:Reminder
END:VALARM
END:VEVENT
BEGIN:VEVENT
DTSTART:2013-06-04T01:00:00Z
DTEND:2013-06-04T03:30:00Z
LOCATION:SAM1: Sammamish High School, Field 1
CATEGORIES:Softball,Triple Play,BB/SAA
UID:1F7B8BAAABA4A74099A6EA5797C24BF:
DTSTAMP:2026-04-21T06:56:20Z:
SUMMARY:Roundabouts at Triple Play
DESCRIPTION;ENCODING=QUOTED-PRINTABLE:Roundabouts at Triple Play=0D=0A Time: 6:00 PM=0D=0A Location: Sammamish High School, Field 1
CLASS:PUBLIC
PRIORITY:5
BEGIN:VALARM
TRIGGER:-PT180M
ACTION:DISPLAY
DESCRIPTION:Reminder
END:VALARM
END:VEVENT
BEGIN:VEVENT
DTSTART:2013-06-11T01:00:00Z
DTEND:2013-06-11T03:30:00Z
LOCATION:MM7: Marymoor, Field 7
CATEGORIES:Softball,Triple Play,BB/SAA
UID:040B2FB58BBE544B01ECE796C0DEDA:
DTSTAMP:2026-04-21T06:56:20Z:
SUMMARY:Fielder's Choice at Triple Play
DESCRIPTION;ENCODING=QUOTED-PRINTABLE:Fielder's Choice at Triple Play=0D=0A Time: 6:00 PM=0D=0A Location: Marymoor, Field 7
CLASS:PUBLIC
PRIORITY:5
BEGIN:VALARM
TRIGGER:-PT180M
ACTION:DISPLAY
DESCRIPTION:Reminder
END:VALARM
END:VEVENT
BEGIN:VEVENT
DTSTART:2013-06-18T01:00:00Z
DTEND:2013-06-18T03:30:00Z
LOCATION:HV1: Hidden Valley, Field 1
CATEGORIES:Softball,Triple Play,BB/SAA
UID:6461FD9F8565E94BAAB2E6D19BA81EF9:
DTSTAMP:2026-04-21T06:56:20Z:
SUMMARY:DinoMo's at Triple Play
DESCRIPTION;ENCODING=QUOTED-PRINTABLE:DinoMo's at Triple Play=0D=0A Time: 6:00 PM=0D=0A Location: Hidden Valley, Field 1
CLASS:PUBLIC
PRIORITY:5
BEGIN:VALARM
TRIGGER:-PT180M
ACTION:DISPLAY
DESCRIPTION:Reminder
END:VALARM
END:VEVENT
BEGIN:VEVENT
DTSTART:2013-06-20T01:00:00Z
DTEND:2013-06-20T03:30:00Z
LOCATION:HV1: Hidden Valley, Field 1
CATEGORIES:Softball,Triple Play,BB/SAA
UID:FAB55A8CE354D49B695D4B8BB945696:
DTSTAMP:2026-04-21T06:56:20Z:
SUMMARY:Triple Play at Roundabouts
DESCRIPTION;ENCODING=QUOTED-PRINTABLE:Triple Play at Roundabouts=0D=0A Time: 6:00 PM=0D=0A Location: Hidden Valley, Field 1
CLASS:PUBLIC
PRIORITY:5
BEGIN:VALARM
TRIGGER:-PT180M
ACTION:DISPLAY
DESCRIPTION:Reminder
END:VALARM
END:VEVENT
BEGIN:VEVENT
DTSTART:2013-06-25T01:00:00Z
DTEND:2013-06-25T03:30:00Z
LOCATION:MM6: Marymoor, Field 6
CATEGORIES:Softball,Triple Play,BB/SAA
UID:B99DBABB54B0A845B296B1FB0E7C06F:
DTSTAMP:2026-04-21T06:56:20Z:
SUMMARY:Triple Play at Shotguns and Showels
DESCRIPTION;ENCODING=QUOTED-PRINTABLE:Triple Play at Shotguns and Showels=0D=0A Time: 6:00 PM=0D=0A Location: Marymoor, Field 6
CLASS:PUBLIC
PRIORITY:5
BEGIN:VALARM
TRIGGER:-PT180M
ACTION:DISPLAY
DESCRIPTION:Reminder
END:VALARM
END:VEVENT
END:VCALENDAR
