BEGIN:VCALENDAR
PRODID:-//Microsoft Corporation//Outlook 11.0 MIMEDIR//EN
VERSION:2.0
METHOD:PUBLISH
BEGIN:VEVENT
DTSTART:2013-04-10T03:30:00Z
DTEND:2013-04-10T06:00:00Z
LOCATION:HV1: Hidden Valley, Field 1
CATEGORIES:Softball,The Jagerbombers,BB/SAA
UID:E558BD32A7EA18448639B414E17519EA:
DTSTAMP:2026-04-21T10:51:37Z:
SUMMARY:The Jagerbombers at Shotguns and Showels
DESCRIPTION;ENCODING=QUOTED-PRINTABLE:The Jagerbombers at Shotguns and Showels=0D=0A Time: 8:30 PM=0D=0A Location: Hidden Valley, Field 1
CLASS:PUBLIC
PRIORITY:5
BEGIN:VALARM
TRIGGER:-PT330M
ACTION:DISPLAY
DESCRIPTION:Reminder
END:VALARM
END:VEVENT
BEGIN:VEVENT
DTSTART:2013-04-17T03:30:00Z
DTEND:2013-04-17T06:00:00Z
LOCATION:HV1: Hidden Valley, Field 1
CATEGORIES:Softball,The Jagerbombers,BB/SAA
UID:EAFCD125E2AD69439DFDB3227FB67DC:
DTSTAMP:2026-04-21T10:51:37Z:
SUMMARY:Scared Hit-Less at The Jagerbombers
DESCRIPTION;ENCODING=QUOTED-PRINTABLE:Scared Hit-Less at The Jagerbombers=0D=0A Time: 8:30 PM=0D=0A Location: Hidden Valley, Field 1
CLASS:PUBLIC
PRIORITY:5
BEGIN:VALARM
TRIGGER:-PT330M
ACTION:DISPLAY
DESCRIPTION:Reminder
END:VALARM
END:VEVENT
BEGIN:VEVENT
DTSTART:2013-04-23T03:30:00Z
DTEND:2013-04-23T06:00:00Z
LOCATION:MM7: Marymoor, Field 7
CATEGORIES:Softball,The Jagerbombers,BB/SAA
UID:41866626779CCE499DC1A1DBC08B238A:
DTSTAMP:2026-04-21T10:51:37Z:
SUMMARY:Crossfit Bellevue at The Jagerbombers
DESCRIPTION;ENCODING=QUOTED-PRINTABLE:Crossfit Bellevue at The Jagerbombers=0D=0A Time: 8:30 PM=0D=0A Location: Marymoor, Field 7
CLASS:PUBLIC
PRIORITY:5
BEGIN:VALARM
TRIGGER:-PT330M
ACTION:DISPLAY
DESCRIPTION:Reminder
END:VALARM
END:VEVENT
BEGIN:VEVENT
DTSTART:2013-05-01T03:30:00Z
DTEND:2013-05-01T06:00:00Z
LOCATION:HV1: Hidden Valley, Field 1
CATEGORIES:Softball,The Jagerbombers,BB/SAA
UID:5F3DD25EE3801E43A0EB33F8A8E9B943:
DTSTAMP:2026-04-21T10:51:37Z:
SUMMARY:The Jagerbombers at Shotguns and Showels
DESCRIPTION;ENCODING=QUOTED-PRINTABLE:The Jagerbombers at Shotguns and Showels=0D=0A Time: 8:30 PM=0D=0A Location: Hidden Valley, Field 1
CLASS:PUBLIC
PRIORITY:5
BEGIN:VALARM
TRIGGER:-PT330M
ACTION:DISPLAY
DESCRIPTION:Reminder
END:VALARM
END:VEVENT
BEGIN:VEVENT
DTSTART:2013-05-08T01:00:00Z
DTEND:2013-05-08T03:30:00Z
LOCATION:MM7: Marymoor, Field 7
CATEGORIES:Softball,The Jagerbombers,BB/SAA
UID:40E1F5B37832B446ACE76A264FD1C9E9:
DTSTAMP:2026-04-21T10:51:37Z:
SUMMARY:Scared Hit-Less at The Jagerbombers
DESCRIPTION;ENCODING=QUOTED-PRINTABLE:Scared Hit-Less at The Jagerbombers=0D=0A Time: 6:00 PM=0D=0A Location: Marymoor, Field 7
CLASS:PUBLIC
PRIORITY:5
BEGIN:VALARM
TRIGGER:-PT180M
ACTION:DISPLAY
DESCRIPTION:Reminder
END:VALARM
END:VEVENT
BEGIN:VEVENT
DTSTART:2013-05-14T01:00:00Z
DTEND:2013-05-14T03:30:00Z
LOCATION:MM7: Marymoor, Field 7
CATEGORIES:Softball,The Jagerbombers,BB/SAA
UID:413C3DB2AD7E4249B92FD477538112F:
DTSTAMP:2026-04-21T10:51:37Z:
SUMMARY:The Jagerbombers at Crossfit Bellevue
DESCRIPTION;ENCODING=QUOTED-PRINTABLE:The Jagerbombers at Crossfit Bellevue=0D=0A Time: 6:00 PM=0D=0A Location: Marymoor, Field 7
CLASS:PUBLIC
PRIORITY:5
BEGIN:VALARM
TRIGGER:-PT180M
ACTION:DISPLAY
DESCRIPTION:Reminder
END:VALARM
END:VEVENT
BEGIN:VEVENT
DTSTART:2013-05-21T01:00:00Z
DTEND:2013-05-21T03:30:00Z
LOCATION:MM7: Marymoor, Field 7
CATEGORIES:Softball,The Jagerbombers,BB/SAA
UID:55E89FE78BC4C49BFDFFE4FC40E349:
DTSTAMP:2026-04-21T10:51:37Z:
SUMMARY:The Jagerbombers at Shotguns and Showels
DESCRIPTION;ENCODING=QUOTED-PRINTABLE:The Jagerbombers at Shotguns and Showels=0D=0A Time: 6:00 PM=0D=0A Location: Marymoor, Field 7
CLASS:PUBLIC
PRIORITY:5
BEGIN:VALARM
TRIGGER:-PT180M
ACTION:DISPLAY
DESCRIPTION:Reminder
END:VALARM
END:VEVENT
BEGIN:VEVENT
DTSTART:2013-05-29T03:30:00Z
DTEND:2013-05-29T06:00:00Z
LOCATION:HV1: Hidden Valley, Field 1
CATEGORIES:Softball,The Jagerbombers,BB/SAA
UID:D0821444F5E07243AF2D101872805C87:
DTSTAMP:2026-04-21T10:51:37Z:
SUMMARY:Scared Hit-Less at The Jagerbombers
DESCRIPTION;ENCODING=QUOTED-PRINTABLE:Scared Hit-Less at The Jagerbombers=0D=0A Time: 8:30 PM=0D=0A Location: Hidden Valley, Field 1
CLASS:PUBLIC
PRIORITY:5
BEGIN:VALARM
TRIGGER:-PT330M
ACTION:DISPLAY
DESCRIPTION:Reminder
END:VALARM
END:VEVENT
BEGIN:VEVENT
DTSTART:2013-06-19T01:00:00Z
DTEND:2013-06-19T03:30:00Z
LOCATION:HV1: Hidden Valley, Field 1
CATEGORIES:Softball,The Jagerbombers,BB/SAA
UID:304216E6618B54D816E9FAB6444FA18:
DTSTAMP:2026-04-21T10:51:37Z:
SUMMARY:Scared Hit-Less at The Jagerbombers
DESCRIPTION;ENCODING=QUOTED-PRINTABLE:Scared Hit-Less at The Jagerbombers=0D=0A Time: 6:00 PM=0D=0A Location: Hidden Valley, Field 1
CLASS:PUBLIC
PRIORITY:5
BEGIN:VALARM
TRIGGER:-PT180M
ACTION:DISPLAY
DESCRIPTION:Reminder
END:VALARM
END:VEVENT
BEGIN:VEVENT
DTSTART:2013-06-25T01:00:00Z
DTEND:2013-06-25T03:30:00Z
LOCATION:MM7: Marymoor, Field 7
CATEGORIES:Softball,The Jagerbombers,BB/SAA
UID:A587726D487D80449BA78D7F8196FE9:
DTSTAMP:2026-04-21T10:51:37Z:
SUMMARY:Brookshire Homes at The Jagerbombers
DESCRIPTION;ENCODING=QUOTED-PRINTABLE:Brookshire Homes at The Jagerbombers=0D=0A Time: 6:00 PM=0D=0A Location: Marymoor, Field 7
CLASS:PUBLIC
PRIORITY:5
BEGIN:VALARM
TRIGGER:-PT180M
ACTION:DISPLAY
DESCRIPTION:Reminder
END:VALARM
END:VEVENT
END:VCALENDAR
