BEGIN:VCALENDAR
PRODID:-//Microsoft Corporation//Outlook 11.0 MIMEDIR//EN
VERSION:2.0
METHOD:PUBLISH
BEGIN:VEVENT
DTSTART:2013-04-07T01:00:00Z
DTEND:2013-04-07T03:30:00Z
LOCATION:HV1: Hidden Valley, Field 1
CATEGORIES:Softball,TenSpots,BB/SAA
UID:343967E65BCD8248A4B06E7ACE48A520:
DTSTAMP:2026-04-21T06:50:14Z:
SUMMARY:TenSpots at Sea Drunks
DESCRIPTION;ENCODING=QUOTED-PRINTABLE:TenSpots at Sea Drunks=0D=0A Time: 6:00 PM=0D=0A Location: Hidden Valley, Field 1
CLASS:PUBLIC
PRIORITY:5
BEGIN:VALARM
TRIGGER:-PT1620M
ACTION:DISPLAY
DESCRIPTION:Reminder
END:VALARM
END:VEVENT
BEGIN:VEVENT
DTSTART:2013-04-14T04:00:00Z
DTEND:2013-04-14T06:30:00Z
LOCATION:HV1: Hidden Valley, Field 1
CATEGORIES:Softball,TenSpots,BB/SAA
UID:45E98FA0584A6F4795971E24E153571A:
DTSTAMP:2026-04-21T06:50:14Z:
SUMMARY:The Fog at TenSpots
DESCRIPTION;ENCODING=QUOTED-PRINTABLE:The Fog at TenSpots=0D=0A Time: 9:00 AM=0D=0A Location: Hidden Valley, Field 1
CLASS:PUBLIC
PRIORITY:5
BEGIN:VALARM
TRIGGER:-PT2520M
ACTION:DISPLAY
DESCRIPTION:Reminder
END:VALARM
END:VEVENT
BEGIN:VEVENT
DTSTART:2013-04-21T04:00:00Z
DTEND:2013-04-21T06:30:00Z
LOCATION:HV1: Hidden Valley, Field 1
CATEGORIES:Softball,TenSpots,BB/SAA
UID:9BE0141646E19043A5C1FD6CB9781C2D:
DTSTAMP:2026-04-21T06:50:14Z:
SUMMARY:Gap Pounders at TenSpots
DESCRIPTION;ENCODING=QUOTED-PRINTABLE:Gap Pounders at TenSpots=0D=0A Time: 9:00 AM=0D=0A Location: Hidden Valley, Field 1
CLASS:PUBLIC
PRIORITY:5
BEGIN:VALARM
TRIGGER:-PT2520M
ACTION:DISPLAY
DESCRIPTION:Reminder
END:VALARM
END:VEVENT
BEGIN:VEVENT
DTSTART:2013-04-29T01:00:00Z
DTEND:2013-04-29T03:30:00Z
LOCATION:HV1: Hidden Valley, Field 1
CATEGORIES:Softball,TenSpots,BB/SAA
UID:59C4FC5C659A4F46A3D3DDA48CB9C387:
DTSTAMP:2026-04-21T06:50:14Z:
SUMMARY:Carpet To Go - Sunday at TenSpots
DESCRIPTION;ENCODING=QUOTED-PRINTABLE:Carpet To Go - Sunday at TenSpots=0D=0A Time: 6:00 PM=0D=0A Location: Hidden Valley, Field 1
CLASS:PUBLIC
PRIORITY:5
BEGIN:VALARM
TRIGGER:-PT3060M
ACTION:DISPLAY
DESCRIPTION:Reminder
END:VALARM
END:VEVENT
BEGIN:VEVENT
DTSTART:2013-05-05T04:00:00Z
DTEND:2013-05-05T06:30:00Z
LOCATION:HV1: Hidden Valley, Field 1
CATEGORIES:Softball,TenSpots,BB/SAA
UID:62E8F521FBBFD45BFD39A3287F1E3E4:
DTSTAMP:2026-04-21T06:50:14Z:
SUMMARY:Rally Killers at TenSpots
DESCRIPTION;ENCODING=QUOTED-PRINTABLE:Rally Killers at TenSpots=0D=0A Time: 9:00 AM=0D=0A Location: Hidden Valley, Field 1
CLASS:PUBLIC
PRIORITY:5
BEGIN:VALARM
TRIGGER:-PT2520M
ACTION:DISPLAY
DESCRIPTION:Reminder
END:VALARM
END:VEVENT
BEGIN:VEVENT
DTSTART:2013-05-19T04:00:00Z
DTEND:2013-05-19T06:30:00Z
LOCATION:HV1: Hidden Valley, Field 1
CATEGORIES:Softball,TenSpots,BB/SAA
UID:7E54F7A5C6BDB41BCC3EDA6626C52:
DTSTAMP:2026-04-21T06:50:14Z:
SUMMARY:TenSpots at Sea Drunks
DESCRIPTION;ENCODING=QUOTED-PRINTABLE:TenSpots at Sea Drunks=0D=0A Time: 9:00 AM=0D=0A Location: Hidden Valley, Field 1
CLASS:PUBLIC
PRIORITY:5
BEGIN:VALARM
TRIGGER:-PT2520M
ACTION:DISPLAY
DESCRIPTION:Reminder
END:VALARM
END:VEVENT
BEGIN:VEVENT
DTSTART:2013-06-02T04:00:00Z
DTEND:2013-06-02T06:30:00Z
LOCATION:HV1: Hidden Valley, Field 1
CATEGORIES:Softball,TenSpots,BB/SAA
UID:53E33A4657FAFD46A686C9F950D2CFC1:
DTSTAMP:2026-04-21T06:50:14Z:
SUMMARY:TenSpots at The Fog
DESCRIPTION;ENCODING=QUOTED-PRINTABLE:TenSpots at The Fog=0D=0A Time: 9:00 AM=0D=0A Location: Hidden Valley, Field 1
CLASS:PUBLIC
PRIORITY:5
BEGIN:VALARM
TRIGGER:-PT2520M
ACTION:DISPLAY
DESCRIPTION:Reminder
END:VALARM
END:VEVENT
BEGIN:VEVENT
DTSTART:2013-06-09T04:00:00Z
DTEND:2013-06-09T06:30:00Z
LOCATION:HV1: Hidden Valley, Field 1
CATEGORIES:Softball,TenSpots,BB/SAA
UID:9365F1961CEB304AAB516ADE5FCB6919:
DTSTAMP:2026-04-21T06:50:14Z:
SUMMARY:TenSpots at Gap Pounders
DESCRIPTION;ENCODING=QUOTED-PRINTABLE:TenSpots at Gap Pounders=0D=0A Time: 9:00 AM=0D=0A Location: Hidden Valley, Field 1
CLASS:PUBLIC
PRIORITY:5
BEGIN:VALARM
TRIGGER:-PT2520M
ACTION:DISPLAY
DESCRIPTION:Reminder
END:VALARM
END:VEVENT
BEGIN:VEVENT
DTSTART:2013-06-16T04:00:00Z
DTEND:2013-06-16T06:30:00Z
LOCATION:SAM2: Sammamish High School, Field 2
CATEGORIES:Softball,TenSpots,BB/SAA
UID:642B3CE64AFC4989A8AAB1C4A0E880:
DTSTAMP:2026-04-21T06:50:14Z:
SUMMARY:Gap Pounders at TenSpots
DESCRIPTION;ENCODING=QUOTED-PRINTABLE:Gap Pounders at TenSpots=0D=0A Time: 9:00 AM=0D=0A Location: Sammamish High School, Field 2
CLASS:PUBLIC
PRIORITY:5
BEGIN:VALARM
TRIGGER:-PT2520M
ACTION:DISPLAY
DESCRIPTION:Reminder
END:VALARM
END:VEVENT
BEGIN:VEVENT
DTSTART:2013-06-16T06:30:00Z
DTEND:2013-06-16T09:00:00Z
LOCATION:SAM1: Sammamish High School, Field 1
CATEGORIES:Softball,TenSpots,BB/SAA
UID:993FFE215F20A749B9F41AB2A36D56D0:
DTSTAMP:2026-04-21T06:50:14Z:
SUMMARY:TenSpots at Sea Drunks
DESCRIPTION;ENCODING=QUOTED-PRINTABLE:TenSpots at Sea Drunks=0D=0A Time: 11:30 AM=0D=0A Location: Sammamish High School, Field 1
CLASS:PUBLIC
PRIORITY:5
BEGIN:VALARM
TRIGGER:-PT2670M
ACTION:DISPLAY
DESCRIPTION:Reminder
END:VALARM
END:VEVENT
BEGIN:VEVENT
DTSTART:2013-06-23T10:30:00Z
DTEND:2013-06-24T01:00:00Z
LOCATION:SAM1: Sammamish High School, Field 1
CATEGORIES:Softball,TenSpots,BB/SAA
UID:DA2BA0F4E47B4E9E25D3733AA769F6:
DTSTAMP:2026-04-21T06:50:14Z:
SUMMARY:The Fog at TenSpots
DESCRIPTION;ENCODING=QUOTED-PRINTABLE:The Fog at TenSpots=0D=0A Time: 3:30 PM=0D=0A Location: Sammamish High School, Field 1
CLASS:PUBLIC
PRIORITY:5
BEGIN:VALARM
TRIGGER:-PT2910M
ACTION:DISPLAY
DESCRIPTION:Reminder
END:VALARM
END:VEVENT
END:VCALENDAR
