BEGIN:VCALENDAR
PRODID:-//Microsoft Corporation//Outlook 11.0 MIMEDIR//EN
VERSION:2.0
METHOD:PUBLISH
BEGIN:VEVENT
DTSTART:2013-04-18T01:00:00Z
DTEND:2013-04-18T03:30:00Z
LOCATION:MM7: Marymoor, Field 7
CATEGORIES:Softball,Silver Foxes,BB/SAA
UID:F52E45E5EF91DE4E82C67994A631D9E:
DTSTAMP:2026-04-25T10:41:06Z:
SUMMARY:Mad Dogs at Silver Foxes
DESCRIPTION;ENCODING=QUOTED-PRINTABLE:Mad Dogs at Silver Foxes=0D=0A Time: 6:00 PM=0D=0A Location: Marymoor, Field 7
CLASS:PUBLIC
PRIORITY:5
BEGIN:VALARM
TRIGGER:-PT180M
ACTION:DISPLAY
DESCRIPTION:Reminder
END:VALARM
END:VEVENT
BEGIN:VEVENT
DTSTART:2013-04-25T01:00:00Z
DTEND:2013-04-25T03:30:00Z
LOCATION:MM6: Marymoor, Field 6
CATEGORIES:Softball,Silver Foxes,BB/SAA
UID:AB57854BA64115428FFEE6DF11B39F9A:
DTSTAMP:2026-04-25T10:41:06Z:
SUMMARY:Silver Foxes at Problem Solvers
DESCRIPTION;ENCODING=QUOTED-PRINTABLE:Silver Foxes at Problem Solvers=0D=0A Time: 6:00 PM=0D=0A Location: Marymoor, Field 6
CLASS:PUBLIC
PRIORITY:5
BEGIN:VALARM
TRIGGER:-PT180M
ACTION:DISPLAY
DESCRIPTION:Reminder
END:VALARM
END:VEVENT
BEGIN:VEVENT
DTSTART:2013-05-02T01:00:00Z
DTEND:2013-05-02T03:30:00Z
LOCATION:HV1: Hidden Valley, Field 1
CATEGORIES:Softball,Silver Foxes,BB/SAA
UID:C3E5C49972D24346BE83513ECA3EE:
DTSTAMP:2026-04-25T10:41:06Z:
SUMMARY:Team Shocker at Silver Foxes
DESCRIPTION;ENCODING=QUOTED-PRINTABLE:Team Shocker at Silver Foxes=0D=0A Time: 6:00 PM=0D=0A Location: Hidden Valley, Field 1
CLASS:PUBLIC
PRIORITY:5
BEGIN:VALARM
TRIGGER:-PT180M
ACTION:DISPLAY
DESCRIPTION:Reminder
END:VALARM
END:VEVENT
BEGIN:VEVENT
DTSTART:2013-05-09T03:30:00Z
DTEND:2013-05-09T06:00:00Z
LOCATION:HV1: Hidden Valley, Field 1
CATEGORIES:Softball,Silver Foxes,BB/SAA
UID:A38D301AE4E96840B1671BD63F78BF4:
DTSTAMP:2026-04-25T10:41:06Z:
SUMMARY:Silver Foxes at Goose Pub 1
DESCRIPTION;ENCODING=QUOTED-PRINTABLE:Silver Foxes at Goose Pub 1=0D=0A Time: 8:30 PM=0D=0A Location: Hidden Valley, Field 1
CLASS:PUBLIC
PRIORITY:5
BEGIN:VALARM
TRIGGER:-PT330M
ACTION:DISPLAY
DESCRIPTION:Reminder
END:VALARM
END:VEVENT
BEGIN:VEVENT
DTSTART:2013-05-16T01:00:00Z
DTEND:2013-05-16T03:30:00Z
LOCATION:MM6: Marymoor, Field 6
CATEGORIES:Softball,Silver Foxes,BB/SAA
UID:31B169894AFC75489C67E6AAD7C98FB:
DTSTAMP:2026-04-25T10:41:06Z:
SUMMARY:Silver Foxes at Moneyballs
DESCRIPTION;ENCODING=QUOTED-PRINTABLE:Silver Foxes at Moneyballs=0D=0A Time: 6:00 PM=0D=0A Location: Marymoor, Field 6
CLASS:PUBLIC
PRIORITY:5
BEGIN:VALARM
TRIGGER:-PT180M
ACTION:DISPLAY
DESCRIPTION:Reminder
END:VALARM
END:VEVENT
BEGIN:VEVENT
DTSTART:2013-05-23T01:00:00Z
DTEND:2013-05-23T03:30:00Z
LOCATION:MM6: Marymoor, Field 6
CATEGORIES:Softball,Silver Foxes,BB/SAA
UID:4FBC2E4FEF86D04F9973B48F81D71832:
DTSTAMP:2026-04-25T10:41:06Z:
SUMMARY:Silver Foxes at First Presbyterian
DESCRIPTION;ENCODING=QUOTED-PRINTABLE:Silver Foxes at First Presbyterian=0D=0A Time: 6:00 PM=0D=0A Location: Marymoor, Field 6
CLASS:PUBLIC
PRIORITY:5
BEGIN:VALARM
TRIGGER:-PT180M
ACTION:DISPLAY
DESCRIPTION:Reminder
END:VALARM
END:VEVENT
BEGIN:VEVENT
DTSTART:2013-05-30T01:00:00Z
DTEND:2013-05-30T03:30:00Z
LOCATION:MM7: Marymoor, Field 7
CATEGORIES:Softball,Silver Foxes,BB/SAA
UID:B9DB67A54E49F24FB134963A84E346D7:
DTSTAMP:2026-04-25T10:41:06Z:
SUMMARY:Slap Dat Pitch at Silver Foxes
DESCRIPTION;ENCODING=QUOTED-PRINTABLE:Slap Dat Pitch at Silver Foxes=0D=0A Time: 6:00 PM=0D=0A Location: Marymoor, Field 7
CLASS:PUBLIC
PRIORITY:5
BEGIN:VALARM
TRIGGER:-PT180M
ACTION:DISPLAY
DESCRIPTION:Reminder
END:VALARM
END:VEVENT
BEGIN:VEVENT
DTSTART:2013-06-06T03:30:00Z
DTEND:2013-06-06T06:00:00Z
LOCATION:HV1: Hidden Valley, Field 1
CATEGORIES:Softball,Silver Foxes,BB/SAA
UID:98891A79216134EB1C88CB75245B73D:
DTSTAMP:2026-04-25T10:41:06Z:
SUMMARY:Mad Dogs at Silver Foxes
DESCRIPTION;ENCODING=QUOTED-PRINTABLE:Mad Dogs at Silver Foxes=0D=0A Time: 8:30 PM=0D=0A Location: Hidden Valley, Field 1
CLASS:PUBLIC
PRIORITY:5
BEGIN:VALARM
TRIGGER:-PT330M
ACTION:DISPLAY
DESCRIPTION:Reminder
END:VALARM
END:VEVENT
BEGIN:VEVENT
DTSTART:2013-06-14T02:15:00Z
DTEND:2013-06-14T04:45:00Z
LOCATION:MM7: Marymoor, Field 7
CATEGORIES:Softball,Silver Foxes,BB/SAA
UID:A175CEB19D492340926A9778936FFB3:
DTSTAMP:2026-04-25T10:41:06Z:
SUMMARY:Silver Foxes at Goose Pub 1
DESCRIPTION;ENCODING=QUOTED-PRINTABLE:Silver Foxes at Goose Pub 1=0D=0A Time: 7:15 PM=0D=0A Location: Marymoor, Field 7
CLASS:PUBLIC
PRIORITY:5
BEGIN:VALARM
TRIGGER:-PT255M
ACTION:DISPLAY
DESCRIPTION:Reminder
END:VALARM
END:VEVENT
END:VCALENDAR
