BEGIN:VCALENDAR
PRODID:-//Microsoft Corporation//Outlook 11.0 MIMEDIR//EN
VERSION:2.0
METHOD:PUBLISH
BEGIN:VEVENT
DTSTART:2013-04-09T01:00:00Z
DTEND:2013-04-09T03:30:00Z
LOCATION:MM6: Marymoor, Field 6
CATEGORIES:Softball,Scared Hit-Less,BB/SAA
UID:4A50982BE473A44084346764525DF9:
DTSTAMP:2026-04-21T10:44:16Z:
SUMMARY:Crossfit Bellevue at Scared Hit-Less
DESCRIPTION;ENCODING=QUOTED-PRINTABLE:Crossfit Bellevue at Scared Hit-Less=0D=0A Time: 6:00 PM=0D=0A Location: Marymoor, Field 6
CLASS:PUBLIC
PRIORITY:5
BEGIN:VALARM
TRIGGER:-PT180M
ACTION:DISPLAY
DESCRIPTION:Reminder
END:VALARM
END:VEVENT
BEGIN:VEVENT
DTSTART:2013-04-17T03:30:00Z
DTEND:2013-04-17T06:00:00Z
LOCATION:HV1: Hidden Valley, Field 1
CATEGORIES:Softball,Scared Hit-Less,BB/SAA
UID:DA6EFD766A8D9C4C82BD29B93A7FAE4F:
DTSTAMP:2026-04-21T10:44:16Z:
SUMMARY:Scared Hit-Less at The Jagerbombers
DESCRIPTION;ENCODING=QUOTED-PRINTABLE:Scared Hit-Less at The Jagerbombers=0D=0A Time: 8:30 PM=0D=0A Location: Hidden Valley, Field 1
CLASS:PUBLIC
PRIORITY:5
BEGIN:VALARM
TRIGGER:-PT330M
ACTION:DISPLAY
DESCRIPTION:Reminder
END:VALARM
END:VEVENT
BEGIN:VEVENT
DTSTART:2013-04-24T03:30:00Z
DTEND:2013-04-24T06:00:00Z
LOCATION:MM6: Marymoor, Field 6
CATEGORIES:Softball,Scared Hit-Less,BB/SAA
UID:6336676347F015428F5C86A22F34C53:
DTSTAMP:2026-04-21T10:44:16Z:
SUMMARY:Shotguns and Showels at Scared Hit-Less
DESCRIPTION;ENCODING=QUOTED-PRINTABLE:Shotguns and Showels at Scared Hit-Less=0D=0A Time: 8:30 PM=0D=0A Location: Marymoor, Field 6
CLASS:PUBLIC
PRIORITY:5
BEGIN:VALARM
TRIGGER:-PT330M
ACTION:DISPLAY
DESCRIPTION:Reminder
END:VALARM
END:VEVENT
BEGIN:VEVENT
DTSTART:2013-05-01T01:00:00Z
DTEND:2013-05-01T03:30:00Z
LOCATION:HV1: Hidden Valley, Field 1
CATEGORIES:Softball,Scared Hit-Less,BB/SAA
UID:454B1E10BDE0B40A5B2642FF0FBB13:
DTSTAMP:2026-04-21T10:44:16Z:
SUMMARY:Scared Hit-Less at Crossfit Bellevue
DESCRIPTION;ENCODING=QUOTED-PRINTABLE:Scared Hit-Less at Crossfit Bellevue=0D=0A Time: 6:00 PM=0D=0A Location: Hidden Valley, Field 1
CLASS:PUBLIC
PRIORITY:5
BEGIN:VALARM
TRIGGER:-PT180M
ACTION:DISPLAY
DESCRIPTION:Reminder
END:VALARM
END:VEVENT
BEGIN:VEVENT
DTSTART:2013-05-08T01:00:00Z
DTEND:2013-05-08T03:30:00Z
LOCATION:MM7: Marymoor, Field 7
CATEGORIES:Softball,Scared Hit-Less,BB/SAA
UID:A31310CCAC3C71489C386D6AAFD8AEBE:
DTSTAMP:2026-04-21T10:44:16Z:
SUMMARY:Scared Hit-Less at The Jagerbombers
DESCRIPTION;ENCODING=QUOTED-PRINTABLE:Scared Hit-Less at The Jagerbombers=0D=0A Time: 6:00 PM=0D=0A Location: Marymoor, Field 7
CLASS:PUBLIC
PRIORITY:5
BEGIN:VALARM
TRIGGER:-PT180M
ACTION:DISPLAY
DESCRIPTION:Reminder
END:VALARM
END:VEVENT
BEGIN:VEVENT
DTSTART:2013-05-15T01:00:00Z
DTEND:2013-05-15T03:30:00Z
LOCATION:HV1: Hidden Valley, Field 1
CATEGORIES:Softball,Scared Hit-Less,BB/SAA
UID:39A14C43D4A2584FBE59D3A2A33E17A:
DTSTAMP:2026-04-21T10:44:16Z:
SUMMARY:Shotguns and Showels at Scared Hit-Less
DESCRIPTION;ENCODING=QUOTED-PRINTABLE:Shotguns and Showels at Scared Hit-Less=0D=0A Time: 6:00 PM=0D=0A Location: Hidden Valley, Field 1
CLASS:PUBLIC
PRIORITY:5
BEGIN:VALARM
TRIGGER:-PT180M
ACTION:DISPLAY
DESCRIPTION:Reminder
END:VALARM
END:VEVENT
BEGIN:VEVENT
DTSTART:2013-05-22T01:00:00Z
DTEND:2013-05-22T03:30:00Z
LOCATION:MM6: Marymoor, Field 6
CATEGORIES:Softball,Scared Hit-Less,BB/SAA
UID:40F0264984CF1D4EB45044C1BA85545F:
DTSTAMP:2026-04-21T10:44:16Z:
SUMMARY:Crossfit Bellevue at Scared Hit-Less
DESCRIPTION;ENCODING=QUOTED-PRINTABLE:Crossfit Bellevue at Scared Hit-Less=0D=0A Time: 6:00 PM=0D=0A Location: Marymoor, Field 6
CLASS:PUBLIC
PRIORITY:5
BEGIN:VALARM
TRIGGER:-PT180M
ACTION:DISPLAY
DESCRIPTION:Reminder
END:VALARM
END:VEVENT
BEGIN:VEVENT
DTSTART:2013-05-29T03:30:00Z
DTEND:2013-05-29T06:00:00Z
LOCATION:HV1: Hidden Valley, Field 1
CATEGORIES:Softball,Scared Hit-Less,BB/SAA
UID:7080D9EE2C4EFD4C87FA38A5CDD8A047:
DTSTAMP:2026-04-21T10:44:16Z:
SUMMARY:Scared Hit-Less at The Jagerbombers
DESCRIPTION;ENCODING=QUOTED-PRINTABLE:Scared Hit-Less at The Jagerbombers=0D=0A Time: 8:30 PM=0D=0A Location: Hidden Valley, Field 1
CLASS:PUBLIC
PRIORITY:5
BEGIN:VALARM
TRIGGER:-PT330M
ACTION:DISPLAY
DESCRIPTION:Reminder
END:VALARM
END:VEVENT
BEGIN:VEVENT
DTSTART:2013-06-11T01:00:00Z
DTEND:2013-06-11T03:30:00Z
LOCATION:MM6: Marymoor, Field 6
CATEGORIES:Softball,Scared Hit-Less,BB/SAA
UID:D37D89A12DCD646AF9A826B301419:
DTSTAMP:2026-04-21T10:44:16Z:
SUMMARY:Crossfit Bellevue at Scared Hit-Less
DESCRIPTION;ENCODING=QUOTED-PRINTABLE:Crossfit Bellevue at Scared Hit-Less=0D=0A Time: 6:00 PM=0D=0A Location: Marymoor, Field 6
CLASS:PUBLIC
PRIORITY:5
BEGIN:VALARM
TRIGGER:-PT180M
ACTION:DISPLAY
DESCRIPTION:Reminder
END:VALARM
END:VEVENT
BEGIN:VEVENT
DTSTART:2013-06-19T01:00:00Z
DTEND:2013-06-19T03:30:00Z
LOCATION:HV1: Hidden Valley, Field 1
CATEGORIES:Softball,Scared Hit-Less,BB/SAA
UID:EE4871582EBC48B8B2A586D27848:
DTSTAMP:2026-04-21T10:44:16Z:
SUMMARY:Scared Hit-Less at The Jagerbombers
DESCRIPTION;ENCODING=QUOTED-PRINTABLE:Scared Hit-Less at The Jagerbombers=0D=0A Time: 6:00 PM=0D=0A Location: Hidden Valley, Field 1
CLASS:PUBLIC
PRIORITY:5
BEGIN:VALARM
TRIGGER:-PT180M
ACTION:DISPLAY
DESCRIPTION:Reminder
END:VALARM
END:VEVENT
END:VCALENDAR
