BEGIN:VCALENDAR
PRODID:-//Microsoft Corporation//Outlook 11.0 MIMEDIR//EN
VERSION:2.0
METHOD:PUBLISH
BEGIN:VEVENT
DTSTART:2013-04-06T04:00:00Z
DTEND:2013-04-06T06:30:00Z
LOCATION:HV1: Hidden Valley, Field 1
CATEGORIES:Softball,Rally Killers,BB/SAA
UID:C3D984134FE9D1499C5A7E9DF860F7F3:
DTSTAMP:2026-04-21T07:06:25Z:
SUMMARY:Rally Killers at Carpet To Go - Sunday
DESCRIPTION;ENCODING=QUOTED-PRINTABLE:Rally Killers at Carpet To Go - Sunday=0D=0A Time: 9:00 AM=0D=0A Location: Hidden Valley, Field 1
CLASS:PUBLIC
PRIORITY:5
BEGIN:VALARM
TRIGGER:-PT1080M
ACTION:DISPLAY
DESCRIPTION:Reminder
END:VALARM
END:VEVENT
BEGIN:VEVENT
DTSTART:2013-04-14T06:30:00Z
DTEND:2013-04-14T09:00:00Z
LOCATION:HV1: Hidden Valley, Field 1
CATEGORIES:Softball,Rally Killers,BB/SAA
UID:BB9913746B6FD94899E980D19C71B444:
DTSTAMP:2026-04-21T07:06:25Z:
SUMMARY:Rally Killers at Gap Pounders
DESCRIPTION;ENCODING=QUOTED-PRINTABLE:Rally Killers at Gap Pounders=0D=0A Time: 11:30 AM=0D=0A Location: Hidden Valley, Field 1
CLASS:PUBLIC
PRIORITY:5
BEGIN:VALARM
TRIGGER:-PT2670M
ACTION:DISPLAY
DESCRIPTION:Reminder
END:VALARM
END:VEVENT
BEGIN:VEVENT
DTSTART:2013-04-21T06:30:00Z
DTEND:2013-04-21T09:00:00Z
LOCATION:HV1: Hidden Valley, Field 1
CATEGORIES:Softball,Rally Killers,BB/SAA
UID:49DAB2238DDA2447B03028E477B936D:
DTSTAMP:2026-04-21T07:06:25Z:
SUMMARY:Sea Drunks at Rally Killers
DESCRIPTION;ENCODING=QUOTED-PRINTABLE:Sea Drunks at Rally Killers=0D=0A Time: 11:30 AM=0D=0A Location: Hidden Valley, Field 1
CLASS:PUBLIC
PRIORITY:5
BEGIN:VALARM
TRIGGER:-PT2670M
ACTION:DISPLAY
DESCRIPTION:Reminder
END:VALARM
END:VEVENT
BEGIN:VEVENT
DTSTART:2013-04-28T06:30:00Z
DTEND:2013-04-28T09:00:00Z
LOCATION:HV1: Hidden Valley, Field 1
CATEGORIES:Softball,Rally Killers,BB/SAA
UID:1A4839B5CE7B204C9A318C20445DD85C:
DTSTAMP:2026-04-21T07:06:25Z:
SUMMARY:The Fog at Rally Killers
DESCRIPTION;ENCODING=QUOTED-PRINTABLE:The Fog at Rally Killers=0D=0A Time: 11:30 AM=0D=0A Location: Hidden Valley, Field 1
CLASS:PUBLIC
PRIORITY:5
BEGIN:VALARM
TRIGGER:-PT2670M
ACTION:DISPLAY
DESCRIPTION:Reminder
END:VALARM
END:VEVENT
BEGIN:VEVENT
DTSTART:2013-05-05T04:00:00Z
DTEND:2013-05-05T06:30:00Z
LOCATION:HV1: Hidden Valley, Field 1
CATEGORIES:Softball,Rally Killers,BB/SAA
UID:89382314A216040ACB5463CE71314E7:
DTSTAMP:2026-04-21T07:06:25Z:
SUMMARY:Rally Killers at TenSpots
DESCRIPTION;ENCODING=QUOTED-PRINTABLE:Rally Killers at TenSpots=0D=0A Time: 9:00 AM=0D=0A Location: Hidden Valley, Field 1
CLASS:PUBLIC
PRIORITY:5
BEGIN:VALARM
TRIGGER:-PT2520M
ACTION:DISPLAY
DESCRIPTION:Reminder
END:VALARM
END:VEVENT
BEGIN:VEVENT
DTSTART:2013-05-20T01:00:00Z
DTEND:2013-05-20T03:30:00Z
LOCATION:HV1: Hidden Valley, Field 1
CATEGORIES:Softball,Rally Killers,BB/SAA
UID:FCCD103FC7202545828E918CC6FFF313:
DTSTAMP:2026-04-21T07:06:25Z:
SUMMARY:Rally Killers at Carpet To Go - Sunday
DESCRIPTION;ENCODING=QUOTED-PRINTABLE:Rally Killers at Carpet To Go - Sunday=0D=0A Time: 6:00 PM=0D=0A Location: Hidden Valley, Field 1
CLASS:PUBLIC
PRIORITY:5
BEGIN:VALARM
TRIGGER:-PT3060M
ACTION:DISPLAY
DESCRIPTION:Reminder
END:VALARM
END:VEVENT
BEGIN:VEVENT
DTSTART:2013-06-02T10:30:00Z
DTEND:2013-06-03T01:00:00Z
LOCATION:HV1: Hidden Valley, Field 1
CATEGORIES:Softball,Rally Killers,BB/SAA
UID:42D17429FA5C64EBD58A3131A8963E0:
DTSTAMP:2026-04-21T07:06:25Z:
SUMMARY:Gap Pounders at Rally Killers
DESCRIPTION;ENCODING=QUOTED-PRINTABLE:Gap Pounders at Rally Killers=0D=0A Time: 3:30 PM=0D=0A Location: Hidden Valley, Field 1
CLASS:PUBLIC
PRIORITY:5
BEGIN:VALARM
TRIGGER:-PT2910M
ACTION:DISPLAY
DESCRIPTION:Reminder
END:VALARM
END:VEVENT
BEGIN:VEVENT
DTSTART:2013-06-09T10:30:00Z
DTEND:2013-06-10T01:00:00Z
LOCATION:HV1: Hidden Valley, Field 1
CATEGORIES:Softball,Rally Killers,BB/SAA
UID:BF538F8AB21EEA4684FB6F061FD41D0:
DTSTAMP:2026-04-21T07:06:25Z:
SUMMARY:Sea Drunks at Rally Killers
DESCRIPTION;ENCODING=QUOTED-PRINTABLE:Sea Drunks at Rally Killers=0D=0A Time: 3:30 PM=0D=0A Location: Hidden Valley, Field 1
CLASS:PUBLIC
PRIORITY:5
BEGIN:VALARM
TRIGGER:-PT2910M
ACTION:DISPLAY
DESCRIPTION:Reminder
END:VALARM
END:VEVENT
BEGIN:VEVENT
DTSTART:2013-06-17T01:00:00Z
DTEND:2013-06-17T03:30:00Z
LOCATION:SAM2: Sammamish High School, Field 2
CATEGORIES:Softball,Rally Killers,BB/SAA
UID:FDCB67E1C68AAF4CBB7AF8C98245B73D:
DTSTAMP:2026-04-21T07:06:25Z:
SUMMARY:Rally Killers at Carpet To Go - Sunday
DESCRIPTION;ENCODING=QUOTED-PRINTABLE:Rally Killers at Carpet To Go - Sunday=0D=0A Time: 6:00 PM=0D=0A Location: Sammamish High School, Field 2
CLASS:PUBLIC
PRIORITY:5
BEGIN:VALARM
TRIGGER:-PT3060M
ACTION:DISPLAY
DESCRIPTION:Reminder
END:VALARM
END:VEVENT
BEGIN:VEVENT
DTSTART:2013-06-23T10:30:00Z
DTEND:2013-06-24T01:00:00Z
LOCATION:SAM2: Sammamish High School, Field 2
CATEGORIES:Softball,Rally Killers,BB/SAA
UID:BB7012AFE22D4246BE3D29689333E82:
DTSTAMP:2026-04-21T07:06:25Z:
SUMMARY:Sea Drunks at Rally Killers
DESCRIPTION;ENCODING=QUOTED-PRINTABLE:Sea Drunks at Rally Killers=0D=0A Time: 3:30 PM=0D=0A Location: Sammamish High School, Field 2
CLASS:PUBLIC
PRIORITY:5
BEGIN:VALARM
TRIGGER:-PT2910M
ACTION:DISPLAY
DESCRIPTION:Reminder
END:VALARM
END:VEVENT
BEGIN:VEVENT
DTSTART:2013-06-24T01:00:00Z
DTEND:2013-06-24T03:30:00Z
LOCATION:SAM2: Sammamish High School, Field 2
CATEGORIES:Softball,Rally Killers,BB/SAA
UID:B340B863384EBE41A4493F88BC6CE12D:
DTSTAMP:2026-04-21T07:06:25Z:
SUMMARY:Rally Killers at Gap Pounders
DESCRIPTION;ENCODING=QUOTED-PRINTABLE:Rally Killers at Gap Pounders=0D=0A Time: 6:00 PM=0D=0A Location: Sammamish High School, Field 2
CLASS:PUBLIC
PRIORITY:5
BEGIN:VALARM
TRIGGER:-PT3060M
ACTION:DISPLAY
DESCRIPTION:Reminder
END:VALARM
END:VEVENT
END:VCALENDAR
