BEGIN:VCALENDAR
PRODID:-//Microsoft Corporation//Outlook 11.0 MIMEDIR//EN
VERSION:2.0
METHOD:PUBLISH
BEGIN:VEVENT
DTSTART:2013-04-09T03:30:00Z
DTEND:2013-04-09T06:00:00Z
LOCATION:MM6: Marymoor, Field 6
CATEGORIES:Softball,Pirates,BB/SAA
UID:F6423CA0A9B3CB48B187C1C02D10345C:
DTSTAMP:2026-04-21T06:59:29Z:
SUMMARY:Pirates at DinoMo's
DESCRIPTION;ENCODING=QUOTED-PRINTABLE:Pirates at DinoMo's=0D=0A Time: 8:30 PM=0D=0A Location: Marymoor, Field 6
CLASS:PUBLIC
PRIORITY:5
BEGIN:VALARM
TRIGGER:-PT330M
ACTION:DISPLAY
DESCRIPTION:Reminder
END:VALARM
END:VEVENT
BEGIN:VEVENT
DTSTART:2013-04-16T03:30:00Z
DTEND:2013-04-16T06:00:00Z
LOCATION:MM6: Marymoor, Field 6
CATEGORIES:Softball,Pirates,BB/SAA
UID:75D63F3AFB71324CA58115EEB3719763:
DTSTAMP:2026-04-21T06:59:29Z:
SUMMARY:MNF club at Pirates
DESCRIPTION;ENCODING=QUOTED-PRINTABLE:MNF club at Pirates=0D=0A Time: 8:30 PM=0D=0A Location: Marymoor, Field 6
CLASS:PUBLIC
PRIORITY:5
BEGIN:VALARM
TRIGGER:-PT330M
ACTION:DISPLAY
DESCRIPTION:Reminder
END:VALARM
END:VEVENT
BEGIN:VEVENT
DTSTART:2013-04-23T03:30:00Z
DTEND:2013-04-23T06:00:00Z
LOCATION:HV1: Hidden Valley, Field 1
CATEGORIES:Softball,Pirates,BB/SAA
UID:146D334FBCC15646AC8CCEE2CBE3BBE5:
DTSTAMP:2026-04-21T06:59:29Z:
SUMMARY:Pirates at Brookshire Homes
DESCRIPTION;ENCODING=QUOTED-PRINTABLE:Pirates at Brookshire Homes=0D=0A Time: 8:30 PM=0D=0A Location: Hidden Valley, Field 1
CLASS:PUBLIC
PRIORITY:5
BEGIN:VALARM
TRIGGER:-PT330M
ACTION:DISPLAY
DESCRIPTION:Reminder
END:VALARM
END:VEVENT
BEGIN:VEVENT
DTSTART:2013-04-30T01:00:00Z
DTEND:2013-04-30T03:30:00Z
LOCATION:HV1: Hidden Valley, Field 1
CATEGORIES:Softball,Pirates,BB/SAA
UID:5AAFA3B896E01D409F2387EC352A2610:
DTSTAMP:2026-04-21T06:59:29Z:
SUMMARY:Triple Play at Pirates
DESCRIPTION;ENCODING=QUOTED-PRINTABLE:Triple Play at Pirates=0D=0A Time: 6:00 PM=0D=0A Location: Hidden Valley, Field 1
CLASS:PUBLIC
PRIORITY:5
BEGIN:VALARM
TRIGGER:-PT180M
ACTION:DISPLAY
DESCRIPTION:Reminder
END:VALARM
END:VEVENT
BEGIN:VEVENT
DTSTART:2013-05-07T01:00:00Z
DTEND:2013-05-07T03:30:00Z
LOCATION:HV1: Hidden Valley, Field 1
CATEGORIES:Softball,Pirates,BB/SAA
UID:956EE6211912649AF6FF1A647C4F0C5:
DTSTAMP:2026-04-21T06:59:29Z:
SUMMARY:Dreadsox at Pirates
DESCRIPTION;ENCODING=QUOTED-PRINTABLE:Dreadsox at Pirates=0D=0A Time: 6:00 PM=0D=0A Location: Hidden Valley, Field 1
CLASS:PUBLIC
PRIORITY:5
BEGIN:VALARM
TRIGGER:-PT180M
ACTION:DISPLAY
DESCRIPTION:Reminder
END:VALARM
END:VEVENT
BEGIN:VEVENT
DTSTART:2013-05-15T03:30:00Z
DTEND:2013-05-15T06:00:00Z
LOCATION:HV1: Hidden Valley, Field 1
CATEGORIES:Softball,Pirates,BB/SAA
UID:7E69C76114D34243B64822DE6AC75A7:
DTSTAMP:2026-04-21T06:59:29Z:
SUMMARY:Roundabouts at Pirates
DESCRIPTION;ENCODING=QUOTED-PRINTABLE:Roundabouts at Pirates=0D=0A Time: 8:30 PM=0D=0A Location: Hidden Valley, Field 1
CLASS:PUBLIC
PRIORITY:5
BEGIN:VALARM
TRIGGER:-PT330M
ACTION:DISPLAY
DESCRIPTION:Reminder
END:VALARM
END:VEVENT
BEGIN:VEVENT
DTSTART:2013-05-21T01:00:00Z
DTEND:2013-05-21T03:30:00Z
LOCATION:MM6: Marymoor, Field 6
CATEGORIES:Softball,Pirates,BB/SAA
UID:A0B28C314C7C584F9FE9E674C878F1A:
DTSTAMP:2026-04-21T06:59:29Z:
SUMMARY:Pirates at Fielder's Choice
DESCRIPTION;ENCODING=QUOTED-PRINTABLE:Pirates at Fielder's Choice=0D=0A Time: 6:00 PM=0D=0A Location: Marymoor, Field 6
CLASS:PUBLIC
PRIORITY:5
BEGIN:VALARM
TRIGGER:-PT180M
ACTION:DISPLAY
DESCRIPTION:Reminder
END:VALARM
END:VEVENT
BEGIN:VEVENT
DTSTART:2013-05-29T01:00:00Z
DTEND:2013-05-29T03:30:00Z
LOCATION:MM6: Marymoor, Field 6
CATEGORIES:Softball,Pirates,BB/SAA
UID:481AECF71AA624993BD59ED91ED81C3:
DTSTAMP:2026-04-21T06:59:29Z:
SUMMARY:Pirates at DinoMo's
DESCRIPTION;ENCODING=QUOTED-PRINTABLE:Pirates at DinoMo's=0D=0A Time: 6:00 PM=0D=0A Location: Marymoor, Field 6
CLASS:PUBLIC
PRIORITY:5
BEGIN:VALARM
TRIGGER:-PT180M
ACTION:DISPLAY
DESCRIPTION:Reminder
END:VALARM
END:VEVENT
BEGIN:VEVENT
DTSTART:2013-06-04T01:00:00Z
DTEND:2013-06-04T03:30:00Z
LOCATION:MM7: Marymoor, Field 7
CATEGORIES:Softball,Pirates,BB/SAA
UID:657D7FE21E19E4E906DA97249C9EA4:
DTSTAMP:2026-04-21T06:59:29Z:
SUMMARY:Pirates at DinoMo's
DESCRIPTION;ENCODING=QUOTED-PRINTABLE:Pirates at DinoMo's=0D=0A Time: 6:00 PM=0D=0A Location: Marymoor, Field 7
CLASS:PUBLIC
PRIORITY:5
BEGIN:VALARM
TRIGGER:-PT180M
ACTION:DISPLAY
DESCRIPTION:Reminder
END:VALARM
END:VEVENT
BEGIN:VEVENT
DTSTART:2013-06-11T01:00:00Z
DTEND:2013-06-11T03:30:00Z
LOCATION:SAM1: Sammamish High School, Field 1
CATEGORIES:Softball,Pirates,BB/SAA
UID:22161BFA901020469A8A1EE79AD443C1:
DTSTAMP:2026-04-21T06:59:29Z:
SUMMARY:MNF club at Pirates
DESCRIPTION;ENCODING=QUOTED-PRINTABLE:MNF club at Pirates=0D=0A Time: 6:00 PM=0D=0A Location: Sammamish High School, Field 1
CLASS:PUBLIC
PRIORITY:5
BEGIN:VALARM
TRIGGER:-PT180M
ACTION:DISPLAY
DESCRIPTION:Reminder
END:VALARM
END:VEVENT
END:VCALENDAR
