BEGIN:VCALENDAR
PRODID:-//Microsoft Corporation//Outlook 11.0 MIMEDIR//EN
VERSION:2.0
METHOD:PUBLISH
BEGIN:VEVENT
DTSTART:2013-04-09T03:30:00Z
DTEND:2013-04-09T06:00:00Z
LOCATION:HV1: Hidden Valley, Field 1
CATEGORIES:Softball,MNF club,BB/SAA
UID:21BC66C5BA15224BB735F5AAE3B4277E:
DTSTAMP:2026-04-23T10:15:45Z:
SUMMARY:Brookshire Homes at MNF club
DESCRIPTION;ENCODING=QUOTED-PRINTABLE:Brookshire Homes at MNF club=0D=0A Time: 8:30 PM=0D=0A Location: Hidden Valley, Field 1
CLASS:PUBLIC
PRIORITY:5
BEGIN:VALARM
TRIGGER:-PT330M
ACTION:DISPLAY
DESCRIPTION:Reminder
END:VALARM
END:VEVENT
BEGIN:VEVENT
DTSTART:2013-04-16T03:30:00Z
DTEND:2013-04-16T06:00:00Z
LOCATION:MM6: Marymoor, Field 6
CATEGORIES:Softball,MNF club,BB/SAA
UID:6DAC609312DE1741A669DA5F68CD4B8C:
DTSTAMP:2026-04-23T10:15:45Z:
SUMMARY:MNF club at Pirates
DESCRIPTION;ENCODING=QUOTED-PRINTABLE:MNF club at Pirates=0D=0A Time: 8:30 PM=0D=0A Location: Marymoor, Field 6
CLASS:PUBLIC
PRIORITY:5
BEGIN:VALARM
TRIGGER:-PT330M
ACTION:DISPLAY
DESCRIPTION:Reminder
END:VALARM
END:VEVENT
BEGIN:VEVENT
DTSTART:2013-04-24T01:00:00Z
DTEND:2013-04-24T03:30:00Z
LOCATION:MM6: Marymoor, Field 6
CATEGORIES:Softball,MNF club,BB/SAA
UID:5D3B7CDAA9B12D4C977962BB2C21414E:
DTSTAMP:2026-04-23T10:15:45Z:
SUMMARY:Triple Play at MNF club
DESCRIPTION;ENCODING=QUOTED-PRINTABLE:Triple Play at MNF club=0D=0A Time: 6:00 PM=0D=0A Location: Marymoor, Field 6
CLASS:PUBLIC
PRIORITY:5
BEGIN:VALARM
TRIGGER:-PT180M
ACTION:DISPLAY
DESCRIPTION:Reminder
END:VALARM
END:VEVENT
BEGIN:VEVENT
DTSTART:2013-04-30T01:00:00Z
DTEND:2013-04-30T03:30:00Z
LOCATION:MM7: Marymoor, Field 7
CATEGORIES:Softball,MNF club,BB/SAA
UID:ACB2AB2C32A9474DA49B701A9F1AD178:
DTSTAMP:2026-04-23T10:15:45Z:
SUMMARY:Dreadsox at MNF club
DESCRIPTION;ENCODING=QUOTED-PRINTABLE:Dreadsox at MNF club=0D=0A Time: 6:00 PM=0D=0A Location: Marymoor, Field 7
CLASS:PUBLIC
PRIORITY:5
BEGIN:VALARM
TRIGGER:-PT180M
ACTION:DISPLAY
DESCRIPTION:Reminder
END:VALARM
END:VEVENT
BEGIN:VEVENT
DTSTART:2013-05-07T03:30:00Z
DTEND:2013-05-07T06:00:00Z
LOCATION:MM6: Marymoor, Field 6
CATEGORIES:Softball,MNF club,BB/SAA
UID:55186D044D9324B96B24C1DD2A333C5:
DTSTAMP:2026-04-23T10:15:45Z:
SUMMARY:MNF club at Roundabouts
DESCRIPTION;ENCODING=QUOTED-PRINTABLE:MNF club at Roundabouts=0D=0A Time: 8:30 PM=0D=0A Location: Marymoor, Field 6
CLASS:PUBLIC
PRIORITY:5
BEGIN:VALARM
TRIGGER:-PT330M
ACTION:DISPLAY
DESCRIPTION:Reminder
END:VALARM
END:VEVENT
BEGIN:VEVENT
DTSTART:2013-05-14T01:00:00Z
DTEND:2013-05-14T03:30:00Z
LOCATION:HV1: Hidden Valley, Field 1
CATEGORIES:Softball,MNF club,BB/SAA
UID:E7D3C46C74E23489CB04263555CCCA0:
DTSTAMP:2026-04-23T10:15:45Z:
SUMMARY:MNF club at Fielder's Choice
DESCRIPTION;ENCODING=QUOTED-PRINTABLE:MNF club at Fielder's Choice=0D=0A Time: 6:00 PM=0D=0A Location: Hidden Valley, Field 1
CLASS:PUBLIC
PRIORITY:5
BEGIN:VALARM
TRIGGER:-PT180M
ACTION:DISPLAY
DESCRIPTION:Reminder
END:VALARM
END:VEVENT
BEGIN:VEVENT
DTSTART:2013-05-21T03:30:00Z
DTEND:2013-05-21T06:00:00Z
LOCATION:MM6: Marymoor, Field 6
CATEGORIES:Softball,MNF club,BB/SAA
UID:22311D5FC17ADA40998E10402D25353E:
DTSTAMP:2026-04-23T10:15:45Z:
SUMMARY:MNF club at DinoMo's
DESCRIPTION;ENCODING=QUOTED-PRINTABLE:MNF club at DinoMo's=0D=0A Time: 8:30 PM=0D=0A Location: Marymoor, Field 6
CLASS:PUBLIC
PRIORITY:5
BEGIN:VALARM
TRIGGER:-PT330M
ACTION:DISPLAY
DESCRIPTION:Reminder
END:VALARM
END:VEVENT
BEGIN:VEVENT
DTSTART:2013-05-29T03:30:00Z
DTEND:2013-05-29T06:00:00Z
LOCATION:MM6: Marymoor, Field 6
CATEGORIES:Softball,MNF club,BB/SAA
UID:679DEB5C98A4C245B75435AFAD2AAA65:
DTSTAMP:2026-04-23T10:15:45Z:
SUMMARY:Brookshire Homes at MNF club
DESCRIPTION;ENCODING=QUOTED-PRINTABLE:Brookshire Homes at MNF club=0D=0A Time: 8:30 PM=0D=0A Location: Marymoor, Field 6
CLASS:PUBLIC
PRIORITY:5
BEGIN:VALARM
TRIGGER:-PT330M
ACTION:DISPLAY
DESCRIPTION:Reminder
END:VALARM
END:VEVENT
BEGIN:VEVENT
DTSTART:2013-06-04T01:00:00Z
DTEND:2013-06-04T03:30:00Z
LOCATION:MM6: Marymoor, Field 6
CATEGORIES:Softball,MNF club,BB/SAA
UID:CF9CB5D745C5740B013AB501AAD5182:
DTSTAMP:2026-04-23T10:15:45Z:
SUMMARY:Brookshire Homes at MNF club
DESCRIPTION;ENCODING=QUOTED-PRINTABLE:Brookshire Homes at MNF club=0D=0A Time: 6:00 PM=0D=0A Location: Marymoor, Field 6
CLASS:PUBLIC
PRIORITY:5
BEGIN:VALARM
TRIGGER:-PT180M
ACTION:DISPLAY
DESCRIPTION:Reminder
END:VALARM
END:VEVENT
BEGIN:VEVENT
DTSTART:2013-06-11T01:00:00Z
DTEND:2013-06-11T03:30:00Z
LOCATION:SAM1: Sammamish High School, Field 1
CATEGORIES:Softball,MNF club,BB/SAA
UID:678A78B83EF8146B289AC354BAB79F:
DTSTAMP:2026-04-23T10:15:45Z:
SUMMARY:MNF club at Pirates
DESCRIPTION;ENCODING=QUOTED-PRINTABLE:MNF club at Pirates=0D=0A Time: 6:00 PM=0D=0A Location: Sammamish High School, Field 1
CLASS:PUBLIC
PRIORITY:5
BEGIN:VALARM
TRIGGER:-PT180M
ACTION:DISPLAY
DESCRIPTION:Reminder
END:VALARM
END:VEVENT
BEGIN:VEVENT
DTSTART:2013-06-18T03:30:00Z
DTEND:2013-06-18T06:00:00Z
LOCATION:HV1: Hidden Valley, Field 1
CATEGORIES:Softball,MNF club,BB/SAA
UID:4B4AAF195B6E4546B43A67C4DFB02C13:
DTSTAMP:2026-04-23T10:15:45Z:
SUMMARY:Dreadsox at MNF club
DESCRIPTION;ENCODING=QUOTED-PRINTABLE:Dreadsox at MNF club=0D=0A Time: 8:30 PM=0D=0A Location: Hidden Valley, Field 1
CLASS:PUBLIC
PRIORITY:5
BEGIN:VALARM
TRIGGER:-PT330M
ACTION:DISPLAY
DESCRIPTION:Reminder
END:VALARM
END:VEVENT
END:VCALENDAR
